{"text_format":"1","workbook":"xlsx","n_sheets":9,"sheets":["調査票","加算の取得状況","集計アシストシート","検算シート","経営指標の計算式","提出方法","設問解説","集計シート","会員名簿"],"not_rendered":{"charts":0,"images":0,"macros":1,"external_links":0,"defined_names":5,"comments":0,"pivot_tables":0},"unopened":[],"bounds":{"document_bytes":16777216,"sheet_cells":100000,"rows_first":2000,"rows_last":500,"rows_between":2000,"halvings":0,"cell_chars":16384,"cell_head_chars":4096},"cells_cut":0,"cells_raw":0,"read":"whole","date_system":"1900"}

{"sheet":"調査票","index":0,"n_rows":772,"n_cols":44,"rows_kept":772,"cut":false,"hidden":false,"merged":[[21,2,21,19],[372,34,372,35],[372,36,372,37],[372,38,372,39],[364,24,365,26],[364,27,364,32],[71,19,71,20],[71,17,71,18],[71,8,71,9],[71,6,71,7],[71,3,71,4],[71,1,71,2],[160,16,160,18],[203,17,203,19],[27,6,27,15],[35,3,36,19],[31,2,31,19],[274,0,274,5],[208,0,209,0],[340,0,340,8],[346,1,346,6],[344,7,344,8],[344,1,344,6],[346,7,346,8],[97,0,97,5],[113,8,113,9],[184,8,184,15],[247,3,247,13],[248,3,248,13],[249,1,252,2],[249,3,249,13],[186,8,186,15],[372,42,372,43],[373,25,373,27],[374,25,374,27],[375,25,375,27],[376,25,376,27],[377,25,377,27],[378,25,378,27],[379,25,379,27],[380,24,387,24],[380,25,380,27],[380,28,380,29],[380,30,380,31],[380,32,380,33],[380,34,380,35],[380,36,380,37],[380,38,380,39],[380,40,380,41],[380,42,380,43],[381,25,381,27],[382,25,382,27],[383,25,383,27],[384,25,384,27],[385,25,385,27],[386,25,386,27],[387,25,387,27],[372,24,379,24],[372,25,372,27],[372,28,372,29],[372,30,372,31],[372,32,372,33],[322,42,322,43],[323,25,323,27],[324,25,324,27],[325,25,325,27],[326,25,326,27],[327,25,327,27],[328,25,328,27],[329,25,329,27],[330,24,337,24],[330,25,330,27],[330,28,330,29],[330,30,330,31],[330,32,330,33],[330,34,330,35],[330,36,330,37],[330,38,330,39],[330,40,330,41],[330,42,330,43],[331,25,331,27],[332,25,332,27],[333,25,333,27],[334,25,334,27],[335,25,335,27],[336,25,336,27],[337,25,337,27],[305,42,305,43],[306,25,306,27],[307,25,307,27],[308,25,308,27],[309,25,309,27],[310,25,310,27],[311,25,311,27],[312,25,312,27],[313,24,320,24],[313,25,313,27],[313,28,313,29],[313,30,313,31],[313,32,313,33],[313,34,313,35],[313,36,313,37],[313,38,313,39],[313,40,313,41],[313,42,313,43],[314,25,314,27],[315,25,315,27],[316,25,316,27],[317,25,317,27],[318,25,318,27],[305,38,305,39],[305,40,305,41],[322,23,337,23],[322,24,329,24],[322,25,322,27],[322,28,322,29],[322,30,322,31],[322,32,322,33],[322,34,322,35],[322,36,322,37],[322,38,322,39],[322,40,322,41],[319,25,319,27],[320,25,320,27],[380,13,380,14],[380,15,380,16],[427,11,427,14],[364,33,364,38],[348,0,348,13],[350,1,350,9],[352,1,352,2],[406,8,406,10],[405,8,405,10],[372,40,372,41],[354,23,354,31],[357,24,358,43],[359,24,360,43],[365,27,365,29],[365,30,365,32],[365,33,365,35],[365,36,365,38],[366,24,366,26],[690,20,690,21],[606,17,619,17],[606,18,606,21],[607,18,607,20],[608,18,608,20],[609,18,609,20],[610,18,610,20],[612,18,612,20],[302,23,302,33],[305,23,320,23],[305,24,312,24],[305,25,305,27],[305,28,305,29],[305,30,305,31],[305,32,305,33],[305,34,305,35],[305,36,305,37],[366,27,366,28],[366,30,366,31],[366,33,366,34],[366,36,366,37],[367,24,367,26],[367,27,367,28],[367,30,367,31],[367,33,367,34],[367,36,367,37],[269,0,269,5],[268,0,268,5],[267,0,267,5],[266,0,266,5],[265,0,265,5],[162,16,162,18],[177,1,177,7],[181,8,181,15],[175,16,175,18],[176,1,176,7],[181,1,181,7],[272,12,272,13],[168,8,168,15],[172,1,172,7],[254,0,254,6],[208,16,208,18],[691,4,691,12],[691,13,691,19],[357,1,358,20],[372,1,379,1],[372,2,372,4],[372,5,372,6],[372,7,372,8],[372,9,372,10],[372,11,372,12],[372,13,372,14],[372,15,372,16],[372,17,372,18],[372,19,372,20],[373,2,373,4],[374,2,374,4],[375,2,375,4],[594,18,594,20],[595,18,595,20],[597,18,597,20],[598,18,598,21],[599,18,599,20],[600,18,600,20],[577,18,577,20],[578,18,578,20],[574,18,574,20],[272,10,272,11],[267,8,267,9],[270,8,270,9],[269,8,269,9],[273,8,273,9],[270,12,270,13],[271,8,271,9],[271,10,271,11],[529,18,529,20],[530,18,530,20],[532,18,532,20],[533,18,533,20],[535,18,535,20],[536,18,536,21],[537,18,537,20],[538,18,538,20],[555,18,555,20],[557,18,557,20],[558,18,558,21],[559,18,559,20],[553,18,553,21],[556,18,556,21],[613,18,613,20],[615,18,615,20],[616,18,616,21],[548,18,548,21],[549,18,549,20],[550,18,550,20],[551,18,551,20],[552,18,552,20],[554,18,554,20],[560,18,560,20],[566,18,566,21],[567,18,567,20],[568,18,568,20],[569,18,569,20],[570,18,570,20],[572,18,572,20],[573,18,573,20],[576,18,576,21],[0,20,1,21],[467,18,467,20],[468,18,468,20],[469,18,469,20],[470,18,470,20],[472,18,472,20],[473,18,473,20],[475,18,475,20],[476,18,476,21],[477,18,477,20],[478,18,478,20],[466,18,466,21],[43,7,43,21],[271,17,271,18],[270,17,270,18],[568,9,568,12],[568,13,568,15],[4,14,4,17],[3,11,3,13],[33,2,33,18],[69,11,69,14],[70,11,70,13],[70,6,70,8],[46,0,46,2],[45,0,45,2],[43,0,43,2],[69,6,69,9],[520,18,520,20],[526,17,539,17],[526,18,526,21],[527,18,527,20],[528,18,528,20],[486,17,499,17],[486,18,486,21],[487,18,487,20],[488,18,488,20],[489,18,489,20],[490,18,490,20],[492,18,492,20],[493,18,493,20],[495,18,495,20],[496,18,496,21],[497,18,497,20],[498,18,498,20],[161,16,161,18],[186,16,186,18],[185,16,185,18],[189,16,189,18],[457,4,457,20],[449,6,449,7],[232,2,232,19],[233,2,233,19],[237,1,238,2],[237,3,237,13],[238,3,238,13],[239,1,243,2],[239,3,239,13],[240,3,240,13],[241,3,241,13],[242,3,242,13],[243,3,243,13],[305,13,305,14],[288,6,288,11],[270,0,270,5],[125,15,125,17],[175,1,175,7],[508,17,521,17],[508,18,508,21],[509,18,509,20],[588,18,588,21],[449,8,449,9],[575,9,575,12],[575,13,575,15],[187,8,187,15],[155,0,155,13],[173,8,173,15],[185,1,185,7],[188,8,188,15],[203,1,203,16],[215,0,215,7],[218,1,222,1],[218,2,218,15],[219,2,219,16],[272,6,272,7],[273,6,273,7],[312,2,312,4],[280,2,280,19],[367,13,367,14],[393,10,393,11],[274,12,274,13],[266,12,267,13],[410,8,410,10],[380,17,380,18],[272,0,272,5],[271,0,271,5],[292,6,292,11],[717,11,717,19],[600,13,600,15],[601,0,601,3],[601,4,601,6],[612,13,612,15],[608,9,608,12],[618,4,618,6],[618,0,618,3],[617,13,617,15],[613,0,613,3],[613,4,613,6],[605,8,605,9],[615,9,615,12],[615,13,615,15],[605,3,605,4],[639,2,639,4],[640,2,640,4],[641,2,641,4],[627,7,627,8],[627,9,627,10],[636,2,636,4],[637,2,637,4],[638,2,638,4],[635,15,635,16],[635,17,635,18],[665,0,665,8],[609,13,609,15],[605,15,605,16],[606,0,606,7],[605,10,605,11],[717,2,717,10],[716,2,716,10],[619,0,619,3],[575,4,575,6],[406,5,406,7],[405,5,405,7],[419,0,419,5],[408,5,408,7],[407,5,407,7],[395,13,395,14],[713,2,713,10],[712,2,712,10],[712,11,712,19],[713,11,713,19],[612,9,612,12],[606,8,619,8],[606,9,606,16],[607,0,607,3],[607,4,607,6],[607,9,607,12],[607,13,607,15],[608,0,608,3],[608,4,608,6],[613,9,613,12],[613,13,613,15],[615,0,615,3],[615,4,615,6],[599,4,599,6],[599,9,599,12],[458,4,458,20],[590,18,590,20],[591,18,591,20],[592,18,592,20],[466,17,479,17],[716,11,716,19],[598,0,598,3],[598,4,598,7],[598,9,598,12],[598,13,598,16],[599,0,599,3],[603,1,603,4],[465,0,465,2],[465,3,465,4],[465,5,465,7],[465,8,465,9],[465,10,465,11],[465,12,465,14],[465,15,465,16],[413,2,415,20],[597,13,597,15],[600,9,600,12],[600,0,600,3],[600,4,600,6],[595,0,595,3],[595,4,595,6],[595,9,595,12],[595,13,595,15],[619,9,619,16],[610,0,610,3],[610,4,610,6],[610,9,610,12],[610,13,610,15],[612,4,612,6],[568,0,568,3],[592,9,592,12],[573,0,573,3],[409,12,409,14],[408,12,408,14],[407,12,407,14],[288,13,288,15],[292,13,292,15],[287,13,287,16],[290,13,290,15],[289,13,289,15],[274,8,274,9],[380,11,380,12],[287,6,287,11],[407,16,407,18],[408,16,408,18],[409,16,409,18],[305,17,305,18],[282,4,282,20],[306,2,306,4],[290,2,290,5],[289,2,289,5],[289,6,289,11],[380,19,380,20],[404,12,404,15],[290,6,290,11],[389,4,389,9],[389,10,389,15],[393,4,393,5],[274,6,274,7],[404,8,404,11],[404,16,404,19],[405,16,405,18],[406,16,406,18],[305,19,305,20],[123,1,123,6],[118,11,118,13],[183,16,183,18],[182,8,182,15],[174,16,174,18],[178,8,178,15],[575,0,575,3],[70,17,70,19],[70,1,70,3],[77,10,77,11],[138,7,138,9],[137,7,137,9],[136,7,136,9],[270,6,270,7],[404,1,404,4],[428,2,428,10],[395,7,395,8],[393,7,393,8],[395,4,395,5],[394,4,394,5],[453,1,453,4],[396,10,396,11],[396,13,396,14],[365,7,365,9],[164,8,164,15],[182,1,182,7],[140,1,140,6],[140,7,140,9],[140,11,140,14],[573,4,573,6],[269,12,269,13],[82,6,82,7],[82,8,82,9],[82,10,82,11],[268,15,268,16],[112,8,112,9],[113,1,113,7],[112,1,112,7],[104,13,104,15],[103,13,103,15],[183,1,183,7],[102,13,102,15],[101,13,101,15],[104,1,104,12],[103,1,103,12],[102,1,102,12],[101,1,101,12],[100,1,100,21],[106,0,106,4],[186,1,186,7],[268,12,268,13],[108,11,108,12],[109,11,109,12],[250,3,250,13],[251,3,251,13],[252,3,252,13],[222,2,222,15],[224,14,224,15],[226,0,226,5],[229,1,233,1],[229,2,229,19],[230,2,230,19],[231,2,231,19],[87,10,87,12],[77,4,77,5],[77,1,77,3],[83,6,83,7],[88,16,88,18],[88,13,88,15],[2,0,2,21],[461,4,461,20],[460,4,460,20],[459,4,459,20],[446,2,446,5],[368,4,368,5],[368,7,368,8],[368,10,368,11],[368,13,368,14],[443,1,443,4],[445,2,445,20],[184,16,184,18],[181,16,181,18],[446,8,446,9],[136,11,136,14],[135,11,135,14],[66,1,67,19],[393,1,393,3],[77,8,77,9],[77,14,77,16],[75,0,75,3],[396,4,396,5],[396,7,396,8],[201,1,202,15],[201,16,201,19],[202,16,202,19],[32,2,32,18],[137,11,137,14],[161,1,161,7],[409,5,409,7],[266,6,266,7],[185,8,185,15],[577,4,577,6],[577,9,577,12],[577,13,577,15],[591,9,591,12],[591,13,591,15],[587,15,587,16],[588,0,588,7],[587,0,587,2],[587,3,587,4],[587,5,587,7],[587,8,587,9],[587,10,587,11],[591,4,591,6],[579,9,579,16],[585,1,585,7],[578,9,578,12],[578,13,578,15],[587,12,587,14],[591,0,591,3],[590,9,590,12],[590,13,590,15],[179,16,179,18],[178,16,178,18],[365,4,365,6],[567,4,567,6],[567,9,567,12],[567,13,567,15],[87,4,87,6],[608,13,608,15],[609,0,609,3],[609,4,609,6],[609,9,609,12],[618,9,618,12],[618,13,618,15],[572,9,572,12],[619,4,619,6],[616,0,616,3],[616,4,616,7],[616,9,616,12],[616,13,616,16],[617,0,617,3],[617,4,617,6],[617,9,617,12],[588,8,601,8],[588,9,588,16],[589,0,589,3],[589,4,589,6],[589,9,589,12],[589,13,589,15],[590,0,590,3],[590,4,590,6],[601,9,601,16],[594,0,594,3],[594,4,594,6],[594,9,594,12],[605,5,605,7],[597,0,597,3],[605,0,605,2],[612,0,612,3],[579,0,579,3],[579,4,579,6],[576,0,576,3],[592,13,592,15],[568,4,568,6],[578,0,578,3],[578,4,578,6],[576,4,576,7],[576,9,576,12],[577,0,577,3],[599,13,599,15],[573,9,573,12],[573,13,573,15],[221,2,221,15],[246,3,246,13],[192,0,192,15],[209,1,209,7],[208,1,208,7],[265,15,266,18],[267,17,267,18],[268,17,268,18],[273,15,273,16],[272,15,272,16],[271,15,271,16],[270,15,270,16],[269,15,269,16],[597,4,597,6],[597,9,597,12],[594,13,594,15],[592,0,592,3],[592,4,592,6],[572,13,572,15],[569,0,569,3],[569,4,569,6],[569,9,569,12],[569,13,569,15],[565,15,565,16],[566,0,566,7],[566,8,579,8],[566,9,566,16],[567,0,567,3],[188,1,188,7],[136,1,136,6],[139,11,139,14],[138,11,138,14],[184,1,184,7],[150,7,150,9],[169,8,169,15],[170,1,170,7],[273,0,273,5],[201,0,203,0],[195,0,196,0],[260,1,260,20],[268,8,268,9],[265,6,265,13],[163,8,163,15],[158,8,159,15],[158,1,159,7],[160,8,160,15],[166,8,166,15],[167,8,167,15],[163,16,163,18],[164,16,164,18],[412,5,412,7],[108,3,108,4],[169,16,169,18],[187,16,187,18],[126,7,126,9],[126,11,126,13],[124,1,124,6],[576,13,576,16],[220,2,220,15],[176,8,176,15],[267,10,267,11],[188,16,188,18],[195,9,195,11],[195,13,195,15],[195,17,195,19],[182,16,182,18],[273,10,273,11],[271,6,271,7],[271,12,271,13],[183,8,183,15],[269,6,269,7],[268,10,268,11],[268,6,268,7],[209,8,209,19],[212,2,212,20],[172,16,172,18],[171,16,171,18],[170,16,170,18],[177,16,177,18],[149,14,149,16],[149,18,149,20],[270,10,270,11],[267,6,267,7],[3,3,3,5],[132,1,133,20],[77,12,77,13],[82,12,82,13],[82,18,82,19],[20,2,20,20],[82,14,82,15],[83,1,83,3],[69,17,69,20],[78,12,78,13],[78,8,78,9],[78,14,78,16],[88,1,88,3],[123,11,123,13],[83,12,83,13],[83,14,83,15],[3,6,3,9],[3,14,3,17],[82,1,82,3],[78,10,78,11],[83,18,83,19],[126,15,126,17],[88,19,88,20],[82,4,82,5],[83,4,83,5],[124,7,124,9],[122,11,122,14],[78,1,78,3],[82,16,82,17],[124,11,124,13],[4,6,4,9],[54,0,54,2],[69,1,69,4],[130,0,130,6],[127,2,128,20],[43,3,43,6],[169,1,169,7],[80,0,80,7],[87,7,87,9],[77,6,77,7],[87,16,87,18],[87,13,87,15],[78,6,78,7],[78,4,78,5],[126,1,126,6],[125,11,125,13],[166,16,166,18],[4,11,4,13],[4,3,4,5],[46,10,47,21],[135,1,135,6],[134,1,134,6],[135,7,135,9],[139,1,139,6],[83,8,83,9],[134,11,134,14],[87,1,87,3],[122,7,122,10],[116,0,116,12],[123,7,123,9],[163,1,163,7],[85,0,85,5],[117,1,117,18],[149,10,149,12],[83,16,83,17],[174,8,174,15],[139,7,139,9],[167,1,167,7],[152,14,152,16],[152,18,152,20],[158,16,159,18],[187,1,187,7],[179,8,179,15],[180,8,180,15],[165,1,165,7],[164,1,164,7],[162,1,162,7],[165,16,165,18],[162,8,162,15],[244,1,248,2],[180,16,180,18],[151,18,151,20],[152,7,152,9],[168,16,168,18],[172,8,172,15],[95,16,95,17],[148,14,148,17],[167,16,167,18],[174,1,174,7],[148,18,148,21],[149,1,150,5],[149,7,149,9],[122,15,122,18],[123,15,123,17],[124,15,124,17],[161,8,161,15],[48,3,48,9],[266,8,266,11],[256,1,259,20],[61,9,61,10],[88,10,88,12],[88,7,88,9],[170,8,170,15],[23,2,23,20],[5,6,5,17],[5,3,5,5],[189,8,189,15],[177,8,177,15],[176,16,176,18],[166,1,166,7],[180,1,180,7],[179,1,179,7],[178,1,178,7],[196,9,196,11],[196,13,196,14],[196,15,196,19],[195,1,196,8],[244,3,244,13],[245,3,245,13],[189,1,189,7],[15,2,15,20],[13,2,13,20],[171,1,171,7],[171,8,171,15],[173,1,173,7],[261,1,262,20],[45,3,45,9],[46,3,46,9],[88,4,88,6],[165,8,165,15],[125,1,125,6],[122,1,122,6],[137,1,137,6],[50,0,50,2],[48,0,48,2],[14,2,14,20],[168,1,168,7],[160,1,160,7],[34,2,34,18],[30,2,30,18],[63,0,63,4],[173,16,173,18],[119,1,120,20],[175,8,175,15],[125,7,125,9],[54,3,54,9],[95,10,95,12],[95,13,95,15],[52,0,52,2],[57,0,57,2],[83,10,83,11],[60,1,60,3],[60,5,60,7],[60,9,60,11],[61,1,61,2],[61,5,61,6],[52,8,52,9],[50,4,50,5],[134,7,134,10],[29,2,29,18],[313,19,313,20],[322,2,322,4],[394,1,394,3],[322,5,322,6],[322,7,322,8],[395,10,395,11],[305,15,305,16],[368,1,368,3],[305,2,305,4],[409,8,409,10],[359,1,360,20],[369,7,369,8],[369,10,369,11],[369,13,369,14],[369,17,369,20],[272,8,272,9],[269,10,269,11],[313,15,313,16],[313,17,313,18],[314,2,314,4],[330,19,330,20],[391,7,391,8],[400,0,400,6],[406,12,406,14],[330,17,330,18],[364,10,364,15],[397,1,397,3],[392,4,392,5],[393,13,393,14],[397,7,397,8],[397,13,397,14],[392,10,392,11],[337,2,337,4],[305,0,320,0],[318,2,318,4],[319,2,319,4],[320,2,320,4],[322,9,322,10],[322,11,322,12],[322,13,322,14],[322,15,322,16],[366,7,366,8],[390,4,390,6],[390,7,390,9],[405,1,406,4],[367,10,367,11],[397,10,397,11],[404,5,404,7],[366,4,366,5],[366,1,366,3],[367,1,367,3],[397,4,397,5],[315,2,315,4],[309,2,309,4],[313,9,313,10],[311,2,311,4],[310,2,310,4],[376,2,376,4],[377,2,377,4],[378,2,378,4],[379,2,379,4],[380,1,387,1],[380,2,380,4],[380,5,380,6],[322,17,322,18],[394,7,394,8],[366,10,366,11],[366,13,366,14],[383,2,383,4],[392,13,392,14],[389,1,390,3],[391,4,391,5],[380,9,380,10],[327,2,327,4],[328,2,328,4],[391,1,391,3],[392,1,392,3],[365,13,365,15],[330,13,330,14],[330,15,330,16],[367,4,367,5],[367,7,367,8],[380,7,380,8],[381,2,381,4],[382,2,382,4],[384,2,384,4],[385,2,385,4],[386,2,386,4],[387,2,387,4],[354,0,354,8],[394,13,394,14],[391,10,391,11],[390,13,390,15],[334,2,334,4],[335,2,335,4],[336,2,336,4],[411,5,411,7],[451,14,451,15],[451,16,451,17],[466,0,466,7],[446,6,446,7],[494,9,494,12],[494,13,494,15],[507,5,507,7],[474,4,474,6],[474,9,474,12],[448,10,448,11],[448,12,448,13],[521,4,521,6],[518,4,518,7],[533,9,533,12]],"merged_total":1881,"flags":["merged_cut"]}
[null,null,null,null,null,null,null,null,null,null,null,null,null,null,null,null,null,null,null,null,{"$f":"D44","v":""}]
["相模原市高齢者福祉施設協議会"]
["「第3回 相模原市 特別養護老人ホーム実態調査」\n～施設基本項目調査票～"]
[null,null,null,"記入者名",null,null,null,null,null,null,null,"記入者役職"]
[null,null,null,"TEL",null,null,null,null,null,null,null,"FAX"]
[null,null,null,"E-mail※"]
[null,null,"※","調査票に不備等があった場合、確認のために連絡をする場合がございます。\nご回答いただくご担当者様と連絡が取れるアドレスをご記載ください。"]
[]
[null,null,"●","調査票および決算書の提出方法"]
[null,null,null,"「施設基本項目調査票（本調査票）」および「平成29年度決算書類」の提出方法については、各データを添付ファイルにして、sagamihara-tokuyo@kawahara-group.co.jpまで送信してください。\nまた、「平成29年度決算書類」を提出する際、PDFに変換したデータまたは、エクセル等のソフトで閲覧できるフォーマットでご提出ください。"]
[]
[]
[null,null,"Ⅰ.入力方法"]
[null,null,"①「調査票」シートには保護がかかっています。"]
[null,null,"②入力していただく必要のあるセルには、緑系統の着色がされています。\n   それ以外のセルには入力できません。"]
[null,null,"③入力すると、セルが白くなります。数値が「０（ゼロ）」の場合は、「０（ゼロ））」を入力してください。"]
[null,null,"④選択していただく必要のあるセルには、ピンク系統の着色がされています。\n　 選択式ですので、該当する項目をお選びください。"]
[]
[null,null,"⑤設問の中には自動的に計算される箇所がございます。"]
[null,null,"⑥削除する場合は、該当セルを選択して、「Delete」または「Backspace」キーを押してください。"]
[null,null,"⑦回答内容に補足が必要な場合は、備考欄に記載してください。"]
[null,null,"⑧回答するためにデータを取りまとめる必要がある、\n　「21.介護職員の実人数（性別・年齢別・勤続年数別）」　「24.介護職員の年間採用・退職者の状況」\n  の2設問については、「集計アシストシート」を別シートに作成しています。\n　貴施設で作成している職員台帳などのデータをコピー・貼り付けると、自動で回答データを\n　集計し、設問横（改ページプレビューでグレーになっている表）に表示されます。\n　設問横の数値をコピーし、設問の回答セルに貼り付けてください。\n　なお、「集計アシストシート」には個人情報が含まれていますので、調査票をご提出時は、\n　「集計アシストシート」の情報を削除してからご提出ください。\n　（必ず、設問の回答セルに数値を貼り付けまたは入力した上で削除してください）"]
[null,null,"Ⅱ.印刷方法・提出方法"]
[null,null,"①詳細は、依頼状「４．提出方法」およびシート「提出方法」をご参照ください。"]
[null,null,"②「①特養・短期入所」または「②特養のみ」の「平成29年度決算書類一式」とあわせて、ご返送ください。"]
[]
[]
[null,null,null,null,null,null,"提出期限 ： 平 成30年 7月13日（金）必着"]
[]
[null,null,"○送付先・お問合せ先　　"]
[null,null,"㈱川原経営総合センター 　経営コンサルティング部門"]
[null,null,"特養実態調査チーム　担当者：加藤、水田　　　"]
[null,null,"〒140－0001　東京都品川区北品川4－7－35　御殿山トラストタワー9階"]
[null,null,"ＴＥＬ　０３－５４２２－７５４８　ＦＡＸ　０３－５４２２－７９９６"]
[null,null,"Eメールアドレス：sagamihara-tokuyo@kawahara-group.co.jp"]
[null,null,"※","お問合せ先電話番号が通話中でつながらない場合、誠にお手数ではありますが、 お掛け直し頂けますようお願い申し上げます。"]
[]
[]
["●","本調査における施設の経営における特殊事情に関する備考欄（平成29年4月1日～平成30年3月31日）"]
["例：建替え・大規模修繕などで定員数が昨年度から変わった、給食を外部委託に変更したため、職員数が変わった　等"]
[]
[]
["下記項目について必要事項をご記載、該当項目をご選択ください。　"]
["施設コード",null,null,{"$f":"IF(D47=\"\",\"\",VLOOKUP(D47,会員名簿!A2:B50,2,0))","v":""},null,null,null,"「事業所コード」は自動で入力されます。\n「#N/A」とエラー表示になる場合は、そのままで結構です。"]
[]
["1.法人名",null,null,null,null,null,null,null,null,null,"※「社会福祉法人（社福）」を除いた法人名を入力してください。"]
["2.施設名",null,null,null,null,null,null,null,null,null,"※「特別養護老人ホーム」「介護老人福祉施設」を除いた施設名を記載してください。第1回の調査の際、「混合型」の居室形態を選択した施設は、施設名の後に「●●（従来型）」「●●（ユニット型個室）」と入力してください。"]
[]
["3.運営形態",null,null,null,null,null,null,null,null,null,null,"【選択肢：①公設民営（指定管理の運営者）、②民設民営】"]
[]
["4.開設年度",null,null,"西暦",null,null,"年"]
[]
["5.地域区分",null,null,"4級地",null,"相模原市",null,null,null,null,"区"]
[]
["6.居室形態",null,null,null,null,null,null,null,null,null,null,"【選択肢：①ユニット型個室、②従来型】"]
["7.建物階層",null,null,null,null,null,null,null,"階",null,"※利用者居室フロアの階層を指す。\n例：3階建てで、入所フロアが2階と3階であれば、「2階建て」を選択。"]
[]
["7.定員数"]
["●","特養と併設（一体的運用）短期入所の定員数をご記入ください。空床利用の定員数は含みません。"]
[]
[null,"①特養",null,null,null,"②短期入所",null,null,null,"合計"]
[null,null,null,"名","＋",null,null,"名","＝",{"$f":"IF(B62+F62=0,\"\",B62+F62)","v":""},null,"名"]
[]
["8.年間利用者延べ人数　"]
["●","定員100名、稼働率100％の場合→100名×365日＝36,500名"]
["●","「7.定員数」の内、「①特養」と「②短期入所」の定員相当の年間延べ人数をそれぞれの欄に回答してください。"]
["●","②短期入所の年間利用者延べ人数の内、特養の空床利用における短期入所の年間利用者延べ人数は「③短期入所の内、空床利用」に回答してください。"]
[]
[]
[null,"①特養※1",null,null,null,null,"②短期入所",null,null,null,null,"③短期入所の内、\n空床利用※2",null,null,null,null,null,"合計（①＋②）"]
[null,null,null,null,"名","＋",null,null,null,"名",null,null,null,null,"名",null,"＝",{"$f":"IF(B71+G71=0,\"\",B71+G71)","v":""},null,null,"名"]
[null,"確認用",null,{"$f":"IF(B71=\"\",\"\",B71/(B62*365))","v":""},null,null,"確認用",null,{"$f":"IF(G71=\"\",\"\",G71/(F62*365))","v":""},null,null,null,null,null,null,null,null,"確認用",null,{"$f":"IF(R71=\"\",\"\",R71/(J62*365))","v":""}]
[null,"※1","設問9～11の二重線内の特養の年間利用者延べ人数がいずれも一致するか、確認してください。"]
[null,"※2","「③短期入所の内、空床利用」は、「②短期入所」の年間延べ人数に占める内数を回答してください。"]
[]
["9.要介護度内訳",null,null,null,"※特養における措置対象者は含まない「年間延べ人数」をご記入ください。 "]
[]
[null,"合計人数※",null,null,"要介護1",null,"要介護2",null,"要介護3",null,"要介護4",null,"要介護5",null,"平均要介護度"]
[null,{"$f":"IF(E79+G79+I79+K79+M79=0,\"\",E79+G79+I79+K79+M79)","v":""},null,null,null,null,null,null,null,null,null,null,null,null,{"$f":"IF(B79=\"\",\"\",((E79*1)+(G79*2)+(I79*3)+(K79*4)+(M79*5))/B79)","v":""},null,null,"(名）"]
[]
["10.認知症高齢者の日常生活自立度",null,null,null,null,null,null,null,"※特養における日常生活自立度の「年間延べ人数」をご記入ください。"]
[]
[null,"合計人数※",null,null,"自立",null,"Ⅰ",null,"Ⅱa",null,"Ⅱb",null,"Ⅲa",null,"Ⅲb",null,"Ⅳ",null,"M"]
[null,{"$f":"IF(SUM(E84:T84)=0,\"\",SUM(E84:T84))","v":""},null,null,null,null,null,null,null,null,null,null,null,null,null,null,null,null,null,null,"(名）"]
[]
["11.利用者負担の各段階人数   ",null,null,null,null,null,"※利用者負担の段階ごとの「年間延べ人数」をご記入ください。"]
[]
[null,"合計人数※",null,null,"第1段階\n自己負担あり",null,null,"第1段階\n自己負担なし",null,null,"第2段階",null,null,"第3段階",null,null,"第4段階"]
[null,{"$f":"IF(E89+H89+K89+N89+Q89=0,\"\",E89+H89+K89+N89+Q89)","v":""},null,null,null,null,null,null,null,null,null,null,null,null,null,null,null,null,null,"（名）"]
[null,"※","第1段階「自己負担無」は、相模原市の利用者負担額軽減制度に該当し、食費・居住費などを全額公費で負担されている場合です。"]
[]
[]
["12.退所者の主な理由   ",null,null,null,null,null,"※退所者の「年間人数」をご記入ください。"]
[]
[null,"合計人数",null,null,"看取り（死亡）\n※施設内",null,null,"医療機関へ転院\n（死亡含む）\n※施設以外",null,null,"在宅復帰",null,null,"その他"]
[null,{"$f":"IF(E96+H96+K96+N96=0,\"\",E96+H96+K96+N96)","v":""},null,null,null,null,null,null,null,null,null,null,null,null,null,null,"（名）"]
[]
["13.空床の理由について"]
["●","空床となっている主な理由ごとの年間延べ人数をご記入ください。"]
["●","利用者3名が30日入院しているため居室を確保している場合、3名×30日=90名と回答してください。"]
[null,"ただし、「短期入所の内、空床利用」を行っている場合は、その該当人数を「年間延べ人数」から除いた人数を回答してください。"]
[null,"入院している利用者のため居室を確保している",null,null,null,null,null,null,null,null,null,null,null,null,null,null,"名"]
[null,"入所の予定はあるが、まだ入所していない",null,null,null,null,null,null,null,null,null,null,null,null,null,null,"名"]
[null,"施設の体制や職員配置等が理由で、受け入れられない",null,null,null,null,null,null,null,null,null,null,null,null,null,null,"名"]
[null,"入所希望の利用者（待機者）がいない",null,null,null,null,null,null,null,null,null,null,null,null,null,null,"名"]
[]
["14.待機者の状況",null,null,null,null,"※申込受付センターに申請のあった、貴施設への申込者数を回答してください。"]
["●","平成30年3月31日時点の待機者数について回答してください。"]
[null,"要介護1",null,"要介護2",null,"要介護3",null,"要介護4",null,"要介護5",null,"合計"]
[null,null,null,null,null,null,null,null,null,null,null,{"$f":"IF(B110+D110+F110+H110+J110=0,\"\",SUM(B110:K110))","v":""}]
[]
["●","平成29年度の入所確認時（入所判定会議等）の受け入れ可否について回答してください。"]
[null,"①受け入れが保留となった方",null,null,null,null,null,null,null,null,"名"]
[null,"②施設側から受け入れを断った方",null,null,null,null,null,null,null,null,"名"]
[null,"②の内、受け入れを断った主な理由（",null,null,null,null,null,null,null,null,null,null,null,null,null,null,null,null,null,null,null,"）"]
[]
["15.保険者独自及び法人独自の利用者負担額軽減制度　"]
["●","保険者が利用者負担軽減制度（国・市・施設で1/3ずつ金額負担）を実施していますが、"]
[null,"①対象者の年間延べ人数を回答してください。",null,null,null,null,null,null,null,null,null,null,null,null,"名"]
[null,"②保険者の公的な負担軽減制度以外に、法人独自の負担軽減制度（全額法人負担）を実施している場合、\n 　対象者の年間延べ人数と年間軽減総額を回答してください。"]
[]
[]
[null,"項目",null,null,null,null,null,"年間延べ対象者数",null,null,null,"年間軽減総額",null,null,null,"1人当たり軽減額\n（入力確認用）"]
[null,"食費",null,null,null,null,null,null,null,null,"名",null,null,null,"円",{"$f":"IF(H124=0,\"\",L124/H124)","v":""},null,null,"円"]
[null,"居住費",null,null,null,null,null,null,null,null,"名",null,null,null,"円",{"$f":"IF(H125=0,\"\",L125/H125)","v":""},null,null,"円"]
[null,"その他日常生活費等（おやつ代を含む）",null,null,null,null,null,null,null,null,"名",null,null,null,"円","",null,null,"円"]
[null,"一律負担※",null,null,null,null,null,null,null,null,"名",null,null,null,"円","",null,null,"円"]
[null,"※","一律負担は、食費、居住費、その他日常生活費等の区別なく、一律で法人が負担している総額を回答してください。"]
[]
[]
["15.食費及び居住費等の設定単価"]
["●","「利用者負担第4段階」の食費・居住費、その他負担額についてご記入ください。"]
["●","食費及び居住費、その他負担額は設定単価（契約）の日額、月額で設定している場合には、月額を「30.4日」で割って日額に換算してご記入ください。"]
[]
[null,"利用者負担第4段階",null,null,null,null,null,"設定単価",null,null,null,"基準費用額（参考）"]
[null,"食費（日額）",null,null,null,null,null,null,null,null,"円","1,380円"]
[null,"居住費（多床室、日額）",null,null,null,null,null,null,null,null,"円","320円"]
[null,"居住費（従来型個室、日額）",null,null,null,null,null,null,null,null,"円","1,150円"]
[null,"居住費（ユニット型準個室、日額）",null,null,null,null,null,null,null,null,"円","1,640円"]
[null,"居住費（ユニット型個室、日額）",null,null,null,null,null,null,null,null,"円","1,970円"]
[null,"日常生活品費",null,null,null,null,null,null,null,null,"円"]
[]
["16.物価費",null,null,"※平成28年度（平成28年4月1日～平成29年3月31日）に開所した施設のみ回答してください。"]
["●","特養と併設（一体的運用）短期入所に該当する部分とします（併設デイサービス等は除く）"]
["●","保有形態が一部異なる場合は、「①」「②」それぞれに該当する内容を回答してください。"]
["●","保有形態は、【選択肢：「①購入」、「②賃借」、「③無償貸与（寄付を含む）」】から選択してください。"]
["●","保有形態で「購入」を選択した場合、金額欄は土地は取得費、建物は総事業費を回答してください。"]
["●","保有形態で「賃借」を選択した場合、金額欄は土地・建物それぞれの年間の賃借料を回答してください。"]
[null,"項目",null,null,null,null,null,"保有形態",null,null,"金額",null,null,null,"金額の内、補助金額",null,null,null,"【土地】面積\n【建物】延べ床面積"]
[null,"土地\n（特養と併設短期入所）",null,null,null,null,"①",null,null,null,null,null,null,"円",null,null,null,"円",null,null,null,"㎡"]
[null,null,null,null,null,null,"②",null,null,null,null,null,null,"円",null,null,null,"円",null,null,null,"㎡"]
[null,"建物\n（特養と併設短期入所）",null,null,null,null,"①",null,null,null,null,null,null,"円",null,null,null,"円",null,null,null,"㎡"]
[null,null,null,null,null,null,"②",null,null,null,null,null,null,"円",null,null,null,"円",null,null,null,"㎡"]
[]
[]
["17.特養における加算の状況（平成30年3月末時点）"]
["●","平成29年度については、申請の有無ではなく、実際に請求を行った項目を回答してください。"]
[]
[null,"項　　目",null,null,null,null,null,null,"該当する番号を回答欄に入力してください。",null,null,null,null,null,null,null,"回答欄"]
[]
[null,"介護職員処遇改善加算",null,null,null,null,null,null,"①加算Ⅰ ②加算Ⅱ ③加算Ⅲ ④加算Ⅳ ⑤加算Ⅴ ⑥無"]
[null,"日常生活継続支援加算",null,null,null,null,null,null,"①有　　　　②無"]
[null,"サービス提供体制強化加算",null,null,null,null,null,null,"①加算Ⅰイ ②加算Ⅰロ ③加算Ⅱ ④加算Ⅲ ⑤無"]
[null,"看護体制加算（Ⅰ）",null,null,null,null,null,null,"①加算Ⅰ イ  　②加算Ⅰ ロ　 　③無"]
[null,"看護体制加算（Ⅱ）",null,null,null,null,null,null,"①加算Ⅱ イ    ②加算Ⅱ ロ　 　③無"]
[null,"夜勤職員配置加算（Ⅰ）",null,null,null,null,null,null,"①加算Ⅰ イ  　②加算Ⅰ ロ　 　③無"]
[null,"夜勤職員配置加算（Ⅱ）",null,null,null,null,null,null,"①加算Ⅱ イ    ②加算Ⅱ ロ　 　③無"]
[null,"精神科医療養指導加算",null,null,null,null,null,null,"①有　　　　②無"]
[null,"認知症専門ケア加算",null,null,null,null,null,null,"①加算Ⅰ　     ②加算Ⅱ  　　　③無"]
[null,"認知症行動・心理症状緊急対応加算",null,null,null,null,null,null,"①有　　　　②無"]
[null,"個別機能訓練加算",null,null,null,null,null,null,"①有　　　　②無"]
[null,"栄養マネジメント加算",null,null,null,null,null,null,"①有　　　　②無"]
[null,"経口移行加算",null,null,null,null,null,null,"①有　　　　②無"]
[null,"経口維持加算",null,null,null,null,null,null,"①加算Ⅰ　②加算Ⅱ　③併算定　④無"]
[null,"口腔衛生管理体制加算",null,null,null,null,null,null,"①有　　　　②無"]
[null,"口腔衛生管理加算",null,null,null,null,null,null,"①有　　　　②無"]
[null,"療養食加算",null,null,null,null,null,null,"①有　　　　②無"]
[null,"看取り介護加算",null,null,null,null,null,null,"①有　　　　②無"]
[null,"準ユニットケア加算",null,null,null,null,null,null,"①有　　　　②無"]
[null,"常勤医師配置加算",null,null,null,null,null,null,"①有　　　　②無"]
[null,"障害者生活支援体制加算",null,null,null,null,null,null,"①有　　　　②無"]
[null,"外泊時費用",null,null,null,null,null,null,"①有　　　　②無"]
[null,"初期加算",null,null,null,null,null,null,"①有　　　　②無"]
[null,"退所前訪問相談援助加算",null,null,null,null,null,null,"①有　　　　②無"]
[null,"退所後訪問相談援助加算",null,null,null,null,null,null,"①有　  　　②無"]
[null,"退所時相談援助加算",null,null,null,null,null,null,"①有　　　　②無"]
[null,"退所前連携加算",null,null,null,null,null,null,"①有　　　　②無"]
[null,"在宅復帰支援機能加算",null,null,null,null,null,null,"①有　　　　②無"]
[null,"在宅・入所相互利用加算",null,null,null,null,null,null,"①有　　　　②無"]
[null,"若年性認知症入所者受入加算",null,null,null,null,null,null,"①有　　　　②無"]
[]
[]
["19.介護職員処遇改善加算の取得状況（平成29年度の取得状況）"]
["●","平成29年度に提出された介護職員処遇改善計画書（別紙様式2-（1））を参考に記載してください。"]
[]
["H29","賃金改善を行う賃金項目\n（複数回答可）\n(支給している場合は「1」を選択)",null,null,null,null,null,null,null,"基本給",null,null,null,"手当",null,null,null,"賞与（一時金）"]
[null,null,null,null,null,null,null,null,null,"その他※",null,null,null,"内容　（",null,null,null,null,null,null,"）"]
[null,"※","「その他」を選択した場合、内容の（ ）内に支給方法を回答してください。"]
[]
["●","他職種への「介護職員処遇改善加算」相当額の支給状況について（該当する場合は「1」を選択してください）。"]
[]
["H29","「介護職員処遇改善加算」とは別に、法人独自に他職種（介護職以外の専門職及び事務員等）に対する加算相当額の賃金改善の取組み状況について",null,null,null,null,null,null,null,null,null,null,null,null,null,null,"①実施していない"]
[null,null,null,null,null,null,null,null,null,null,null,null,null,null,null,null,"②実施している"]
[null,"「②実施している」と回答した場合、一人あたりの平均賃金改善額（月額）を回答してください※",null,null,null,null,null,null,null,null,null,null,null,null,null,null,null,null,null,null,"円"]
[null,"※","一時金で支給している場合は、12か月で除した1か月相当額を回答してください。"]
[null,"※","職種によって支給金額が異なる場合は、平均賃金改善額（月額）を回答してください。"]
[null,null,"例：看護師25,000円、事務員15,000円　平均賃金改善額　20,000円"]
[]
["H29","キャリアパス要件Ⅲの該当要素\n（複数回答可）\n(該当する場合は「1」を選択)",null,null,null,null,null,null,"経験",null,null,null,"資格",null,null,null,"評価"]
[null,"キャリアパス要件Ⅲを継続して\n満たすための課題\n（今後改善していきたいと考えていることについて）"]
[null,"※","経験：「勤続年数」「経験年数」などを想定。"]
[null,"※","資格：「介護福祉士」「実務者研修修了者」などを想定。ただし、介護福祉士資格を有して当該事業所や法人で就業する者についても昇給が図られてる仕組みであることを要する。"]
[null,"※","評価：「実技試験」「人事評価」などを想定。ただし、客観的な評価（採点）基準や昇給条件が明文化されていることを要する。"]
[]
[]
["18.日常生活継続支援加算の取得状況"]
["●","以下のうち、すでに満たしている要件は「1」、満たしていない要件は「2」を選択してください。"]
[]
[null,"算定要件の状況","・介護福祉士の数が常勤換算方法で入所者6またはその単数を増すごとに1以上"]
[null,null,"かつ、以下のいずれかを満たす。"]
[null,null,"・「新規」入所者のうち、要介護4・5の占める割合が70％以上"]
[null,null,"・「新規」入所者のうち、認知症日常生活自立度Ⅲ以上の占める割合が65％以上"]
[null,null,"・たん吸引などが必要な入所者の占める割合が15％以上"]
[]
["●","喀痰吸引を実施している場合、年間延べ利用者数を回答してください。",null,null,null,null,null,null,null,null,null,null,null,null,null,null,"名"]
[]
["21.看取り介護加算の取得状況"]
["●","以下のうち、すでに満たしている要件は「1」、満たしていない要件は「2」を選択してください。"]
[]
[null,"算定要件の状況","・常勤正看護師1名以上、または24時間の連絡体制を確保している"]
[null,null,"・看取りに関する指針を定め、入所者又は家族に対して、当該指針の内容を説明し、同意を得ている"]
[null,null,"・多職種が協議の上、看取りに関する指針の見直しを行っている"]
[null,null,"・多職種が共同で作成した介護計画について、説明を受し、同意を得ている"]
[null,null,"・看取りに関する指針に基づき、利用者の状態または家族の求めなどに応じ、随時多職種の連携の下、介護記録等の記録を活用して介護を行うための説明を受け、同意した上で介護を受けている"]
[]
["●","看取り介護を行う上での課題について、該当するものについて「1」を選択してください（複数回答可）。"]
[]
[null,"利用者\n及び家族",null,"・利用者及びその家族が施設内の看取り介護を望まない"]
[null,null,null,"・利用者の家族との連携が十分に取れない"]
[null,"施設の\n体制",null,"・施設の方針として積極的でない"]
[null,null,null,"・看取り介護のために利用できる個室がない"]
[null,null,null,"・利用者を医療的に観察するための設備がない"]
[null,null,null,"・施設内で行える医療処置が少ない"]
[null,null,null,"・医療機関との連携が難しい"]
[null,"職員体制",null,"・施設の医師（配置医師）による対応が難しい"]
[null,null,null,"・看取り介護を行うための看護職員が不足している"]
[null,null,null,"・看取り介護を行うための介護職員が不足している"]
[null,null,null,"・看取り介護を行うための夜間の体制が十分でない"]
[null,null,null,"・施設内の職員の連携が難しい"]
[null,"施設の\n業務",null,"・研修等を通じた知識・技術の習得が不足している"]
[null,null,null,"・施設全体として看取り介護の経験が不足している"]
[null,null,null,"・看取り介護を行うことで職員の精神的負担が増す"]
[null,null,null,"・看取り介護に係る事務負担が増す"]
[]
["19.職員の実人数と常勤換算職員数",null,null,null,null,null,null,"※「職員の雇用区分」「常勤換算」算出方法はシート「設問解説」を参照してください。\n"]
["●","対象となる事業は、特養と併設（一体的運用）短期入所となります。"]
["●","年間平均（1ヶ月当り）の特養と併設（一体的運用）短期入所に関わる職員の実人数および常勤換算職員数をご記入ください。\nまた、各月の常勤換算職員数の把握が難しく年間平均（1ヶ月当り）の人数がわからない場合は、「平成30年3月末時点」の特養と併設（一体的運用）短期入所に関わる職員の実人数および常勤換算職員数をご記入ください。"]
[]
[]
[]
["●","回答するに当たり、「職員配置の回答基準」に「年間平均（1ヶ月当り）」で回答してください。"]
["●","「20．委託費の内訳」の「1 派遣職員」に回答がある場合、職員配置の回答基準が「平成30年3月末時点」で該当者がいない場合であっても、委託費相当の年間の「職員実数」および「常勤換算職員数」を回答してください。"]
[]
["●","派遣調理職員（給食委託）を含む場合は、「派遣委託職員」の「調理職員」欄にご記入ください。"]
[]
["職員配置の回答基準",null,null,null,null,null,"施設雇用職員",null,null,null,null,null,null,null,null,"派遣委託職員\n（年間延べ人数）",null,null,null,null,"職員合計\n（④+⑥）"]
[null,null,null,null,null,null,"正規",null,"非正規",null,null,null,"④合計\n（①+③）"]
["職種",null,null,null,null,null,"①実数",null,"②実数",null,"③常勤換算",null,null,null,null,"⑤実数",null,"⑥常勤換算"]
["介護職員（EPA含む）",null,null,null,null,null,null,null,null,null,null,null,{"$f":"SUM(G269,K269)","v":0},null,"+",null,null,null,null,"=",{"$f":"SUM(M269,R269)","v":0}]
["上記の内、介護福祉士資格者",null,null,null,null,null,null,null,null,null,null,null,{"$f":"SUM(G270,K270)","v":0},null,"+",null,null,null,null,"=",0]
["看護職員",null,null,null,null,null,null,null,null,null,null,null,0,null,"+",null,null,null,null,"=",0]
["理学療法士・作業療法士\n言語聴覚士",null,null,null,null,null,null,null,null,null,null,null,0,null,"+",null,null,null,null,"=",0]
["調理職員　※1",null,null,null,null,null,null,null,null,null,null,null,0,null,"+",null,null,null,null,"=",0]
["その他（事務職員等）※2",null,null,null,null,null,null,null,null,null,null,null,0,null,"+",null,null,null,null,"=",0]
["調査対象者合計\n（上記①～⑤の合計）",null,null,null,null,null,{"$f":"IF(G$269+G$271+G$272+G$274+G$273=0,\"\",G$269+G$271+G$272+G$274+G$273)","v":""},null,{"$f":"IF(I$269+I$271+I$272+I$274+I$273=0,\"\",I$269+I$271+I$272+I$274+I$273)","v":""},null,{"$f":"IF(K$269+K$271+K$272+K$274+K$273=0,\"\",K$269+K$271+K$272+K$274+K$273)","v":""},null,{"$f":"SUM(G275,K275)","v":0},null,"+",{"$f":"IF(P$269+P$271+P$272+P$274+P$273=0,\"\",P$269+P$271+P$272+P$274+P$273)","v":""},null,{"$f":"IF(R$269+R$271+R$272+R$274+R$273=0,\"\",R$269+R$271+R$272+R$274+R$273)","v":""},null,"=",0]
[null,"※1","調理を外部委託している場合は、委託会社にご確認の上、調理職員の実人数及び常勤換算職員数をご記入ください。"]
[]
[null,"※2","「その他（事務職員等）」は、施設の運営に関わる職員のうち、「介護職員」「看護職員」「理学療法士・作業療法士、言語聴覚士」「調理職員」を除く職員（施設長・事務職員・生活相談員・介護支援専門員・管理栄養士・機能訓練指導員・清掃員・警備員等）の常勤換算職員数をご記入ください。"]
[]
[]
[null,"※3","シート「設問解説」にある短時間正規職員がいる場合、「正規」（実数）欄に常勤換算職員数をご記入ください。"]
[]
["20.委託費の内訳",null,null,null,"※上記設問の内、「派遣委託職員」に該当する職員がいる場合は、必ず回答してください。"]
["●","該当する委託業務の特養・併設（一体的運用）短期入所に相当する金額（年間）をご記入ください。"]
["●","給食委託は委託費総額のうち調理職員の人件費や間接経費に該当する金額をご記入ください。ただし、食材費などは除きます。"]
[]
[]
[null,"1　派遣職員（合計）",null,null,null,null,{"$f":"IF($G$289+$G$290+$G$291=0,\"\",G289+G290+G291)","v":""},null,null,null,null,null,"円","1人当たり委託費\n（入力確認用）",null,null,null,"※上記設問の「19．職員の実人数と常勤換算職員」の「派遣委託職員」の内、「実数」に対する一人当たり委託費（入力確認用）の金額をご確認ください"]
[null,null,"①　内、介護職員",null,null,null,null,null,null,null,null,null,"円",{"$f":"IF(G289=0,\"\",(G289/R269))","v":""},null,null,"円/年"]
[null,null,"②　内、看護職員",null,null,null,null,null,null,null,null,null,"円",{"$f":"IF(G290=0,\"\",(G290/R271))","v":""},null,null,"円/年"]
[null,null,"③　内、その他事務等※",null,null,null,null,null,null,null,null,null,"円",{"$f":"IF(G291=0,\"\",(G291/R274))","v":""},null,null,"円/年"]
[null,null,"その他事務等の内容（",null,null,null,null,null,null,null,null,null,null,null,null,null,"）"]
[null,"2　給食委託（管理費）",null,null,null,null,null,null,null,null,null,null,"円",{"$f":"IF(G293=0,\"\",(G293/12/R273))","v":""},null,null,"円/月"]
[null,"※","「その他（事務職員等）」は、施設の運営に関わる職員のうち、「介護職員」「看護職員」「理学療法士・作業療法士、言語聴覚士」「調理職員」を除く職員（施設長・事務職員・生活相談員・介護支援専門員・管理栄養士・機能訓練指導員・清掃員・警備員等）の常勤換算職員数をご記入ください。"]
[]
[]
[]
[]
[]
[]
[]
[null,null,null,null,null,null,null,null,null,null,null,null,null,null,null,null,null,null,null,null,null,null,null,"「集計アシストシート」から自動的に数値が集計されます"]
["21.介護職員の実人数（性別・年齢別・勤続年数別）",null,null,null,null,null,null,null,null,null,null,"※平成30年3月末時点の実数",null,null,null,null,null,null,null,null,null,null,null,"21.介護職員の実人数（性別・年齢別・勤続年数別）",null,null,null,null,null,null,null,null,null,null,"※平成30年3月末時点の実数"]
["●","「集計アシストシート」がありますので、ご活用ください。"]
[null,"※「名」には保護が掛かっています。右側から数字のみコピーして貼り付けてください。",null,null,null,null,null,null,null,null,null,null,null,null,null,null,null,null,null,null,null,null,null,"※人数の内、数字のみコピーして、左側に「値」で貼り付けしてください。"]
["男性職員","正規（常勤）","勤続年数",null,null,"1年未満",null,"2年未満",null,"3年未満",null,"4年未満",null,"5年未満",null,"5～10年未満",null,"10年以上",null,"合計",null,null,"←","男性職員","正規（常勤）","勤続年数",null,null,"1年未満",null,"2年未満",null,"3年未満",null,"4年未満",null,"5年未満",null,"5～10年未満",null,"10年以上",null,"合計"]
[null,null,"20歳未満",null,null,null,"名",null,"名",null,"名",null,"名",null,"名",null,"名",null,"名",{"$f":"SUM(F307,H307,J307,L307,N307,P307,R307)","v":0},"名",null,"←",null,null,"20歳未満",null,null,{"$f":"COUNTIFS(集計アシストシート!$D$8:$D$207,\"正規\",集計アシストシート!$E$8:$E$207,\"男\",集計アシストシート!$G$8:$G$207,\"<20\",集計アシストシート!$J$8:$J$207,\"<12\",集計アシストシート!$I$8:$I$207,\"\",集計アシストシート!$I$8:$I$207,\"\")","v":0},"名",{"$f":"COUNTIFS(集計アシストシート!$D$8:$D$207,\"正規\",集計アシストシート!$E$8:$E$207,\"男\",集計アシストシート!$G$8:$G$207,\"<20\",集計アシストシート!$J$8:$J$207,\">=12\",集計アシストシート!$J$8:$J$207,\"<24\",集計アシストシート!$I$8:$I$207,\"\")","v":0},"名",{"$f":"COUNTIFS(集計アシストシート!$D$8:$D$207,\"正規\",集計アシストシート!$E$8:$E$207,\"男\",集計アシストシート!$G$8:$G$207,\"<20\",集計アシストシート!$J$8:$J$207,\">=24\",集計アシストシート!$J$8:$J$207,\"<36\",集計アシストシート!$I$8:$I$207,\"\")","v":0},"名",{"$f":"COUNTIFS(集計アシストシート!$D$8:$D$207,\"正規\",集計アシストシート!$E$8:$E$207,\"男\",集計アシストシート!$G$8:$G$207,\"<20\",集計アシストシート!$J$8:$J$207,\">=36\",集計アシストシート!$J$8:$J$207,\"<48\",集計アシストシート!$I$8:$I$207,\"\")","v":0},"名",{"$f":"COUNTIFS(集計アシストシート!$D$8:$D$207,\"正規\",集計アシストシート!$E$8:$E$207,\"男\",集計アシストシート!$G$8:$G$207,\"<20\",集計アシストシート!$J$8:$J$207,\">=48\",集計アシストシート!$J$8:$J$207,\"<60\",集計アシストシート!$I$8:$I$207,\"\")","v":0},"名",{"$f":"COUNTIFS(集計アシストシート!$D$8:$D$207,\"正規\",集計アシストシート!$E$8:$E$207,\"男\",集計アシストシート!$G$8:$G$207,\"<20\",集計アシストシート!$J$8:$J$207,\">=60\",集計アシストシート!$J$8:$J$207,\"<120\",集計アシストシート!$I$8:$I$207,\"\")","v":0},"名",{"$f":"COUNTIFS(集計アシストシート!$D$8:$D$207,\"正規\",集計アシストシート!$E$8:$E$207,\"男\",集計アシストシート!$G$8:$G$207,\"<20\",集計アシストシート!$J$8:$J$207,\">=120\",集計アシストシート!$I$8:$I$207,\"\")","v":0},"名",{"$f":"SUM(AC307,AE307,AG307,AI307,AK307,AM307,AO307)","v":0},"名"]
[null,null,"20歳代",null,null,null,"名",null,"名",null,"名",null,"名",null,"名",null,"名",null,"名",{"$f":"SUM(F308,H308,J308,L308,N308,P308,R308)","v":0},"名",null,"←",null,null,"20歳代",null,null,{"$f":"COUNTIFS(集計アシストシート!$D$8:$D$207,\"正規\",集計アシストシート!$E$8:$E$207,\"男\",集計アシストシート!$G$8:$G$207,\">=20\",集計アシストシート!$G$8:$G$207,\"<30\",集計アシストシート!$J$8:$J$207,\"<12\",集計アシストシート!$I$8:$I$207,\"\")","v":0},"名",{"$f":"COUNTIFS(集計アシストシート!$D$8:$D$207,\"正規\",集計アシストシート!$E$8:$E$207,\"男\",集計アシストシート!$G$8:$G$207,\">=20\",集計アシストシート!$G$8:$G$207,\"<30\",集計アシストシート!$J$8:$J$207,\">=12\",集計アシストシート!$J$8:$J$207,\"<24\",集計アシストシート!$I$8:$I$207,\"\")","v":0},"名",{"$f":"COUNTIFS(集計アシストシート!$D$8:$D$207,\"正規\",集計アシストシート!$E$8:$E$207,\"男\",集計アシストシート!$G$8:$G$207,\">=20\",集計アシストシート!$G$8:$G$207,\"<30\",集計アシストシート!$J$8:$J$207,\">=24\",集計アシストシート!$J$8:$J$207,\"<36\",集計アシストシート!$I$8:$I$207,\"\")","v":0},"名",{"$f":"COUNTIFS(集計アシストシート!$D$8:$D$207,\"正規\",集計アシストシート!$E$8:$E$207,\"男\",集計アシストシート!$G$8:$G$207,\">=20\",集計アシストシート!$G$8:$G$207,\"<30\",集計アシストシート!$J$8:$J$207,\">=36\",集計アシストシート!$J$8:$J$207,\"<48\",集計アシストシート!$I$8:$I$207,\"\")","v":0},"名",{"$f":"COUNTIFS(集計アシストシート!$D$8:$D$207,\"正規\",集計アシストシート!$E$8:$E$207,\"男\",集計アシストシート!$G$8:$G$207,\">=20\",集計アシストシート!$G$8:$G$207,\"<30\",集計アシストシート!$J$8:$J$207,\">=48\",集計アシストシート!$J$8:$J$207,\"<60\",集計アシストシート!$I$8:$I$207,\"\")","v":0},"名",{"$f":"COUNTIFS(集計アシストシート!$D$8:$D$207,\"正規\",集計アシストシート!$E$8:$E$207,\"男\",集計アシストシート!$G$8:$G$207,\">=20\",集計アシストシート!$G$8:$G$207,\"<30\",集計アシストシート!$J$8:$J$207,\">=60\",集計アシストシート!$J$8:$J$207,\"<120\",集計アシストシート!$I$8:$I$207,\"\")","v":0},"名",{"$f":"COUNTIFS(集計アシストシート!$D$8:$D$207,\"正規\",集計アシストシート!$E$8:$E$207,\"男\",集計アシストシート!$G$8:$G$207,\">=20\",集計アシストシート!$G$8:$G$207,\"<30\",集計アシストシート!$J$8:$J$207,\">=120\",集計アシストシート!$I$8:$I$207,\"\")","v":0},"名",{"$f":"SUM(AC308,AE308,AG308,AI308,AK308,AM308,AO308)","v":0},"名"]
[null,null,"30歳代",null,null,null,"名",null,"名",null,"名",null,"名",null,"名",null,"名",null,"名",0,"名",null,"←",null,null,"30歳代",null,null,{"$f":"COUNTIFS(集計アシストシート!$D$8:$D$207,\"正規\",集計アシストシート!$E$8:$E$207,\"男\",集計アシストシート!$G$8:$G$207,\">=30\",集計アシストシート!$G$8:$G$207,\"<40\",集計アシストシート!$J$8:$J$207,\"<12\",集計アシストシート!$I$8:$I$207,\"\")","v":0},"名",{"$f":"COUNTIFS(集計アシストシート!$D$8:$D$207,\"正規\",集計アシストシート!$E$8:$E$207,\"男\",集計アシストシート!$G$8:$G$207,\">=30\",集計アシストシート!$G$8:$G$207,\"<40\",集計アシストシート!$J$8:$J$207,\">=12\",集計アシストシート!$J$8:$J$207,\"<24\",集計アシストシート!$I$8:$I$207,\"\")","v":0},"名",{"$f":"COUNTIFS(集計アシストシート!$D$8:$D$207,\"正規\",集計アシストシート!$E$8:$E$207,\"男\",集計アシストシート!$G$8:$G$207,\">=30\",集計アシストシート!$G$8:$G$207,\"<40\",集計アシストシート!$J$8:$J$207,\">=24\",集計アシストシート!$J$8:$J$207,\"<36\",集計アシストシート!$I$8:$I$207,\"\")","v":0},"名",{"$f":"COUNTIFS(集計アシストシート!$D$8:$D$207,\"正規\",集計アシストシート!$E$8:$E$207,\"男\",集計アシストシート!$G$8:$G$207,\">=30\",集計アシストシート!$G$8:$G$207,\"<40\",集計アシストシート!$J$8:$J$207,\">=36\",集計アシストシート!$J$8:$J$207,\"<48\",集計アシストシート!$I$8:$I$207,\"\")","v":0},"名",{"$f":"COUNTIFS(集計アシストシート!$D$8:$D$207,\"正規\",集計アシストシート!$E$8:$E$207,\"男\",集計アシストシート!$G$8:$G$207,\">=30\",集計アシストシート!$G$8:$G$207,\"<40\",集計アシストシート!$J$8:$J$207,\">=48\",集計アシストシート!$J$8:$J$207,\"<60\",集計アシストシート!$I$8:$I$207,\"\")","v":0},"名",{"$f":"COUNTIFS(集計アシストシート!$D$8:$D$207,\"正規\",集計アシストシート!$E$8:$E$207,\"男\",集計アシストシート!$G$8:$G$207,\">=30\",集計アシストシート!$G$8:$G$207,\"<40\",集計アシストシート!$J$8:$J$207,\">=60\",集計アシストシート!$J$8:$J$207,\"<120\",集計アシストシート!$I$8:$I$207,\"\")","v":0},"名",{"$f":"COUNTIFS(集計アシストシート!$D$8:$D$207,\"正規\",集計アシストシート!$E$8:$E$207,\"男\",集計アシストシート!$G$8:$G$207,\">=30\",集計アシストシート!$G$8:$G$207,\"<40\",集計アシストシート!$J$8:$J$207,\">=120\",集計アシストシート!$I$8:$I$207,\"\")","v":0},"名",0,"名"]
[null,null,"40歳代",null,null,null,"名",null,"名",null,"名",null,"名",null,"名",null,"名",null,"名",0,"名",null,"←",null,null,"40歳代",null,null,{"$f":"COUNTIFS(集計アシストシート!$D$8:$D$207,\"正規\",集計アシストシート!$E$8:$E$207,\"男\",集計アシストシート!$G$8:$G$207,\">=40\",集計アシストシート!$G$8:$G$207,\"<50\",集計アシストシート!$J$8:$J$207,\"<12\",集計アシストシート!$I$8:$I$207,\"\")","v":0},"名",{"$f":"COUNTIFS(集計アシストシート!$D$8:$D$207,\"正規\",集計アシストシート!$E$8:$E$207,\"男\",集計アシストシート!$G$8:$G$207,\">=40\",集計アシストシート!$G$8:$G$207,\"<50\",集計アシストシート!$J$8:$J$207,\">=12\",集計アシストシート!$J$8:$J$207,\"<24\",集計アシストシート!$I$8:$I$207,\"\")","v":0},"名",{"$f":"COUNTIFS(集計アシストシート!$D$8:$D$207,\"正規\",集計アシストシート!$E$8:$E$207,\"男\",集計アシストシート!$G$8:$G$207,\">=40\",集計アシストシート!$G$8:$G$207,\"<50\",集計アシストシート!$J$8:$J$207,\">=24\",集計アシストシート!$J$8:$J$207,\"<36\",集計アシストシート!$I$8:$I$207,\"\")","v":0},"名",{"$f":"COUNTIFS(集計アシストシート!$D$8:$D$207,\"正規\",集計アシストシート!$E$8:$E$207,\"男\",集計アシストシート!$G$8:$G$207,\">=40\",集計アシストシート!$G$8:$G$207,\"<50\",集計アシストシート!$J$8:$J$207,\">=36\",集計アシストシート!$J$8:$J$207,\"<48\",集計アシストシート!$I$8:$I$207,\"\")","v":0},"名",{"$f":"COUNTIFS(集計アシストシート!$D$8:$D$207,\"正規\",集計アシストシート!$E$8:$E$207,\"男\",集計アシストシート!$G$8:$G$207,\">=40\",集計アシストシート!$G$8:$G$207,\"<50\",集計アシストシート!$J$8:$J$207,\">=48\",集計アシストシート!$J$8:$J$207,\"<60\",集計アシストシート!$I$8:$I$207,\"\")","v":0},"名",{"$f":"COUNTIFS(集計アシストシート!$D$8:$D$207,\"正規\",集計アシストシート!$E$8:$E$207,\"男\",集計アシストシート!$G$8:$G$207,\">=40\",集計アシストシート!$G$8:$G$207,\"<50\",集計アシストシート!$J$8:$J$207,\">=60\",集計アシストシート!$J$8:$J$207,\"<120\",集計アシストシート!$I$8:$I$207,\"\")","v":0},"名",{"$f":"COUNTIFS(集計アシストシート!$D$8:$D$207,\"正規\",集計アシストシート!$E$8:$E$207,\"男\",集計アシストシート!$G$8:$G$207,\">=40\",集計アシストシート!$G$8:$G$207,\"<50\",集計アシストシート!$J$8:$J$207,\">=120\",集計アシストシート!$I$8:$I$207,\"\")","v":0},"名",0,"名"]
[null,null,"50歳代",null,null,null,"名",null,"名",null,"名",null,"名",null,"名",null,"名",null,"名",0,"名",null,"←",null,null,"50歳代",null,null,{"$f":"COUNTIFS(集計アシストシート!$D$8:$D$207,\"正規\",集計アシストシート!$E$8:$E$207,\"男\",集計アシストシート!$G$8:$G$207,\">=50\",集計アシストシート!$G$8:$G$207,\"<60\",集計アシストシート!$J$8:$J$207,\"<12\",集計アシストシート!$I$8:$I$207,\"\")","v":0},"名",{"$f":"COUNTIFS(集計アシストシート!$D$8:$D$207,\"正規\",集計アシストシート!$E$8:$E$207,\"男\",集計アシストシート!$G$8:$G$207,\">=50\",集計アシストシート!$G$8:$G$207,\"<60\",集計アシストシート!$J$8:$J$207,\">=12\",集計アシストシート!$J$8:$J$207,\"<24\",集計アシストシート!$I$8:$I$207,\"\")","v":0},"名",{"$f":"COUNTIFS(集計アシストシート!$D$8:$D$207,\"正規\",集計アシストシート!$E$8:$E$207,\"男\",集計アシストシート!$G$8:$G$207,\">=50\",集計アシストシート!$G$8:$G$207,\"<60\",集計アシストシート!$J$8:$J$207,\">=24\",集計アシストシート!$J$8:$J$207,\"<36\",集計アシストシート!$I$8:$I$207,\"\")","v":0},"名",{"$f":"COUNTIFS(集計アシストシート!$D$8:$D$207,\"正規\",集計アシストシート!$E$8:$E$207,\"男\",集計アシストシート!$G$8:$G$207,\">=50\",集計アシストシート!$G$8:$G$207,\"<60\",集計アシストシート!$J$8:$J$207,\">=36\",集計アシストシート!$J$8:$J$207,\"<48\",集計アシストシート!$I$8:$I$207,\"\")","v":0},"名",{"$f":"COUNTIFS(集計アシストシート!$D$8:$D$207,\"正規\",集計アシストシート!$E$8:$E$207,\"男\",集計アシストシート!$G$8:$G$207,\">=50\",集計アシストシート!$G$8:$G$207,\"<60\",集計アシストシート!$J$8:$J$207,\">=48\",集計アシストシート!$J$8:$J$207,\"<60\",集計アシストシート!$I$8:$I$207,\"\")","v":0},"名",{"$f":"COUNTIFS(集計アシストシート!$D$8:$D$207,\"正規\",集計アシストシート!$E$8:$E$207,\"男\",集計アシストシート!$G$8:$G$207,\">=50\",集計アシストシート!$G$8:$G$207,\"<60\",集計アシストシート!$J$8:$J$207,\">=60\",集計アシストシート!$J$8:$J$207,\"<120\",集計アシストシート!$I$8:$I$207,\"\")","v":0},"名",{"$f":"COUNTIFS(集計アシストシート!$D$8:$D$207,\"正規\",集計アシストシート!$E$8:$E$207,\"男\",集計アシストシート!$G$8:$G$207,\">=50\",集計アシストシート!$G$8:$G$207,\"<60\",集計アシストシート!$J$8:$J$207,\">=120\",集計アシストシート!$I$8:$I$207,\"\")","v":0},"名",0,"名"]
[null,null,"60歳以上",null,null,null,"名",null,"名",null,"名",null,"名",null,"名",null,"名",null,"名",0,"名",null,"←",null,null,"60歳以上",null,null,{"$f":"COUNTIFS(集計アシストシート!$D$8:$D$207,\"正規\",集計アシストシート!$E$8:$E$207,\"男\",集計アシストシート!$G$8:$G$207,\">=60\",集計アシストシート!$J$8:$J$207,\"<12\",集計アシストシート!$I$8:$I$207,\"\")","v":0},"名",{"$f":"COUNTIFS(集計アシストシート!$D$8:$D$207,\"正規\",集計アシストシート!$E$8:$E$207,\"男\",集計アシストシート!$G$8:$G$207,\">=60\",集計アシストシート!$J$8:$J$207,\">=12\",集計アシストシート!$J$8:$J$207,\"<24\",集計アシストシート!$I$8:$I$207,\"\")","v":0},"名",{"$f":"COUNTIFS(集計アシストシート!$D$8:$D$207,\"正規\",集計アシストシート!$E$8:$E$207,\"男\",集計アシストシート!$G$8:$G$207,\">=60\",集計アシストシート!$J$8:$J$207,\">=24\",集計アシストシート!$J$8:$J$207,\"<36\",集計アシストシート!$I$8:$I$207,\"\")","v":0},"名",{"$f":"COUNTIFS(集計アシストシート!$D$8:$D$207,\"正規\",集計アシストシート!$E$8:$E$207,\"男\",集計アシストシート!$G$8:$G$207,\">=60\",集計アシストシート!$J$8:$J$207,\">=36\",集計アシストシート!$J$8:$J$207,\"<48\",集計アシストシート!$I$8:$I$207,\"\")","v":0},"名",{"$f":"COUNTIFS(集計アシストシート!$D$8:$D$207,\"正規\",集計アシストシート!$E$8:$E$207,\"男\",集計アシストシート!$G$8:$G$207,\">=60\",集計アシストシート!$J$8:$J$207,\">=48\",集計アシストシート!$J$8:$J$207,\"<60\",集計アシストシート!$I$8:$I$207,\"\")","v":0},"名",{"$f":"COUNTIFS(集計アシストシート!$D$8:$D$207,\"正規\",集計アシストシート!$E$8:$E$207,\"男\",集計アシストシート!$G$8:$G$207,\">=60\",集計アシストシート!$J$8:$J$207,\">=60\",集計アシストシート!$J$8:$J$207,\"<120\",集計アシストシート!$I$8:$I$207,\"\")","v":0},"名",{"$f":"COUNTIFS(集計アシストシート!$D$8:$D$207,\"正規\",集計アシストシート!$E$8:$E$207,\"男\",集計アシストシート!$G$8:$G$207,\">=60\",集計アシストシート!$J$8:$J$207,\">=120\",集計アシストシート!$I$8:$I$207,\"\")","v":0},"名",0,"名"]
[null,null,"合計",null,null,{"$f":"IF(F307+F308+F309+F310+F311+F312=0,\"\",F307+F308+F309+F310+F311+F312)","v":""},"名",{"$f":"IF(H307+H308+H309+H310+H311+H312=0,\"\",H307+H308+H309+H310+H311+H312)","v":""},"名",{"$f":"IF(J307+J308+J309+J310+J311+J312=0,\"\",J307+J308+J309+J310+J311+J312)","v":""},"名",{"$f":"IF(L307+L308+L309+L310+L311+L312=0,\"\",L307+L308+L309+L310+L311+L312)","v":""},"名",{"$f":"IF(N307+N308+N309+N310+N311+N312=0,\"\",N307+N308+N309+N310+N311+N312)","v":""},"名",{"$f":"IF(P307+P308+P309+P310+P311+P312=0,\"\",P307+P308+P309+P310+P311+P312)","v":""},"名",{"$f":"IF(R307+R308+R309+R310+R311+R312=0,\"\",R307+R308+R309+R310+R311+R312)","v":""},"名",0,"名",null,"←",null,null,"合計",null,null,{"$f":"IF(AC307+AC308+AC309+AC310+AC311+AC312=0,\"\",AC307+AC308+AC309+AC310+AC311+AC312)","v":""},"名",{"$f":"IF(AE307+AE308+AE309+AE310+AE311+AE312=0,\"\",AE307+AE308+AE309+AE310+AE311+AE312)","v":""},"名",{"$f":"IF(AG307+AG308+AG309+AG310+AG311+AG312=0,\"\",AG307+AG308+AG309+AG310+AG311+AG312)","v":""},"名",{"$f":"IF(AI307+AI308+AI309+AI310+AI311+AI312=0,\"\",AI307+AI308+AI309+AI310+AI311+AI312)","v":""},"名",{"$f":"IF(AK307+AK308+AK309+AK310+AK311+AK312=0,\"\",AK307+AK308+AK309+AK310+AK311+AK312)","v":""},"名",{"$f":"IF(AM307+AM308+AM309+AM310+AM311+AM312=0,\"\",AM307+AM308+AM309+AM310+AM311+AM312)","v":""},"名",{"$f":"IF(AO307+AO308+AO309+AO310+AO311+AO312=0,\"\",AO307+AO308+AO309+AO310+AO311+AO312)","v":""},"名",0,"名"]
[null,"非正規（非常勤）","勤続年数",null,null,"1年未満",null,"2年未満",null,"3年未満",null,"4年未満",null,"5年未満",null,"5～10年未満",null,"10年以上",null,"合計",null,null,"←",null,"非正規（非常勤）","勤続年数",null,null,"1年未満",null,"2年未満",null,"3年未満",null,"4年未満",null,"5年未満",null,"5～10年未満",null,"10年以上",null,"合計"]
[null,null,"20歳未満",null,null,null,"名",null,"名",null,"名",null,"名",null,"名",null,"名",null,"名",{"$f":"SUM(F315,H315,J315,L315,N315,P315,R315)","v":0},"名",null,"←",null,null,"20歳未満",null,null,{"$f":"COUNTIFS(集計アシストシート!$D$8:$D$207,\"非正規\",集計アシストシート!$E$8:$E$207,\"男\",集計アシストシート!$G$8:$G$207,\"<20\",集計アシストシート!$J$8:$J$207,\"<12\",集計アシストシート!$I$8:$I$207,\"\")","v":0},"名",{"$f":"COUNTIFS(集計アシストシート!$D$8:$D$207,\"非正規\",集計アシストシート!$E$8:$E$207,\"男\",集計アシストシート!$G$8:$G$207,\"<20\",集計アシストシート!$J$8:$J$207,\">=12\",集計アシストシート!$J$8:$J$207,\"<24\",集計アシストシート!$I$8:$I$207,\"\")","v":0},"名",{"$f":"COUNTIFS(集計アシストシート!$D$8:$D$207,\"非正規\",集計アシストシート!$E$8:$E$207,\"男\",集計アシストシート!$G$8:$G$207,\"<20\",集計アシストシート!$J$8:$J$207,\">=24\",集計アシストシート!$J$8:$J$207,\"<36\",集計アシストシート!$I$8:$I$207,\"\")","v":0},"名",{"$f":"COUNTIFS(集計アシストシート!$D$8:$D$207,\"非正規\",集計アシストシート!$E$8:$E$207,\"男\",集計アシストシート!$G$8:$G$207,\"<20\",集計アシストシート!$J$8:$J$207,\">=36\",集計アシストシート!$J$8:$J$207,\"<48\",集計アシストシート!$I$8:$I$207,\"\")","v":0},"名",{"$f":"COUNTIFS(集計アシストシート!$D$8:$D$207,\"非正規\",集計アシストシート!$E$8:$E$207,\"男\",集計アシストシート!$G$8:$G$207,\"<20\",集計アシストシート!$J$8:$J$207,\">=48\",集計アシストシート!$J$8:$J$207,\"<60\",集計アシストシート!$I$8:$I$207,\"\")","v":0},"名",{"$f":"COUNTIFS(集計アシストシート!$D$8:$D$207,\"非正規\",集計アシストシート!$E$8:$E$207,\"男\",集計アシストシート!$G$8:$G$207,\"<20\",集計アシストシート!$J$8:$J$207,\">=60\",集計アシストシート!$J$8:$J$207,\"<120\",集計アシストシート!$I$8:$I$207,\"\")","v":0},"名",{"$f":"COUNTIFS(集計アシストシート!$D$8:$D$207,\"非正規\",集計アシストシート!$E$8:$E$207,\"男\",集計アシストシート!$G$8:$G$207,\"<20\",集計アシストシート!$J$8:$J$207,\">=120\",集計アシストシート!$I$8:$I$207,\"\")","v":0},"名",{"$f":"SUM(AC315,AE315,AG315,AI315,AK315,AM315,AO315)","v":0},"名"]
[null,null,"20歳代",null,null,null,"名",null,"名",null,"名",null,"名",null,"名",null,"名",null,"名",{"$f":"SUM(F316,H316,J316,L316,N316,P316,R316)","v":0},"名",null,"←",null,null,"20歳代",null,null,{"$f":"COUNTIFS(集計アシストシート!$D$8:$D$207,\"非正規\",集計アシストシート!$E$8:$E$207,\"男\",集計アシストシート!$G$8:$G$207,\">=20\",集計アシストシート!$G$8:$G$207,\"<30\",集計アシストシート!$J$8:$J$207,\"<12\",集計アシストシート!$I$8:$I$207,\"\")","v":0},"名",{"$f":"COUNTIFS(集計アシストシート!$D$8:$D$207,\"非正規\",集計アシストシート!$E$8:$E$207,\"男\",集計アシストシート!$G$8:$G$207,\">=20\",集計アシストシート!$G$8:$G$207,\"<30\",集計アシストシート!$J$8:$J$207,\">=12\",集計アシストシート!$J$8:$J$207,\"<24\",集計アシストシート!$I$8:$I$207,\"\")","v":0},"名",{"$f":"COUNTIFS(集計アシストシート!$D$8:$D$207,\"非正規\",集計アシストシート!$E$8:$E$207,\"男\",集計アシストシート!$G$8:$G$207,\">=20\",集計アシストシート!$G$8:$G$207,\"<30\",集計アシストシート!$J$8:$J$207,\">=24\",集計アシストシート!$J$8:$J$207,\"<36\",集計アシストシート!$I$8:$I$207,\"\")","v":0},"名",{"$f":"COUNTIFS(集計アシストシート!$D$8:$D$207,\"非正規\",集計アシストシート!$E$8:$E$207,\"男\",集計アシストシート!$G$8:$G$207,\">=20\",集計アシストシート!$G$8:$G$207,\"<30\",集計アシストシート!$J$8:$J$207,\">=36\",集計アシストシート!$J$8:$J$207,\"<48\",集計アシストシート!$I$8:$I$207,\"\")","v":0},"名",{"$f":"COUNTIFS(集計アシストシート!$D$8:$D$207,\"非正規\",集計アシストシート!$E$8:$E$207,\"男\",集計アシストシート!$G$8:$G$207,\">=20\",集計アシストシート!$G$8:$G$207,\"<30\",集計アシストシート!$J$8:$J$207,\">=48\",集計アシストシート!$J$8:$J$207,\"<60\",集計アシストシート!$I$8:$I$207,\"\")","v":0},"名",{"$f":"COUNTIFS(集計アシストシート!$D$8:$D$207,\"非正規\",集計アシストシート!$E$8:$E$207,\"男\",集計アシストシート!$G$8:$G$207,\">=20\",集計アシストシート!$G$8:$G$207,\"<30\",集計アシストシート!$J$8:$J$207,\">=60\",集計アシストシート!$J$8:$J$207,\"<120\",集計アシストシート!$I$8:$I$207,\"\")","v":0},"名",{"$f":"COUNTIFS(集計アシストシート!$D$8:$D$207,\"非正規\",集計アシストシート!$E$8:$E$207,\"男\",集計アシストシート!$G$8:$G$207,\">=20\",集計アシストシート!$G$8:$G$207,\"<30\",集計アシストシート!$J$8:$J$207,\">=120\",集計アシストシート!$I$8:$I$207,\"\")","v":0},"名",{"$f":"SUM(AC316,AE316,AG316,AI316,AK316,AM316,AO316)","v":0},"名"]
[null,null,"30歳代",null,null,null,"名",null,"名",null,"名",null,"名",null,"名",null,"名",null,"名",0,"名",null,"←",null,null,"30歳代",null,null,{"$f":"COUNTIFS(集計アシストシート!$D$8:$D$207,\"非正規\",集計アシストシート!$E$8:$E$207,\"男\",集計アシストシート!$G$8:$G$207,\">=30\",集計アシストシート!$G$8:$G$207,\"<40\",集計アシストシート!$J$8:$J$207,\"<12\",集計アシストシート!$I$8:$I$207,\"\")","v":0},"名",{"$f":"COUNTIFS(集計アシストシート!$D$8:$D$207,\"非正規\",集計アシストシート!$E$8:$E$207,\"男\",集計アシストシート!$G$8:$G$207,\">=30\",集計アシストシート!$G$8:$G$207,\"<40\",集計アシストシート!$J$8:$J$207,\">=12\",集計アシストシート!$J$8:$J$207,\"<24\",集計アシストシート!$I$8:$I$207,\"\")","v":0},"名",{"$f":"COUNTIFS(集計アシストシート!$D$8:$D$207,\"非正規\",集計アシストシート!$E$8:$E$207,\"男\",集計アシストシート!$G$8:$G$207,\">=30\",集計アシストシート!$G$8:$G$207,\"<40\",集計アシストシート!$J$8:$J$207,\">=24\",集計アシストシート!$J$8:$J$207,\"<36\",集計アシストシート!$I$8:$I$207,\"\")","v":0},"名",{"$f":"COUNTIFS(集計アシストシート!$D$8:$D$207,\"非正規\",集計アシストシート!$E$8:$E$207,\"男\",集計アシストシート!$G$8:$G$207,\">=30\",集計アシストシート!$G$8:$G$207,\"<40\",集計アシストシート!$J$8:$J$207,\">=36\",集計アシストシート!$J$8:$J$207,\"<48\",集計アシストシート!$I$8:$I$207,\"\")","v":0},"名",{"$f":"COUNTIFS(集計アシストシート!$D$8:$D$207,\"非正規\",集計アシストシート!$E$8:$E$207,\"男\",集計アシストシート!$G$8:$G$207,\">=30\",集計アシストシート!$G$8:$G$207,\"<40\",集計アシストシート!$J$8:$J$207,\">=48\",集計アシストシート!$J$8:$J$207,\"<60\",集計アシストシート!$I$8:$I$207,\"\")","v":0},"名",{"$f":"COUNTIFS(集計アシストシート!$D$8:$D$207,\"非正規\",集計アシストシート!$E$8:$E$207,\"男\",集計アシストシート!$G$8:$G$207,\">=30\",集計アシストシート!$G$8:$G$207,\"<40\",集計アシストシート!$J$8:$J$207,\">=60\",集計アシストシート!$J$8:$J$207,\"<120\",集計アシストシート!$I$8:$I$207,\"\")","v":0},"名",{"$f":"COUNTIFS(集計アシストシート!$D$8:$D$207,\"非正規\",集計アシストシート!$E$8:$E$207,\"男\",集計アシストシート!$G$8:$G$207,\">=30\",集計アシストシート!$G$8:$G$207,\"<40\",集計アシストシート!$J$8:$J$207,\">=120\",集計アシストシート!$I$8:$I$207,\"\")","v":0},"名",0,"名"]
[null,null,"40歳代",null,null,null,"名",null,"名",null,"名",null,"名",null,"名",null,"名",null,"名",0,"名",null,"←",null,null,"40歳代",null,null,{"$f":"COUNTIFS(集計アシストシート!$D$8:$D$207,\"非正規\",集計アシストシート!$E$8:$E$207,\"男\",集計アシストシート!$G$8:$G$207,\">=40\",集計アシストシート!$G$8:$G$207,\"<50\",集計アシストシート!$J$8:$J$207,\"<12\",集計アシストシート!$I$8:$I$207,\"\")","v":0},"名",{"$f":"COUNTIFS(集計アシストシート!$D$8:$D$207,\"非正規\",集計アシストシート!$E$8:$E$207,\"男\",集計アシストシート!$G$8:$G$207,\">=40\",集計アシストシート!$G$8:$G$207,\"<50\",集計アシストシート!$J$8:$J$207,\">=12\",集計アシストシート!$J$8:$J$207,\"<24\",集計アシストシート!$I$8:$I$207,\"\")","v":0},"名",{"$f":"COUNTIFS(集計アシストシート!$D$8:$D$207,\"非正規\",集計アシストシート!$E$8:$E$207,\"男\",集計アシストシート!$G$8:$G$207,\">=40\",集計アシストシート!$G$8:$G$207,\"<50\",集計アシストシート!$J$8:$J$207,\">=24\",集計アシストシート!$J$8:$J$207,\"<36\",集計アシストシート!$I$8:$I$207,\"\")","v":0},"名",{"$f":"COUNTIFS(集計アシストシート!$D$8:$D$207,\"非正規\",集計アシストシート!$E$8:$E$207,\"男\",集計アシストシート!$G$8:$G$207,\">=40\",集計アシストシート!$G$8:$G$207,\"<50\",集計アシストシート!$J$8:$J$207,\">=36\",集計アシストシート!$J$8:$J$207,\"<48\",集計アシストシート!$I$8:$I$207,\"\")","v":0},"名",{"$f":"COUNTIFS(集計アシストシート!$D$8:$D$207,\"非正規\",集計アシストシート!$E$8:$E$207,\"男\",集計アシストシート!$G$8:$G$207,\">=40\",集計アシストシート!$G$8:$G$207,\"<50\",集計アシストシート!$J$8:$J$207,\">=48\",集計アシストシート!$J$8:$J$207,\"<60\",集計アシストシート!$I$8:$I$207,\"\")","v":0},"名",{"$f":"COUNTIFS(集計アシストシート!$D$8:$D$207,\"非正規\",集計アシストシート!$E$8:$E$207,\"男\",集計アシストシート!$G$8:$G$207,\">=40\",集計アシストシート!$G$8:$G$207,\"<50\",集計アシストシート!$J$8:$J$207,\">=60\",集計アシストシート!$J$8:$J$207,\"<120\",集計アシストシート!$I$8:$I$207,\"\")","v":0},"名",{"$f":"COUNTIFS(集計アシストシート!$D$8:$D$207,\"非正規\",集計アシストシート!$E$8:$E$207,\"男\",集計アシストシート!$G$8:$G$207,\">=40\",集計アシストシート!$G$8:$G$207,\"<50\",集計アシストシート!$J$8:$J$207,\">=120\",集計アシストシート!$I$8:$I$207,\"\")","v":0},"名",0,"名"]
[null,null,"50歳代",null,null,null,"名",null,"名",null,"名",null,"名",null,"名",null,"名",null,"名",0,"名",null,"←",null,null,"50歳代",null,null,{"$f":"COUNTIFS(集計アシストシート!$D$8:$D$207,\"非正規\",集計アシストシート!$E$8:$E$207,\"男\",集計アシストシート!$G$8:$G$207,\">=50\",集計アシストシート!$G$8:$G$207,\"<60\",集計アシストシート!$J$8:$J$207,\"<12\",集計アシストシート!$I$8:$I$207,\"\")","v":0},"名",{"$f":"COUNTIFS(集計アシストシート!$D$8:$D$207,\"非正規\",集計アシストシート!$E$8:$E$207,\"男\",集計アシストシート!$G$8:$G$207,\">=50\",集計アシストシート!$G$8:$G$207,\"<60\",集計アシストシート!$J$8:$J$207,\">=12\",集計アシストシート!$J$8:$J$207,\"<24\",集計アシストシート!$I$8:$I$207,\"\")","v":0},"名",{"$f":"COUNTIFS(集計アシストシート!$D$8:$D$207,\"非正規\",集計アシストシート!$E$8:$E$207,\"男\",集計アシストシート!$G$8:$G$207,\">=50\",集計アシストシート!$G$8:$G$207,\"<60\",集計アシストシート!$J$8:$J$207,\">=24\",集計アシストシート!$J$8:$J$207,\"<36\",集計アシストシート!$I$8:$I$207,\"\")","v":0},"名",{"$f":"COUNTIFS(集計アシストシート!$D$8:$D$207,\"非正規\",集計アシストシート!$E$8:$E$207,\"男\",集計アシストシート!$G$8:$G$207,\">=50\",集計アシストシート!$G$8:$G$207,\"<60\",集計アシストシート!$J$8:$J$207,\">=36\",集計アシストシート!$J$8:$J$207,\"<48\",集計アシストシート!$I$8:$I$207,\"\")","v":0},"名",{"$f":"COUNTIFS(集計アシストシート!$D$8:$D$207,\"非正規\",集計アシストシート!$E$8:$E$207,\"男\",集計アシストシート!$G$8:$G$207,\">=50\",集計アシストシート!$G$8:$G$207,\"<60\",集計アシストシート!$J$8:$J$207,\">=48\",集計アシストシート!$J$8:$J$207,\"<60\",集計アシストシート!$I$8:$I$207,\"\")","v":0},"名",{"$f":"COUNTIFS(集計アシストシート!$D$8:$D$207,\"非正規\",集計アシストシート!$E$8:$E$207,\"男\",集計アシストシート!$G$8:$G$207,\">=50\",集計アシストシート!$G$8:$G$207,\"<60\",集計アシストシート!$J$8:$J$207,\">=60\",集計アシストシート!$J$8:$J$207,\"<120\",集計アシストシート!$I$8:$I$207,\"\")","v":0},"名",{"$f":"COUNTIFS(集計アシストシート!$D$8:$D$207,\"非正規\",集計アシストシート!$E$8:$E$207,\"男\",集計アシストシート!$G$8:$G$207,\">=50\",集計アシストシート!$G$8:$G$207,\"<60\",集計アシストシート!$J$8:$J$207,\">=120\",集計アシストシート!$I$8:$I$207,\"\")","v":0},"名",0,"名"]
[null,null,"60歳以上",null,null,null,"名",null,"名",null,"名",null,"名",null,"名",null,"名",null,"名",0,"名",null,"←",null,null,"60歳以上",null,null,{"$f":"COUNTIFS(集計アシストシート!$D$8:$D$207,\"非正規\",集計アシストシート!$E$8:$E$207,\"男\",集計アシストシート!$G$8:$G$207,\">=60\",集計アシストシート!$J$8:$J$207,\"<12\",集計アシストシート!$I$8:$I$207,\"\")","v":0},"名",{"$f":"COUNTIFS(集計アシストシート!$D$8:$D$207,\"非正規\",集計アシストシート!$E$8:$E$207,\"男\",集計アシストシート!$G$8:$G$207,\">=60\",集計アシストシート!$J$8:$J$207,\">=12\",集計アシストシート!$J$8:$J$207,\"<24\",集計アシストシート!$I$8:$I$207,\"\")","v":0},"名",{"$f":"COUNTIFS(集計アシストシート!$D$8:$D$207,\"非正規\",集計アシストシート!$E$8:$E$207,\"男\",集計アシストシート!$G$8:$G$207,\">=60\",集計アシストシート!$J$8:$J$207,\">=24\",集計アシストシート!$J$8:$J$207,\"<36\",集計アシストシート!$I$8:$I$207,\"\")","v":0},"名",{"$f":"COUNTIFS(集計アシストシート!$D$8:$D$207,\"非正規\",集計アシストシート!$E$8:$E$207,\"男\",集計アシストシート!$G$8:$G$207,\">=60\",集計アシストシート!$J$8:$J$207,\">=36\",集計アシストシート!$J$8:$J$207,\"<48\",集計アシストシート!$I$8:$I$207,\"\")","v":0},"名",{"$f":"COUNTIFS(集計アシストシート!$D$8:$D$207,\"非正規\",集計アシストシート!$E$8:$E$207,\"男\",集計アシストシート!$G$8:$G$207,\">=60\",集計アシストシート!$J$8:$J$207,\">=48\",集計アシストシート!$J$8:$J$207,\"<60\",集計アシストシート!$I$8:$I$207,\"\")","v":0},"名",{"$f":"COUNTIFS(集計アシストシート!$D$8:$D$207,\"非正規\",集計アシストシート!$E$8:$E$207,\"男\",集計アシストシート!$G$8:$G$207,\">=60\",集計アシストシート!$J$8:$J$207,\">=60\",集計アシストシート!$J$8:$J$207,\"<120\",集計アシストシート!$I$8:$I$207,\"\")","v":0},"名",{"$f":"COUNTIFS(集計アシストシート!$D$8:$D$207,\"非正規\",集計アシストシート!$E$8:$E$207,\"男\",集計アシストシート!$G$8:$G$207,\">=60\",集計アシストシート!$J$8:$J$207,\">=120\",集計アシストシート!$I$8:$I$207,\"\")","v":0},"名",0,"名"]
[null,null,"合計",null,null,{"$f":"IF(F315+F316+F317+F318+F319+F320=0,\"\",F315+F316+F317+F318+F319+F320)","v":""},"名",{"$f":"IF(H315+H316+H317+H318+H319+H320=0,\"\",H315+H316+H317+H318+H319+H320)","v":""},"名",{"$f":"IF(J315+J316+J317+J318+J319+J320=0,\"\",J315+J316+J317+J318+J319+J320)","v":""},"名",{"$f":"IF(L315+L316+L317+L318+L319+L320=0,\"\",L315+L316+L317+L318+L319+L320)","v":""},"名",{"$f":"IF(N315+N316+N317+N318+N319+N320=0,\"\",N315+N316+N317+N318+N319+N320)","v":""},"名",{"$f":"IF(P315+P316+P317+P318+P319+P320=0,\"\",P315+P316+P317+P318+P319+P320)","v":""},"名",{"$f":"IF(R315+R316+R317+R318+R319+R320=0,\"\",R315+R316+R317+R318+R319+R320)","v":""},"名",0,"名",null,"←",null,null,"合計",null,null,{"$f":"IF(AC315+AC316+AC317+AC318+AC319+AC320=0,\"\",AC315+AC316+AC317+AC318+AC319+AC320)","v":""},"名",{"$f":"IF(AE315+AE316+AE317+AE318+AE319+AE320=0,\"\",AE315+AE316+AE317+AE318+AE319+AE320)","v":""},"名",{"$f":"IF(AG315+AG316+AG317+AG318+AG319+AG320=0,\"\",AG315+AG316+AG317+AG318+AG319+AG320)","v":""},"名",{"$f":"IF(AI315+AI316+AI317+AI318+AI319+AI320=0,\"\",AI315+AI316+AI317+AI318+AI319+AI320)","v":""},"名",{"$f":"IF(AK315+AK316+AK317+AK318+AK319+AK320=0,\"\",AK315+AK316+AK317+AK318+AK319+AK320)","v":""},"名",{"$f":"IF(AM315+AM316+AM317+AM318+AM319+AM320=0,\"\",AM315+AM316+AM317+AM318+AM319+AM320)","v":""},"名",{"$f":"IF(AO315+AO316+AO317+AO318+AO319+AO320=0,\"\",AO315+AO316+AO317+AO318+AO319+AO320)","v":""},"名",0,"名"]
[]
["女性職員","正規（常勤）","勤続年数",null,null,"1年未満",null,"2年未満",null,"3年未満",null,"4年未満",null,"5年未満",null,"5～10年未満",null,"10年以上",null,"合計",null,null,"←","女性職員","正規（常勤）","勤続年数",null,null,"1年未満",null,"2年未満",null,"3年未満",null,"4年未満",null,"5年未満",null,"5～10年未満",null,"10年以上",null,"合計"]
[null,null,"20歳未満",null,null,null,"名",null,"名",null,"名",null,"名",null,"名",null,"名",null,"名",{"$f":"SUM(F324,H324,J324,L324,N324,P324,R324)","v":0},"名",null,"←",null,null,"20歳未満",null,null,{"$f":"COUNTIFS(集計アシストシート!$D$8:$D$207,\"正規\",集計アシストシート!$E$8:$E$207,\"女\",集計アシストシート!$G$8:$G$207,\"<20\",集計アシストシート!$J$8:$J$207,\"<12\",集計アシストシート!$I$8:$I$207,\"\")","v":0},"名",{"$f":"COUNTIFS(集計アシストシート!$D$8:$D$207,\"正規\",集計アシストシート!$E$8:$E$207,\"女\",集計アシストシート!$G$8:$G$207,\"<20\",集計アシストシート!$J$8:$J$207,\">=12\",集計アシストシート!$J$8:$J$207,\"<24\",集計アシストシート!$I$8:$I$207,\"\")","v":0},"名",{"$f":"COUNTIFS(集計アシストシート!$D$8:$D$207,\"正規\",集計アシストシート!$E$8:$E$207,\"女\",集計アシストシート!$G$8:$G$207,\"<20\",集計アシストシート!$J$8:$J$207,\">=24\",集計アシストシート!$J$8:$J$207,\"<36\",集計アシストシート!$I$8:$I$207,\"\")","v":0},"名",{"$f":"COUNTIFS(集計アシストシート!$D$8:$D$207,\"正規\",集計アシストシート!$E$8:$E$207,\"女\",集計アシストシート!$G$8:$G$207,\"<20\",集計アシストシート!$J$8:$J$207,\">=36\",集計アシストシート!$J$8:$J$207,\"<48\",集計アシストシート!$I$8:$I$207,\"\")","v":0},"名",{"$f":"COUNTIFS(集計アシストシート!$D$8:$D$207,\"正規\",集計アシストシート!$E$8:$E$207,\"女\",集計アシストシート!$G$8:$G$207,\"<20\",集計アシストシート!$J$8:$J$207,\">=48\",集計アシストシート!$J$8:$J$207,\"<60\",集計アシストシート!$I$8:$I$207,\"\")","v":0},"名",{"$f":"COUNTIFS(集計アシストシート!$D$8:$D$207,\"正規\",集計アシストシート!$E$8:$E$207,\"女\",集計アシストシート!$G$8:$G$207,\"<20\",集計アシストシート!$J$8:$J$207,\">=60\",集計アシストシート!$J$8:$J$207,\"<120\",集計アシストシート!$I$8:$I$207,\"\")","v":0},"名",{"$f":"COUNTIFS(集計アシストシート!$D$8:$D$207,\"正規\",集計アシストシート!$E$8:$E$207,\"女\",集計アシストシート!$G$8:$G$207,\"<20\",集計アシストシート!$J$8:$J$207,\">=120\",集計アシストシート!$I$8:$I$207,\"\")","v":0},"名",{"$f":"SUM(AC324,AE324,AG324,AI324,AK324,AM324,AO324)","v":0},"名"]
[null,null,"20歳代",null,null,null,"名",null,"名",null,"名",null,"名",null,"名",null,"名",null,"名",{"$f":"SUM(F325,H325,J325,L325,N325,P325,R325)","v":0},"名",null,"←",null,null,"20歳代",null,null,{"$f":"COUNTIFS(集計アシストシート!$D$8:$D$207,\"正規\",集計アシストシート!$E$8:$E$207,\"女\",集計アシストシート!$G$8:$G$207,\">=20\",集計アシストシート!$G$8:$G$207,\"<30\",集計アシストシート!$J$8:$J$207,\"<12\",集計アシストシート!$I$8:$I$207,\"\")","v":0},"名",{"$f":"COUNTIFS(集計アシストシート!$D$8:$D$207,\"正規\",集計アシストシート!$E$8:$E$207,\"女\",集計アシストシート!$G$8:$G$207,\">=20\",集計アシストシート!$G$8:$G$207,\"<30\",集計アシストシート!$J$8:$J$207,\">=12\",集計アシストシート!$J$8:$J$207,\"<24\",集計アシストシート!$I$8:$I$207,\"\")","v":0},"名",{"$f":"COUNTIFS(集計アシストシート!$D$8:$D$207,\"正規\",集計アシストシート!$E$8:$E$207,\"女\",集計アシストシート!$G$8:$G$207,\">=20\",集計アシストシート!$G$8:$G$207,\"<30\",集計アシストシート!$J$8:$J$207,\">=24\",集計アシストシート!$J$8:$J$207,\"<36\",集計アシストシート!$I$8:$I$207,\"\")","v":0},"名",{"$f":"COUNTIFS(集計アシストシート!$D$8:$D$207,\"正規\",集計アシストシート!$E$8:$E$207,\"女\",集計アシストシート!$G$8:$G$207,\">=20\",集計アシストシート!$G$8:$G$207,\"<30\",集計アシストシート!$J$8:$J$207,\">=36\",集計アシストシート!$J$8:$J$207,\"<48\",集計アシストシート!$I$8:$I$207,\"\")","v":0},"名",{"$f":"COUNTIFS(集計アシストシート!$D$8:$D$207,\"正規\",集計アシストシート!$E$8:$E$207,\"女\",集計アシストシート!$G$8:$G$207,\">=20\",集計アシストシート!$G$8:$G$207,\"<30\",集計アシストシート!$J$8:$J$207,\">=48\",集計アシストシート!$J$8:$J$207,\"<60\",集計アシストシート!$I$8:$I$207,\"\")","v":0},"名",{"$f":"COUNTIFS(集計アシストシート!$D$8:$D$207,\"正規\",集計アシストシート!$E$8:$E$207,\"女\",集計アシストシート!$G$8:$G$207,\">=20\",集計アシストシート!$G$8:$G$207,\"<30\",集計アシストシート!$J$8:$J$207,\">=60\",集計アシストシート!$J$8:$J$207,\"<120\",集計アシストシート!$I$8:$I$207,\"\")","v":0},"名",{"$f":"COUNTIFS(集計アシストシート!$D$8:$D$207,\"正規\",集計アシストシート!$E$8:$E$207,\"女\",集計アシストシート!$G$8:$G$207,\">=20\",集計アシストシート!$G$8:$G$207,\"<30\",集計アシストシート!$J$8:$J$207,\">=120\",集計アシストシート!$I$8:$I$207,\"\")","v":0},"名",{"$f":"SUM(AC325,AE325,AG325,AI325,AK325,AM325,AO325)","v":0},"名"]
[null,null,"30歳代",null,null,null,"名",null,"名",null,"名",null,"名",null,"名",null,"名",null,"名",0,"名",null,"←",null,null,"30歳代",null,null,{"$f":"COUNTIFS(集計アシストシート!$D$8:$D$207,\"正規\",集計アシストシート!$E$8:$E$207,\"女\",集計アシストシート!$G$8:$G$207,\">=30\",集計アシストシート!$G$8:$G$207,\"<40\",集計アシストシート!$J$8:$J$207,\"<12\",集計アシストシート!$I$8:$I$207,\"\")","v":0},"名",{"$f":"COUNTIFS(集計アシストシート!$D$8:$D$207,\"正規\",集計アシストシート!$E$8:$E$207,\"女\",集計アシストシート!$G$8:$G$207,\">=30\",集計アシストシート!$G$8:$G$207,\"<40\",集計アシストシート!$J$8:$J$207,\">=12\",集計アシストシート!$J$8:$J$207,\"<24\",集計アシストシート!$I$8:$I$207,\"\")","v":0},"名",{"$f":"COUNTIFS(集計アシストシート!$D$8:$D$207,\"正規\",集計アシストシート!$E$8:$E$207,\"女\",集計アシストシート!$G$8:$G$207,\">=30\",集計アシストシート!$G$8:$G$207,\"<40\",集計アシストシート!$J$8:$J$207,\">=24\",集計アシストシート!$J$8:$J$207,\"<36\",集計アシストシート!$I$8:$I$207,\"\")","v":0},"名",{"$f":"COUNTIFS(集計アシストシート!$D$8:$D$207,\"正規\",集計アシストシート!$E$8:$E$207,\"女\",集計アシストシート!$G$8:$G$207,\">=30\",集計アシストシート!$G$8:$G$207,\"<40\",集計アシストシート!$J$8:$J$207,\">=36\",集計アシストシート!$J$8:$J$207,\"<48\",集計アシストシート!$I$8:$I$207,\"\")","v":0},"名",{"$f":"COUNTIFS(集計アシストシート!$D$8:$D$207,\"正規\",集計アシストシート!$E$8:$E$207,\"女\",集計アシストシート!$G$8:$G$207,\">=30\",集計アシストシート!$G$8:$G$207,\"<40\",集計アシストシート!$J$8:$J$207,\">=48\",集計アシストシート!$J$8:$J$207,\"<60\",集計アシストシート!$I$8:$I$207,\"\")","v":0},"名",{"$f":"COUNTIFS(集計アシストシート!$D$8:$D$207,\"正規\",集計アシストシート!$E$8:$E$207,\"女\",集計アシストシート!$G$8:$G$207,\">=30\",集計アシストシート!$G$8:$G$207,\"<40\",集計アシストシート!$J$8:$J$207,\">=60\",集計アシストシート!$J$8:$J$207,\"<120\",集計アシストシート!$I$8:$I$207,\"\")","v":0},"名",{"$f":"COUNTIFS(集計アシストシート!$D$8:$D$207,\"正規\",集計アシストシート!$E$8:$E$207,\"女\",集計アシストシート!$G$8:$G$207,\">=30\",集計アシストシート!$G$8:$G$207,\"<40\",集計アシストシート!$J$8:$J$207,\">=120\",集計アシストシート!$I$8:$I$207,\"\")","v":0},"名",0,"名"]
[null,null,"40歳代",null,null,null,"名",null,"名",null,"名",null,"名",null,"名",null,"名",null,"名",0,"名",null,"←",null,null,"40歳代",null,null,{"$f":"COUNTIFS(集計アシストシート!$D$8:$D$207,\"正規\",集計アシストシート!$E$8:$E$207,\"女\",集計アシストシート!$G$8:$G$207,\">=40\",集計アシストシート!$G$8:$G$207,\"<50\",集計アシストシート!$J$8:$J$207,\"<12\",集計アシストシート!$I$8:$I$207,\"\")","v":0},"名",{"$f":"COUNTIFS(集計アシストシート!$D$8:$D$207,\"正規\",集計アシストシート!$E$8:$E$207,\"女\",集計アシストシート!$G$8:$G$207,\">=40\",集計アシストシート!$G$8:$G$207,\"<50\",集計アシストシート!$J$8:$J$207,\">=12\",集計アシストシート!$J$8:$J$207,\"<24\",集計アシストシート!$I$8:$I$207,\"\")","v":0},"名",{"$f":"COUNTIFS(集計アシストシート!$D$8:$D$207,\"正規\",集計アシストシート!$E$8:$E$207,\"女\",集計アシストシート!$G$8:$G$207,\">=40\",集計アシストシート!$G$8:$G$207,\"<50\",集計アシストシート!$J$8:$J$207,\">=24\",集計アシストシート!$J$8:$J$207,\"<36\",集計アシストシート!$I$8:$I$207,\"\")","v":0},"名",{"$f":"COUNTIFS(集計アシストシート!$D$8:$D$207,\"正規\",集計アシストシート!$E$8:$E$207,\"女\",集計アシストシート!$G$8:$G$207,\">=40\",集計アシストシート!$G$8:$G$207,\"<50\",集計アシストシート!$J$8:$J$207,\">=36\",集計アシストシート!$J$8:$J$207,\"<48\",集計アシストシート!$I$8:$I$207,\"\")","v":0},"名",{"$f":"COUNTIFS(集計アシストシート!$D$8:$D$207,\"正規\",集計アシストシート!$E$8:$E$207,\"女\",集計アシストシート!$G$8:$G$207,\">=40\",集計アシストシート!$G$8:$G$207,\"<50\",集計アシストシート!$J$8:$J$207,\">=48\",集計アシストシート!$J$8:$J$207,\"<60\",集計アシストシート!$I$8:$I$207,\"\")","v":0},"名",{"$f":"COUNTIFS(集計アシストシート!$D$8:$D$207,\"正規\",集計アシストシート!$E$8:$E$207,\"女\",集計アシストシート!$G$8:$G$207,\">=40\",集計アシストシート!$G$8:$G$207,\"<50\",集計アシストシート!$J$8:$J$207,\">=60\",集計アシストシート!$J$8:$J$207,\"<120\",集計アシストシート!$I$8:$I$207,\"\")","v":0},"名",{"$f":"COUNTIFS(集計アシストシート!$D$8:$D$207,\"正規\",集計アシストシート!$E$8:$E$207,\"女\",集計アシストシート!$G$8:$G$207,\">=40\",集計アシストシート!$G$8:$G$207,\"<50\",集計アシストシート!$J$8:$J$207,\">=120\",集計アシストシート!$I$8:$I$207,\"\")","v":0},"名",0,"名"]
[null,null,"50歳代",null,null,null,"名",null,"名",null,"名",null,"名",null,"名",null,"名",null,"名",0,"名",null,"←",null,null,"50歳代",null,null,{"$f":"COUNTIFS(集計アシストシート!$D$8:$D$207,\"正規\",集計アシストシート!$E$8:$E$207,\"女\",集計アシストシート!$G$8:$G$207,\">=50\",集計アシストシート!$G$8:$G$207,\"<60\",集計アシストシート!$J$8:$J$207,\"<12\",集計アシストシート!$I$8:$I$207,\"\")","v":0},"名",{"$f":"COUNTIFS(集計アシストシート!$D$8:$D$207,\"正規\",集計アシストシート!$E$8:$E$207,\"女\",集計アシストシート!$G$8:$G$207,\">=50\",集計アシストシート!$G$8:$G$207,\"<60\",集計アシストシート!$J$8:$J$207,\">=12\",集計アシストシート!$J$8:$J$207,\"<24\",集計アシストシート!$I$8:$I$207,\"\")","v":0},"名",{"$f":"COUNTIFS(集計アシストシート!$D$8:$D$207,\"正規\",集計アシストシート!$E$8:$E$207,\"女\",集計アシストシート!$G$8:$G$207,\">=50\",集計アシストシート!$G$8:$G$207,\"<60\",集計アシストシート!$J$8:$J$207,\">=24\",集計アシストシート!$J$8:$J$207,\"<36\",集計アシストシート!$I$8:$I$207,\"\")","v":0},"名",{"$f":"COUNTIFS(集計アシストシート!$D$8:$D$207,\"正規\",集計アシストシート!$E$8:$E$207,\"女\",集計アシストシート!$G$8:$G$207,\">=50\",集計アシストシート!$G$8:$G$207,\"<60\",集計アシストシート!$J$8:$J$207,\">=36\",集計アシストシート!$J$8:$J$207,\"<48\",集計アシストシート!$I$8:$I$207,\"\")","v":0},"名",{"$f":"COUNTIFS(集計アシストシート!$D$8:$D$207,\"正規\",集計アシストシート!$E$8:$E$207,\"女\",集計アシストシート!$G$8:$G$207,\">=50\",集計アシストシート!$G$8:$G$207,\"<60\",集計アシストシート!$J$8:$J$207,\">=48\",集計アシストシート!$J$8:$J$207,\"<60\",集計アシストシート!$I$8:$I$207,\"\")","v":0},"名",{"$f":"COUNTIFS(集計アシストシート!$D$8:$D$207,\"正規\",集計アシストシート!$E$8:$E$207,\"女\",集計アシストシート!$G$8:$G$207,\">=50\",集計アシストシート!$G$8:$G$207,\"<60\",集計アシストシート!$J$8:$J$207,\">=60\",集計アシストシート!$J$8:$J$207,\"<120\",集計アシストシート!$I$8:$I$207,\"\")","v":0},"名",{"$f":"COUNTIFS(集計アシストシート!$D$8:$D$207,\"正規\",集計アシストシート!$E$8:$E$207,\"女\",集計アシストシート!$G$8:$G$207,\">=50\",集計アシストシート!$G$8:$G$207,\"<60\",集計アシストシート!$J$8:$J$207,\">=120\",集計アシストシート!$I$8:$I$207,\"\")","v":0},"名",0,"名"]
[null,null,"60歳以上",null,null,null,"名",null,"名",null,"名",null,"名",null,"名",null,"名",null,"名",0,"名",null,"←",null,null,"60歳以上",null,null,{"$f":"COUNTIFS(集計アシストシート!$D$8:$D$207,\"正規\",集計アシストシート!$E$8:$E$207,\"女\",集計アシストシート!$G$8:$G$207,\">=60\",集計アシストシート!$J$8:$J$207,\"<12\",集計アシストシート!$I$8:$I$207,\"\")","v":0},"名",{"$f":"COUNTIFS(集計アシストシート!$D$8:$D$207,\"正規\",集計アシストシート!$E$8:$E$207,\"女\",集計アシストシート!$G$8:$G$207,\">=60\",集計アシストシート!$J$8:$J$207,\">=12\",集計アシストシート!$J$8:$J$207,\"<24\",集計アシストシート!$I$8:$I$207,\"\")","v":0},"名",{"$f":"COUNTIFS(集計アシストシート!$D$8:$D$207,\"正規\",集計アシストシート!$E$8:$E$207,\"女\",集計アシストシート!$G$8:$G$207,\">=60\",集計アシストシート!$J$8:$J$207,\">=24\",集計アシストシート!$J$8:$J$207,\"<36\",集計アシストシート!$I$8:$I$207,\"\")","v":0},"名",{"$f":"COUNTIFS(集計アシストシート!$D$8:$D$207,\"正規\",集計アシストシート!$E$8:$E$207,\"女\",集計アシストシート!$G$8:$G$207,\">=60\",集計アシストシート!$J$8:$J$207,\">=36\",集計アシストシート!$J$8:$J$207,\"<48\",集計アシストシート!$I$8:$I$207,\"\")","v":0},"名",{"$f":"COUNTIFS(集計アシストシート!$D$8:$D$207,\"正規\",集計アシストシート!$E$8:$E$207,\"女\",集計アシストシート!$G$8:$G$207,\">=60\",集計アシストシート!$J$8:$J$207,\">=48\",集計アシストシート!$J$8:$J$207,\"<60\",集計アシストシート!$I$8:$I$207,\"\")","v":0},"名",{"$f":"COUNTIFS(集計アシストシート!$D$8:$D$207,\"正規\",集計アシストシート!$E$8:$E$207,\"女\",集計アシストシート!$G$8:$G$207,\">=60\",集計アシストシート!$J$8:$J$207,\">=60\",集計アシストシート!$J$8:$J$207,\"<120\",集計アシストシート!$I$8:$I$207,\"\")","v":0},"名",{"$f":"COUNTIFS(集計アシストシート!$D$8:$D$207,\"正規\",集計アシストシート!$E$8:$E$207,\"女\",集計アシストシート!$G$8:$G$207,\">=60\",集計アシストシート!$J$8:$J$207,\">=120\",集計アシストシート!$I$8:$I$207,\"\")","v":0},"名",0,"名"]
[null,null,"合計",null,null,{"$f":"IF(F324+F325+F326+F327+F328+F329=0,\"\",F324+F325+F326+F327+F328+F329)","v":""},"名",{"$f":"IF(H324+H325+H326+H327+H328+H329=0,\"\",H324+H325+H326+H327+H328+H329)","v":""},"名",{"$f":"IF(J324+J325+J326+J327+J328+J329=0,\"\",J324+J325+J326+J327+J328+J329)","v":""},"名",{"$f":"IF(L324+L325+L326+L327+L328+L329=0,\"\",L324+L325+L326+L327+L328+L329)","v":""},"名",{"$f":"IF(N324+N325+N326+N327+N328+N329=0,\"\",N324+N325+N326+N327+N328+N329)","v":""},"名",{"$f":"IF(P324+P325+P326+P327+P328+P329=0,\"\",P324+P325+P326+P327+P328+P329)","v":""},"名",{"$f":"IF(R324+R325+R326+R327+R328+R329=0,\"\",R324+R325+R326+R327+R328+R329)","v":""},"名",0,"名",null,"←",null,null,"合計",null,null,{"$f":"IF(AC324+AC325+AC326+AC327+AC328+AC329=0,\"\",AC324+AC325+AC326+AC327+AC328+AC329)","v":""},"名",{"$f":"IF(AE324+AE325+AE326+AE327+AE328+AE329=0,\"\",AE324+AE325+AE326+AE327+AE328+AE329)","v":""},"名",{"$f":"IF(AG324+AG325+AG326+AG327+AG328+AG329=0,\"\",AG324+AG325+AG326+AG327+AG328+AG329)","v":""},"名",{"$f":"IF(AI324+AI325+AI326+AI327+AI328+AI329=0,\"\",AI324+AI325+AI326+AI327+AI328+AI329)","v":""},"名",{"$f":"IF(AK324+AK325+AK326+AK327+AK328+AK329=0,\"\",AK324+AK325+AK326+AK327+AK328+AK329)","v":""},"名",{"$f":"IF(AM324+AM325+AM326+AM327+AM328+AM329=0,\"\",AM324+AM325+AM326+AM327+AM328+AM329)","v":""},"名",{"$f":"IF(AO324+AO325+AO326+AO327+AO328+AO329=0,\"\",AO324+AO325+AO326+AO327+AO328+AO329)","v":""},"名",0,"名"]
[null,"非正規（非常勤）","勤続年数",null,null,"1年未満",null,"2年未満",null,"3年未満",null,"4年未満",null,"5年未満",null,"5～10年未満",null,"10年以上",null,"合計",null,null,"←",null,"非正規（非常勤）","勤続年数",null,null,"1年未満",null,"2年未満",null,"3年未満",null,"4年未満",null,"5年未満",null,"5～10年未満",null,"10年以上",null,"合計"]
[null,null,"20歳未満",null,null,null,"名",null,"名",null,"名",null,"名",null,"名",null,"名",null,"名",{"$f":"SUM(F332,H332,J332,L332,N332,P332,R332)","v":0},"名",null,"←",null,null,"20歳未満",null,null,{"$f":"COUNTIFS(集計アシストシート!$D$8:$D$207,\"非正規\",集計アシストシート!$E$8:$E$207,\"女\",集計アシストシート!$G$8:$G$207,\"<20\",集計アシストシート!$J$8:$J$207,\"<12\",集計アシストシート!$I$8:$I$207,\"\")","v":0},"名",{"$f":"COUNTIFS(集計アシストシート!$D$8:$D$207,\"非正規\",集計アシストシート!$E$8:$E$207,\"女\",集計アシストシート!$G$8:$G$207,\"<20\",集計アシストシート!$J$8:$J$207,\">=12\",集計アシストシート!$J$8:$J$207,\"<24\",集計アシストシート!$I$8:$I$207,\"\")","v":0},"名",{"$f":"COUNTIFS(集計アシストシート!$D$8:$D$207,\"非正規\",集計アシストシート!$E$8:$E$207,\"女\",集計アシストシート!$G$8:$G$207,\"<20\",集計アシストシート!$J$8:$J$207,\">=24\",集計アシストシート!$J$8:$J$207,\"<36\",集計アシストシート!$I$8:$I$207,\"\")","v":0},"名",{"$f":"COUNTIFS(集計アシストシート!$D$8:$D$207,\"非正規\",集計アシストシート!$E$8:$E$207,\"女\",集計アシストシート!$G$8:$G$207,\"<20\",集計アシストシート!$J$8:$J$207,\">=36\",集計アシストシート!$J$8:$J$207,\"<48\",集計アシストシート!$I$8:$I$207,\"\")","v":0},"名",{"$f":"COUNTIFS(集計アシストシート!$D$8:$D$207,\"非正規\",集計アシストシート!$E$8:$E$207,\"女\",集計アシストシート!$G$8:$G$207,\"<20\",集計アシストシート!$J$8:$J$207,\">=48\",集計アシストシート!$J$8:$J$207,\"<60\",集計アシストシート!$I$8:$I$207,\"\")","v":0},"名",{"$f":"COUNTIFS(集計アシストシート!$D$8:$D$207,\"非正規\",集計アシストシート!$E$8:$E$207,\"女\",集計アシストシート!$G$8:$G$207,\"<20\",集計アシストシート!$J$8:$J$207,\">=60\",集計アシストシート!$J$8:$J$207,\"<120\",集計アシストシート!$I$8:$I$207,\"\")","v":0},"名",{"$f":"COUNTIFS(集計アシストシート!$D$8:$D$207,\"非正規\",集計アシストシート!$E$8:$E$207,\"女\",集計アシストシート!$G$8:$G$207,\"<20\",集計アシストシート!$J$8:$J$207,\">=120\",集計アシストシート!$I$8:$I$207,\"\")","v":0},"名",{"$f":"SUM(AC332,AE332,AG332,AI332,AK332,AM332,AO332)","v":0},"名"]
[null,null,"20歳代",null,null,null,"名",null,"名",null,"名",null,"名",null,"名",null,"名",null,"名",{"$f":"SUM(F333,H333,J333,L333,N333,P333,R333)","v":0},"名",null,"←",null,null,"20歳代",null,null,{"$f":"COUNTIFS(集計アシストシート!$D$8:$D$207,\"非正規\",集計アシストシート!$E$8:$E$207,\"女\",集計アシストシート!$G$8:$G$207,\">=20\",集計アシストシート!$G$8:$G$207,\"<30\",集計アシストシート!$J$8:$J$207,\"<12\",集計アシストシート!$I$8:$I$207,\"\")","v":0},"名",{"$f":"COUNTIFS(集計アシストシート!$D$8:$D$207,\"非正規\",集計アシストシート!$E$8:$E$207,\"女\",集計アシストシート!$G$8:$G$207,\">=20\",集計アシストシート!$G$8:$G$207,\"<30\",集計アシストシート!$J$8:$J$207,\">=12\",集計アシストシート!$J$8:$J$207,\"<24\",集計アシストシート!$I$8:$I$207,\"\")","v":0},"名",{"$f":"COUNTIFS(集計アシストシート!$D$8:$D$207,\"非正規\",集計アシストシート!$E$8:$E$207,\"女\",集計アシストシート!$G$8:$G$207,\">=20\",集計アシストシート!$G$8:$G$207,\"<30\",集計アシストシート!$J$8:$J$207,\">=24\",集計アシストシート!$J$8:$J$207,\"<36\",集計アシストシート!$I$8:$I$207,\"\")","v":0},"名",{"$f":"COUNTIFS(集計アシストシート!$D$8:$D$207,\"非正規\",集計アシストシート!$E$8:$E$207,\"女\",集計アシストシート!$G$8:$G$207,\">=20\",集計アシストシート!$G$8:$G$207,\"<30\",集計アシストシート!$J$8:$J$207,\">=36\",集計アシストシート!$J$8:$J$207,\"<48\",集計アシストシート!$I$8:$I$207,\"\")","v":0},"名",{"$f":"COUNTIFS(集計アシストシート!$D$8:$D$207,\"非正規\",集計アシストシート!$E$8:$E$207,\"女\",集計アシストシート!$G$8:$G$207,\">=20\",集計アシストシート!$G$8:$G$207,\"<30\",集計アシストシート!$J$8:$J$207,\">=48\",集計アシストシート!$J$8:$J$207,\"<60\",集計アシストシート!$I$8:$I$207,\"\")","v":0},"名",{"$f":"COUNTIFS(集計アシストシート!$D$8:$D$207,\"非正規\",集計アシストシート!$E$8:$E$207,\"女\",集計アシストシート!$G$8:$G$207,\">=20\",集計アシストシート!$G$8:$G$207,\"<30\",集計アシストシート!$J$8:$J$207,\">=60\",集計アシストシート!$J$8:$J$207,\"<120\",集計アシストシート!$I$8:$I$207,\"\")","v":0},"名",{"$f":"COUNTIFS(集計アシストシート!$D$8:$D$207,\"非正規\",集計アシストシート!$E$8:$E$207,\"女\",集計アシストシート!$G$8:$G$207,\">=20\",集計アシストシート!$G$8:$G$207,\"<30\",集計アシストシート!$J$8:$J$207,\">=120\",集計アシストシート!$I$8:$I$207,\"\")","v":0},"名",{"$f":"SUM(AC333,AE333,AG333,AI333,AK333,AM333,AO333)","v":0},"名"]
[null,null,"30歳代",null,null,null,"名",null,"名",null,"名",null,"名",null,"名",null,"名",null,"名",0,"名",null,"←",null,null,"30歳代",null,null,{"$f":"COUNTIFS(集計アシストシート!$D$8:$D$207,\"非正規\",集計アシストシート!$E$8:$E$207,\"女\",集計アシストシート!$G$8:$G$207,\">=30\",集計アシストシート!$G$8:$G$207,\"<40\",集計アシストシート!$J$8:$J$207,\"<12\",集計アシストシート!$I$8:$I$207,\"\")","v":0},"名",{"$f":"COUNTIFS(集計アシストシート!$D$8:$D$207,\"非正規\",集計アシストシート!$E$8:$E$207,\"女\",集計アシストシート!$G$8:$G$207,\">=30\",集計アシストシート!$G$8:$G$207,\"<40\",集計アシストシート!$J$8:$J$207,\">=12\",集計アシストシート!$J$8:$J$207,\"<24\",集計アシストシート!$I$8:$I$207,\"\")","v":0},"名",{"$f":"COUNTIFS(集計アシストシート!$D$8:$D$207,\"非正規\",集計アシストシート!$E$8:$E$207,\"女\",集計アシストシート!$G$8:$G$207,\">=30\",集計アシストシート!$G$8:$G$207,\"<40\",集計アシストシート!$J$8:$J$207,\">=24\",集計アシストシート!$J$8:$J$207,\"<36\",集計アシストシート!$I$8:$I$207,\"\")","v":0},"名",{"$f":"COUNTIFS(集計アシストシート!$D$8:$D$207,\"非正規\",集計アシストシート!$E$8:$E$207,\"女\",集計アシストシート!$G$8:$G$207,\">=30\",集計アシストシート!$G$8:$G$207,\"<40\",集計アシストシート!$J$8:$J$207,\">=36\",集計アシストシート!$J$8:$J$207,\"<48\",集計アシストシート!$I$8:$I$207,\"\")","v":0},"名",{"$f":"COUNTIFS(集計アシストシート!$D$8:$D$207,\"非正規\",集計アシストシート!$E$8:$E$207,\"女\",集計アシストシート!$G$8:$G$207,\">=30\",集計アシストシート!$G$8:$G$207,\"<40\",集計アシストシート!$J$8:$J$207,\">=48\",集計アシストシート!$J$8:$J$207,\"<60\",集計アシストシート!$I$8:$I$207,\"\")","v":0},"名",{"$f":"COUNTIFS(集計アシストシート!$D$8:$D$207,\"非正規\",集計アシストシート!$E$8:$E$207,\"女\",集計アシストシート!$G$8:$G$207,\">=30\",集計アシストシート!$G$8:$G$207,\"<40\",集計アシストシート!$J$8:$J$207,\">=60\",集計アシストシート!$J$8:$J$207,\"<120\",集計アシストシート!$I$8:$I$207,\"\")","v":0},"名",{"$f":"COUNTIFS(集計アシストシート!$D$8:$D$207,\"非正規\",集計アシストシート!$E$8:$E$207,\"女\",集計アシストシート!$G$8:$G$207,\">=30\",集計アシストシート!$G$8:$G$207,\"<40\",集計アシストシート!$J$8:$J$207,\">=120\",集計アシストシート!$I$8:$I$207,\"\")","v":0},"名",0,"名"]
[null,null,"40歳代",null,null,null,"名",null,"名",null,"名",null,"名",null,"名",null,"名",null,"名",0,"名",null,"←",null,null,"40歳代",null,null,{"$f":"COUNTIFS(集計アシストシート!$D$8:$D$207,\"非正規\",集計アシストシート!$E$8:$E$207,\"女\",集計アシストシート!$G$8:$G$207,\">=40\",集計アシストシート!$G$8:$G$207,\"<50\",集計アシストシート!$J$8:$J$207,\"<12\",集計アシストシート!$I$8:$I$207,\"\")","v":0},"名",{"$f":"COUNTIFS(集計アシストシート!$D$8:$D$207,\"非正規\",集計アシストシート!$E$8:$E$207,\"女\",集計アシストシート!$G$8:$G$207,\">=40\",集計アシストシート!$G$8:$G$207,\"<50\",集計アシストシート!$J$8:$J$207,\">=12\",集計アシストシート!$J$8:$J$207,\"<24\",集計アシストシート!$I$8:$I$207,\"\")","v":0},"名",{"$f":"COUNTIFS(集計アシストシート!$D$8:$D$207,\"非正規\",集計アシストシート!$E$8:$E$207,\"女\",集計アシストシート!$G$8:$G$207,\">=40\",集計アシストシート!$G$8:$G$207,\"<50\",集計アシストシート!$J$8:$J$207,\">=24\",集計アシストシート!$J$8:$J$207,\"<36\",集計アシストシート!$I$8:$I$207,\"\")","v":0},"名",{"$f":"COUNTIFS(集計アシストシート!$D$8:$D$207,\"非正規\",集計アシストシート!$E$8:$E$207,\"女\",集計アシストシート!$G$8:$G$207,\">=40\",集計アシストシート!$G$8:$G$207,\"<50\",集計アシストシート!$J$8:$J$207,\">=36\",集計アシストシート!$J$8:$J$207,\"<48\",集計アシストシート!$I$8:$I$207,\"\")","v":0},"名",{"$f":"COUNTIFS(集計アシストシート!$D$8:$D$207,\"非正規\",集計アシストシート!$E$8:$E$207,\"女\",集計アシストシート!$G$8:$G$207,\">=40\",集計アシストシート!$G$8:$G$207,\"<50\",集計アシストシート!$J$8:$J$207,\">=48\",集計アシストシート!$J$8:$J$207,\"<60\",集計アシストシート!$I$8:$I$207,\"\")","v":0},"名",{"$f":"COUNTIFS(集計アシストシート!$D$8:$D$207,\"非正規\",集計アシストシート!$E$8:$E$207,\"女\",集計アシストシート!$G$8:$G$207,\">=40\",集計アシストシート!$G$8:$G$207,\"<50\",集計アシストシート!$J$8:$J$207,\">=60\",集計アシストシート!$J$8:$J$207,\"<120\",集計アシストシート!$I$8:$I$207,\"\")","v":0},"名",{"$f":"COUNTIFS(集計アシストシート!$D$8:$D$207,\"非正規\",集計アシストシート!$E$8:$E$207,\"女\",集計アシストシート!$G$8:$G$207,\">=40\",集計アシストシート!$G$8:$G$207,\"<50\",集計アシストシート!$J$8:$J$207,\">=120\",集計アシストシート!$I$8:$I$207,\"\")","v":0},"名",0,"名"]
[null,null,"50歳代",null,null,null,"名",null,"名",null,"名",null,"名",null,"名",null,"名",null,"名",0,"名",null,"←",null,null,"50歳代",null,null,{"$f":"COUNTIFS(集計アシストシート!$D$8:$D$207,\"非正規\",集計アシストシート!$E$8:$E$207,\"女\",集計アシストシート!$G$8:$G$207,\">=50\",集計アシストシート!$G$8:$G$207,\"<60\",集計アシストシート!$J$8:$J$207,\"<12\",集計アシストシート!$I$8:$I$207,\"\")","v":0},"名",{"$f":"COUNTIFS(集計アシストシート!$D$8:$D$207,\"非正規\",集計アシストシート!$E$8:$E$207,\"女\",集計アシストシート!$G$8:$G$207,\">=50\",集計アシストシート!$G$8:$G$207,\"<60\",集計アシストシート!$J$8:$J$207,\">=12\",集計アシストシート!$J$8:$J$207,\"<24\",集計アシストシート!$I$8:$I$207,\"\")","v":0},"名",{"$f":"COUNTIFS(集計アシストシート!$D$8:$D$207,\"非正規\",集計アシストシート!$E$8:$E$207,\"女\",集計アシストシート!$G$8:$G$207,\">=50\",集計アシストシート!$G$8:$G$207,\"<60\",集計アシストシート!$J$8:$J$207,\">=24\",集計アシストシート!$J$8:$J$207,\"<36\",集計アシストシート!$I$8:$I$207,\"\")","v":0},"名",{"$f":"COUNTIFS(集計アシストシート!$D$8:$D$207,\"非正規\",集計アシストシート!$E$8:$E$207,\"女\",集計アシストシート!$G$8:$G$207,\">=50\",集計アシストシート!$G$8:$G$207,\"<60\",集計アシストシート!$J$8:$J$207,\">=36\",集計アシストシート!$J$8:$J$207,\"<48\",集計アシストシート!$I$8:$I$207,\"\")","v":0},"名",{"$f":"COUNTIFS(集計アシストシート!$D$8:$D$207,\"非正規\",集計アシストシート!$E$8:$E$207,\"女\",集計アシストシート!$G$8:$G$207,\">=50\",集計アシストシート!$G$8:$G$207,\"<60\",集計アシストシート!$J$8:$J$207,\">=48\",集計アシストシート!$J$8:$J$207,\"<60\",集計アシストシート!$I$8:$I$207,\"\")","v":0},"名",{"$f":"COUNTIFS(集計アシストシート!$D$8:$D$207,\"非正規\",集計アシストシート!$E$8:$E$207,\"女\",集計アシストシート!$G$8:$G$207,\">=50\",集計アシストシート!$G$8:$G$207,\"<60\",集計アシストシート!$J$8:$J$207,\">=60\",集計アシストシート!$J$8:$J$207,\"<120\",集計アシストシート!$I$8:$I$207,\"\")","v":0},"名",{"$f":"COUNTIFS(集計アシストシート!$D$8:$D$207,\"非正規\",集計アシストシート!$E$8:$E$207,\"女\",集計アシストシート!$G$8:$G$207,\">=50\",集計アシストシート!$G$8:$G$207,\"<60\",集計アシストシート!$J$8:$J$207,\">=120\",集計アシストシート!$I$8:$I$207,\"\")","v":0},"名",0,"名"]
[null,null,"60歳以上",null,null,null,"名",null,"名",null,"名",null,"名",null,"名",null,"名",null,"名",0,"名",null,"←",null,null,"60歳以上",null,null,{"$f":"COUNTIFS(集計アシストシート!$D$8:$D$207,\"非正規\",集計アシストシート!$E$8:$E$207,\"女\",集計アシストシート!$G$8:$G$207,\">=60\",集計アシストシート!$J$8:$J$207,\"<12\",集計アシストシート!$I$8:$I$207,\"\")","v":0},"名",{"$f":"COUNTIFS(集計アシストシート!$D$8:$D$207,\"非正規\",集計アシストシート!$E$8:$E$207,\"女\",集計アシストシート!$G$8:$G$207,\">=60\",集計アシストシート!$J$8:$J$207,\">=12\",集計アシストシート!$J$8:$J$207,\"<24\",集計アシストシート!$I$8:$I$207,\"\")","v":0},"名",{"$f":"COUNTIFS(集計アシストシート!$D$8:$D$207,\"非正規\",集計アシストシート!$E$8:$E$207,\"女\",集計アシストシート!$G$8:$G$207,\">=60\",集計アシストシート!$J$8:$J$207,\">=24\",集計アシストシート!$J$8:$J$207,\"<36\",集計アシストシート!$I$8:$I$207,\"\")","v":0},"名",{"$f":"COUNTIFS(集計アシストシート!$D$8:$D$207,\"非正規\",集計アシストシート!$E$8:$E$207,\"女\",集計アシストシート!$G$8:$G$207,\">=60\",集計アシストシート!$J$8:$J$207,\">=36\",集計アシストシート!$J$8:$J$207,\"<48\",集計アシストシート!$I$8:$I$207,\"\")","v":0},"名",{"$f":"COUNTIFS(集計アシストシート!$D$8:$D$207,\"非正規\",集計アシストシート!$E$8:$E$207,\"女\",集計アシストシート!$G$8:$G$207,\">=60\",集計アシストシート!$J$8:$J$207,\">=48\",集計アシストシート!$J$8:$J$207,\"<60\",集計アシストシート!$I$8:$I$207,\"\")","v":0},"名",{"$f":"COUNTIFS(集計アシストシート!$D$8:$D$207,\"非正規\",集計アシストシート!$E$8:$E$207,\"女\",集計アシストシート!$G$8:$G$207,\">=60\",集計アシストシート!$J$8:$J$207,\">=60\",集計アシストシート!$J$8:$J$207,\"<120\",集計アシストシート!$I$8:$I$207,\"\")","v":0},"名",{"$f":"COUNTIFS(集計アシストシート!$D$8:$D$207,\"非正規\",集計アシストシート!$E$8:$E$207,\"女\",集計アシストシート!$G$8:$G$207,\">=60\",集計アシストシート!$J$8:$J$207,\">=120\",集計アシストシート!$I$8:$I$207,\"\")","v":0},"名",0,"名"]
[null,null,"合計",null,null,{"$f":"IF(F332+F333+F334+F335+F336+F337=0,\"\",F332+F333+F334+F335+F336+F337)","v":""},"名",{"$f":"IF(H332+H333+H334+H335+H336+H337=0,\"\",H332+H333+H334+H335+H336+H337)","v":""},"名",{"$f":"IF(J332+J333+J334+J335+J336+J337=0,\"\",J332+J333+J334+J335+J336+J337)","v":""},"名",{"$f":"IF(L332+L333+L334+L335+L336+L337=0,\"\",L332+L333+L334+L335+L336+L337)","v":""},"名",{"$f":"IF(N332+N333+N334+N335+N336+N337=0,\"\",N332+N333+N334+N335+N336+N337)","v":""},"名",{"$f":"IF(P332+P333+P334+P335+P336+P337=0,\"\",P332+P333+P334+P335+P336+P337)","v":""},"名",{"$f":"IF(R332+R333+R334+R335+R336+R337=0,\"\",R332+R333+R334+R335+R336+R337)","v":""},"名",0,"名",null,"←",null,null,"合計",null,null,{"$f":"IF(AC332+AC333+AC334+AC335+AC336+AC337=0,\"\",AC332+AC333+AC334+AC335+AC336+AC337)","v":""},"名",{"$f":"IF(AE332+AE333+AE334+AE335+AE336+AE337=0,\"\",AE332+AE333+AE334+AE335+AE336+AE337)","v":""},"名",{"$f":"IF(AG332+AG333+AG334+AG335+AG336+AG337=0,\"\",AG332+AG333+AG334+AG335+AG336+AG337)","v":""},"名",{"$f":"IF(AI332+AI333+AI334+AI335+AI336+AI337=0,\"\",AI332+AI333+AI334+AI335+AI336+AI337)","v":""},"名",{"$f":"IF(AK332+AK333+AK334+AK335+AK336+AK337=0,\"\",AK332+AK333+AK334+AK335+AK336+AK337)","v":""},"名",{"$f":"IF(AM332+AM333+AM334+AM335+AM336+AM337=0,\"\",AM332+AM333+AM334+AM335+AM336+AM337)","v":""},"名",{"$f":"IF(AO332+AO333+AO334+AO335+AO336+AO337=0,\"\",AO332+AO333+AO334+AO335+AO336+AO337)","v":""},"名",0,"名"]
[]
[]
["22.外国人介護職員の受入状況"]
["●","平成29年度の貴施設の外国人介護職員の受入人数を記載してください。"]
[null,null,null,null,null,null,null,"人数"]
[null,"日本在住の外国人介護職員"]
[null,"介護福祉士候補生（EPA)"]
[null,"留学生（外国人専門派遣職員含む）"]
[null,"合計",null,null,null,null,null,{"$f":"SUM(H344:I346)","v":0},null,"（名）"]
[]
["23.高齢年齢者雇用安定法への対応（継続雇用制度への対応について）"]
["●","貴法人の継続雇用制度への対応方法について、選択してください。"]
[]
["●","就業規則等で定めのある貴法人の定年年齢を選択してください。"]
[null,null,null,"歳"]
[]
["24.介護職員の年間採用・退職者の状況",null,null,null,null,null,null,null,null,"※平成29年4月1日から平成30年3月31日まで",null,null,null,null,null,null,null,null,null,null,null,null,null,"24.介護職員の年間採用・退職者の状況",null,null,null,null,null,null,null,null,"※平成29年4月1日から平成30年3月31日まで"]
["●","「集計アシストシート」がありますので、ご活用ください。",null,null,null,null,null,null,null,null,null,null,null,null,null,null,null,null,null,null,null,null,null,"●","「集計アシストシート」がありますので、ご活用ください。"]
["●","該当する欄に職員の平成29年度における採用・退職者数を入力してください。",null,null,null,null,null,null,null,null,null,null,null,null,null,null,null,null,null,null,null,null,null,"●","該当する欄に職員の平成29年度における採用・退職者数を入力してください。"]
["●","中途採用者の内、「派遣職員からの雇入れ」は、派遣期間後に正社員や契約社員として働くことを前提にした紹介予定派遣を含みません。",null,null,null,null,null,null,null,null,null,null,null,null,null,null,null,null,null,null,null,null,null,"●","中途採用者の内、「派遣職員からの雇入れ」は、派遣期間後に正社員や契約社員として働くことを前提にした紹介予定派遣を含みません。"]
[]
["●","採用経費については、新卒・中途採用は新聞折り込みチラシ、就職ブースへの出展、ホームページ作成などの採用活動全般に関する費用を指します。紹介予定派遣は紹介手数料を指します。",null,null,null,null,null,null,null,null,null,null,null,null,null,null,null,null,null,null,null,null,null,"●","採用経費については、新卒・中途採用は新聞折り込みチラシ、就職ブースへの出展、ホームページ作成などの採用活動全般に関する費用を指します。紹介予定派遣は紹介手数料を指します。"]
[]
["●","退職者については、同一法人内異動を含む勤続年数区分ごとに回答してください。",null,null,null,null,null,null,null,null,null,null,null,null,null,null,null,null,null,null,null,null,null,"●","退職者については、同一法人内異動を含む勤続年数区分ごとに回答してください。"]
[]
["＜採用者の状況（年間）＞",null,null,null,null,null,null,null,null,null,null,null,null,null,null,null,null,null,null,null,null,null,null,"＜採用者の状況（年間）＞"]
[null,"採用形態",null,null,"正規職員",null,null,null,null,null,"非正規職員",null,null,null,null,null,null,"採用経費について",null,null,null,null,null,null,"採用形態",null,null,"正規職員",null,null,null,null,null,"非正規職員"]
[null,null,null,null,"男性",null,null,"女性",null,null,"男性",null,null,"女性",null,null,null,null,null,null,null,null,null,null,null,null,null,"男性",null,null,"女性",null,null,"男性",null,null,"女性"]
[null,"新卒採用者",null,null,null,null,"名",null,null,"名",null,null,"名",null,null,"名","⇒",null,null,null,null,"円",null,"←","新卒採用者",null,null,{"$f":"COUNTIFS(集計アシストシート!$D$8:$D$207,\"正規\",集計アシストシート!$E$8:$E$207,\"男\",集計アシストシート!$G$8:$G$207,\"<=22\",集計アシストシート!$J$8:$J$207,\"<12\",集計アシストシート!$I$8:$I$207,\"\")","v":0},null,"名",{"$f":"COUNTIFS(集計アシストシート!$D$8:$D$207,\"正規\",集計アシストシート!$E$8:$E$207,\"女\",集計アシストシート!$G$8:$G$207,\"<=22\",集計アシストシート!$J$8:$J$207,\"<12\",集計アシストシート!$I$8:$I$207,\"\")","v":0},null,"名",{"$f":"COUNTIFS(集計アシストシート!$D$8:$D$207,\"非正規\",集計アシストシート!$E$8:$E$207,\"男\",集計アシストシート!$G$8:$G$207,\"<=22\",集計アシストシート!$J$8:$J$207,\"<12\",集計アシストシート!$I$8:$I$207,\"\")","v":0},null,"名",{"$f":"COUNTIFS(集計アシストシート!$D$8:$D$207,\"非正規\",集計アシストシート!$E$8:$E$207,\"女\",集計アシストシート!$G$8:$G$207,\"<=22\",集計アシストシート!$J$8:$J$207,\"<12\",集計アシストシート!$I$8:$I$207,\"\")","v":0},null,"名"]
[null,"中途採用者",null,null,null,null,"名",null,null,"名",null,null,"名",null,null,"名","⇒",null,null,null,null,"円",null,"←","中途採用者",null,null,{"$f":"COUNTIFS(集計アシストシート!$D$8:$D$207,\"正規\",集計アシストシート!$E$8:$E$207,\"男\",集計アシストシート!$G$8:$G$207,\">22\",集計アシストシート!$J$8:$J$207,\"<12\",集計アシストシート!$I$8:$I$207,\"\")","v":0},null,"名",{"$f":"COUNTIFS(集計アシストシート!$D$8:$D$207,\"正規\",集計アシストシート!$E$8:$E$207,\"女\",集計アシストシート!$G$8:$G$207,\">22\",集計アシストシート!$J$8:$J$207,\"<12\",集計アシストシート!$I$8:$I$207,\"\")","v":0},null,"名",{"$f":"COUNTIFS(集計アシストシート!$D$8:$D$207,\"非正規\",集計アシストシート!$E$8:$E$207,\"男\",集計アシストシート!$G$8:$G$207,\">22\",集計アシストシート!$J$8:$J$207,\"<12\",集計アシストシート!$I$8:$I$207,\"\")","v":0},null,"名",{"$f":"COUNTIFS(集計アシストシート!$D$8:$D$207,\"非正規\",集計アシストシート!$E$8:$E$207,\"女\",集計アシストシート!$G$8:$G$207,\">22\",集計アシストシート!$J$8:$J$207,\"<12\",集計アシストシート!$I$8:$I$207,\"\")","v":0},null,"名"]
[null,"内、派遣職員からの雇入れ",null,null,null,null,"名",null,null,"名",null,null,"名",null,null,"名"]
[null,"紹介予定派遣",null,null,null,null,"名",null,null,"名",null,null,"名",null,null,"名","⇒",null,null,null,null,"円"]
[null,null,null,null,null,null,null,null,null,null,null,null,null,null,null,null,null,null,null,null,null,null,null,"「集計アシストシート」から自動的に数値が集計されます"]
["＜退職者の状況（年間）＞※「名」には保護が掛かっています。右側から数字のみコピーして貼り付けてください。",null,null,null,null,null,null,null,null,null,null,null,null,null,null,null,null,null,null,null,null,null,null,"＜退職者の状況（年間）＞",null,null,null,null,"※人数の内、数字のみコピーして、左側に「値」で貼り付けしてください。"]
[null,"正規（常勤）","勤続年数",null,null,"1年未満",null,"2年未満",null,"3年未満",null,"4年未満",null,"5年未満",null,"5～10年未満",null,"10年以上",null,"合計",null,null,null,"↓","正規（常勤）","勤続年数",null,null,"1年未満",null,"2年未満",null,"3年未満",null,"4年未満",null,"5年未満",null,"5～10年未満",null,"10年以上",null,"合計"]
[null,null,"20歳未満",null,null,null,"名",null,"名",null,"名",null,"名",null,"名",null,"名",null,"名",{"$f":"SUM(F374,H374,J374,L374,N374,P374,R374)","v":0},"名",null,null,"↓",null,"20歳未満",null,null,{"$f":"COUNTIFS(集計アシストシート!$D$8:$D$207,\"正規\",集計アシストシート!$G$8:$G$207,\"<20\",集計アシストシート!$J$8:$J$207,\"<12\",集計アシストシート!$I$8:$I$207,\">0\")","v":0},"名",{"$f":"COUNTIFS(集計アシストシート!$D$8:$D$207,\"正規\",集計アシストシート!$G$8:$G$207,\"<20\",集計アシストシート!$J$8:$J$207,\">=12\",集計アシストシート!$J$8:$J$207,\"<24\",集計アシストシート!$I$8:$I$207,\">0\")","v":0},"名",{"$f":"COUNTIFS(集計アシストシート!$D$8:$D$207,\"正規\",集計アシストシート!$G$8:$G$207,\"<20\",集計アシストシート!$J$8:$J$207,\">=24\",集計アシストシート!$J$8:$J$207,\"<36\",集計アシストシート!$I$8:$I$207,\">0\")","v":0},"名",{"$f":"COUNTIFS(集計アシストシート!$D$8:$D$207,\"正規\",集計アシストシート!$G$8:$G$207,\"<20\",集計アシストシート!$J$8:$J$207,\">=36\",集計アシストシート!$J$8:$J$207,\"<48\",集計アシストシート!$I$8:$I$207,\">0\")","v":0},"名",{"$f":"COUNTIFS(集計アシストシート!$D$8:$D$207,\"正規\",集計アシストシート!$G$8:$G$207,\"<20\",集計アシストシート!$J$8:$J$207,\">=48\",集計アシストシート!$J$8:$J$207,\"<60\",集計アシストシート!$I$8:$I$207,\">0\")","v":0},"名",{"$f":"COUNTIFS(集計アシストシート!$D$8:$D$207,\"正規\",集計アシストシート!$G$8:$G$207,\"<20\",集計アシストシート!$J$8:$J$207,\">=60\",集計アシストシート!$J$8:$J$207,\"<120\",集計アシストシート!$I$8:$I$207,\">0\")","v":0},"名",{"$f":"COUNTIFS(集計アシストシート!$D$8:$D$207,\"正規\",集計アシストシート!$G$8:$G$207,\"<20\",集計アシストシート!$J$8:$J$207,\">=120\",集計アシストシート!$I$8:$I$207,\">0\")","v":0},"名",{"$f":"SUM(AC374,AE374,AG374,AI374,AK374,AM374,AO374)","v":0},"名"]
[null,null,"20歳代",null,null,null,"名",null,"名",null,"名",null,"名",null,"名",null,"名",null,"名",{"$f":"SUM(F375,H375,J375,L375,N375,P375,R375)","v":0},"名",null,null,"↓",null,"20歳代",null,null,{"$f":"COUNTIFS(集計アシストシート!$D$8:$D$207,\"正規\",集計アシストシート!$G$8:$G$207,\">=20\",集計アシストシート!$G$8:$G$207,\"<30\",集計アシストシート!$J$8:$J$207,\"<12\",集計アシストシート!$I$8:$I$207,\">0\")","v":0},"名",{"$f":"COUNTIFS(集計アシストシート!$D$8:$D$207,\"正規\",集計アシストシート!$G$8:$G$207,\">=20\",集計アシストシート!$G$8:$G$207,\"<30\",集計アシストシート!$J$8:$J$207,\">=12\",集計アシストシート!$J$8:$J$207,\"<24\",集計アシストシート!$I$8:$I$207,\">0\")","v":0},"名",{"$f":"COUNTIFS(集計アシストシート!$D$8:$D$207,\"正規\",集計アシストシート!$G$8:$G$207,\">=20\",集計アシストシート!$G$8:$G$207,\"<30\",集計アシストシート!$J$8:$J$207,\">=24\",集計アシストシート!$J$8:$J$207,\"<36\",集計アシストシート!$I$8:$I$207,\">0\")","v":0},"名",{"$f":"COUNTIFS(集計アシストシート!$D$8:$D$207,\"正規\",集計アシストシート!$G$8:$G$207,\">=20\",集計アシストシート!$G$8:$G$207,\"<30\",集計アシストシート!$J$8:$J$207,\">=36\",集計アシストシート!$J$8:$J$207,\"<48\",集計アシストシート!$I$8:$I$207,\">0\")","v":0},"名",{"$f":"COUNTIFS(集計アシストシート!$D$8:$D$207,\"正規\",集計アシストシート!$G$8:$G$207,\">=20\",集計アシストシート!$G$8:$G$207,\"<30\",集計アシストシート!$J$8:$J$207,\">=48\",集計アシストシート!$J$8:$J$207,\"<60\",集計アシストシート!$I$8:$I$207,\">0\")","v":0},"名",{"$f":"COUNTIFS(集計アシストシート!$D$8:$D$207,\"正規\",集計アシストシート!$G$8:$G$207,\">=20\",集計アシストシート!$G$8:$G$207,\"<30\",集計アシストシート!$J$8:$J$207,\">=60\",集計アシストシート!$J$8:$J$207,\"<120\",集計アシストシート!$I$8:$I$207,\">0\")","v":0},"名",{"$f":"COUNTIFS(集計アシストシート!$D$8:$D$207,\"正規\",集計アシストシート!$G$8:$G$207,\">=20\",集計アシストシート!$G$8:$G$207,\"<30\",集計アシストシート!$J$8:$J$207,\">=120\",集計アシストシート!$I$8:$I$207,\">0\")","v":0},"名",{"$f":"SUM(AC375,AE375,AG375,AI375,AK375,AM375,AO375)","v":0},"名"]
[null,null,"30歳代",null,null,null,"名",null,"名",null,"名",null,"名",null,"名",null,"名",null,"名",0,"名",null,null,"↓",null,"30歳代",null,null,{"$f":"COUNTIFS(集計アシストシート!$D$8:$D$207,\"正規\",集計アシストシート!$G$8:$G$207,\">=30\",集計アシストシート!$G$8:$G$207,\"<40\",集計アシストシート!$J$8:$J$207,\"<12\",集計アシストシート!$I$8:$I$207,\">0\")","v":0},"名",{"$f":"COUNTIFS(集計アシストシート!$D$8:$D$207,\"正規\",集計アシストシート!$G$8:$G$207,\">=30\",集計アシストシート!$G$8:$G$207,\"<40\",集計アシストシート!$J$8:$J$207,\">=12\",集計アシストシート!$J$8:$J$207,\"<24\",集計アシストシート!$I$8:$I$207,\">0\")","v":0},"名",{"$f":"COUNTIFS(集計アシストシート!$D$8:$D$207,\"正規\",集計アシストシート!$G$8:$G$207,\">=30\",集計アシストシート!$G$8:$G$207,\"<40\",集計アシストシート!$J$8:$J$207,\">=24\",集計アシストシート!$J$8:$J$207,\"<36\",集計アシストシート!$I$8:$I$207,\">0\")","v":0},"名",{"$f":"COUNTIFS(集計アシストシート!$D$8:$D$207,\"正規\",集計アシストシート!$G$8:$G$207,\">=30\",集計アシストシート!$G$8:$G$207,\"<40\",集計アシストシート!$J$8:$J$207,\">=36\",集計アシストシート!$J$8:$J$207,\"<48\",集計アシストシート!$I$8:$I$207,\">0\")","v":0},"名",{"$f":"COUNTIFS(集計アシストシート!$D$8:$D$207,\"正規\",集計アシストシート!$G$8:$G$207,\">=30\",集計アシストシート!$G$8:$G$207,\"<40\",集計アシストシート!$J$8:$J$207,\">=48\",集計アシストシート!$J$8:$J$207,\"<60\",集計アシストシート!$I$8:$I$207,\">0\")","v":0},"名",{"$f":"COUNTIFS(集計アシストシート!$D$8:$D$207,\"正規\",集計アシストシート!$G$8:$G$207,\">=30\",集計アシストシート!$G$8:$G$207,\"<40\",集計アシストシート!$J$8:$J$207,\">=60\",集計アシストシート!$J$8:$J$207,\"<120\",集計アシストシート!$I$8:$I$207,\">0\")","v":0},"名",{"$f":"COUNTIFS(集計アシストシート!$D$8:$D$207,\"正規\",集計アシストシート!$G$8:$G$207,\">=30\",集計アシストシート!$G$8:$G$207,\"<40\",集計アシストシート!$J$8:$J$207,\">=120\",集計アシストシート!$I$8:$I$207,\">0\")","v":0},"名",0,"名"]
[null,null,"40歳代",null,null,null,"名",null,"名",null,"名",null,"名",null,"名",null,"名",null,"名",0,"名",null,null,"↓",null,"40歳代",null,null,{"$f":"COUNTIFS(集計アシストシート!$D$8:$D$207,\"正規\",集計アシストシート!$G$8:$G$207,\">=40\",集計アシストシート!$G$8:$G$207,\"<50\",集計アシストシート!$J$8:$J$207,\"<12\",集計アシストシート!$I$8:$I$207,\">0\")","v":0},"名",{"$f":"COUNTIFS(集計アシストシート!$D$8:$D$207,\"正規\",集計アシストシート!$G$8:$G$207,\">=40\",集計アシストシート!$G$8:$G$207,\"<50\",集計アシストシート!$J$8:$J$207,\">=12\",集計アシストシート!$J$8:$J$207,\"<24\",集計アシストシート!$I$8:$I$207,\">0\")","v":0},"名",{"$f":"COUNTIFS(集計アシストシート!$D$8:$D$207,\"正規\",集計アシストシート!$G$8:$G$207,\">=40\",集計アシストシート!$G$8:$G$207,\"<50\",集計アシストシート!$J$8:$J$207,\">=24\",集計アシストシート!$J$8:$J$207,\"<36\",集計アシストシート!$I$8:$I$207,\">0\")","v":0},"名",{"$f":"COUNTIFS(集計アシストシート!$D$8:$D$207,\"正規\",集計アシストシート!$G$8:$G$207,\">=40\",集計アシストシート!$G$8:$G$207,\"<50\",集計アシストシート!$J$8:$J$207,\">=36\",集計アシストシート!$J$8:$J$207,\"<48\",集計アシストシート!$I$8:$I$207,\">0\")","v":0},"名",{"$f":"COUNTIFS(集計アシストシート!$D$8:$D$207,\"正規\",集計アシストシート!$G$8:$G$207,\">=40\",集計アシストシート!$G$8:$G$207,\"<50\",集計アシストシート!$J$8:$J$207,\">=48\",集計アシストシート!$J$8:$J$207,\"<60\",集計アシストシート!$I$8:$I$207,\">0\")","v":0},"名",{"$f":"COUNTIFS(集計アシストシート!$D$8:$D$207,\"正規\",集計アシストシート!$G$8:$G$207,\">=40\",集計アシストシート!$G$8:$G$207,\"<50\",集計アシストシート!$J$8:$J$207,\">=60\",集計アシストシート!$J$8:$J$207,\"<120\",集計アシストシート!$I$8:$I$207,\">0\")","v":0},"名",{"$f":"COUNTIFS(集計アシストシート!$D$8:$D$207,\"正規\",集計アシストシート!$G$8:$G$207,\">=40\",集計アシストシート!$G$8:$G$207,\"<50\",集計アシストシート!$J$8:$J$207,\">=120\",集計アシストシート!$I$8:$I$207,\">0\")","v":0},"名",0,"名"]
[null,null,"50歳代",null,null,null,"名",null,"名",null,"名",null,"名",null,"名",null,"名",null,"名",0,"名",null,null,"↓",null,"50歳代",null,null,{"$f":"COUNTIFS(集計アシストシート!$D$8:$D$207,\"正規\",集計アシストシート!$G$8:$G$207,\">=50\",集計アシストシート!$G$8:$G$207,\"<60\",集計アシストシート!$J$8:$J$207,\"<12\",集計アシストシート!$I$8:$I$207,\">0\")","v":0},"名",{"$f":"COUNTIFS(集計アシストシート!$D$8:$D$207,\"正規\",集計アシストシート!$G$8:$G$207,\">=50\",集計アシストシート!$G$8:$G$207,\"<60\",集計アシストシート!$J$8:$J$207,\">=12\",集計アシストシート!$J$8:$J$207,\"<24\",集計アシストシート!$I$8:$I$207,\">0\")","v":0},"名",{"$f":"COUNTIFS(集計アシストシート!$D$8:$D$207,\"正規\",集計アシストシート!$G$8:$G$207,\">=50\",集計アシストシート!$G$8:$G$207,\"<60\",集計アシストシート!$J$8:$J$207,\">=24\",集計アシストシート!$J$8:$J$207,\"<36\",集計アシストシート!$I$8:$I$207,\">0\")","v":0},"名",{"$f":"COUNTIFS(集計アシストシート!$D$8:$D$207,\"正規\",集計アシストシート!$G$8:$G$207,\">=50\",集計アシストシート!$G$8:$G$207,\"<60\",集計アシストシート!$J$8:$J$207,\">=36\",集計アシストシート!$J$8:$J$207,\"<48\",集計アシストシート!$I$8:$I$207,\">0\")","v":0},"名",{"$f":"COUNTIFS(集計アシストシート!$D$8:$D$207,\"正規\",集計アシストシート!$G$8:$G$207,\">=50\",集計アシストシート!$G$8:$G$207,\"<60\",集計アシストシート!$J$8:$J$207,\">=48\",集計アシストシート!$J$8:$J$207,\"<60\",集計アシストシート!$I$8:$I$207,\">0\")","v":0},"名",{"$f":"COUNTIFS(集計アシストシート!$D$8:$D$207,\"正規\",集計アシストシート!$G$8:$G$207,\">=50\",集計アシストシート!$G$8:$G$207,\"<60\",集計アシストシート!$J$8:$J$207,\">=60\",集計アシストシート!$J$8:$J$207,\"<120\",集計アシストシート!$I$8:$I$207,\">0\")","v":0},"名",{"$f":"COUNTIFS(集計アシストシート!$D$8:$D$207,\"正規\",集計アシストシート!$G$8:$G$207,\">=50\",集計アシストシート!$G$8:$G$207,\"<60\",集計アシストシート!$J$8:$J$207,\">=120\",集計アシストシート!$I$8:$I$207,\">0\")","v":0},"名",0,"名"]
[null,null,"60歳以上",null,null,null,"名",null,"名",null,"名",null,"名",null,"名",null,"名",null,"名",0,"名",null,null,"↓",null,"60歳以上",null,null,{"$f":"COUNTIFS(集計アシストシート!$D$8:$D$207,\"正規\",集計アシストシート!$G$8:$G$207,\">=60\",集計アシストシート!$J$8:$J$207,\"<12\",集計アシストシート!$I$8:$I$207,\">0\")","v":0},"名",{"$f":"COUNTIFS(集計アシストシート!$D$8:$D$207,\"正規\",集計アシストシート!$G$8:$G$207,\">=60\",集計アシストシート!$J$8:$J$207,\">=12\",集計アシストシート!$J$8:$J$207,\"<24\",集計アシストシート!$I$8:$I$207,\">0\")","v":0},"名",{"$f":"COUNTIFS(集計アシストシート!$D$8:$D$207,\"正規\",集計アシストシート!$G$8:$G$207,\">=60\",集計アシストシート!$J$8:$J$207,\">=24\",集計アシストシート!$J$8:$J$207,\"<36\",集計アシストシート!$I$8:$I$207,\">0\")","v":0},"名",{"$f":"COUNTIFS(集計アシストシート!$D$8:$D$207,\"正規\",集計アシストシート!$G$8:$G$207,\">=60\",集計アシストシート!$J$8:$J$207,\">=36\",集計アシストシート!$J$8:$J$207,\"<48\",集計アシストシート!$I$8:$I$207,\">0\")","v":0},"名",{"$f":"COUNTIFS(集計アシストシート!$D$8:$D$207,\"正規\",集計アシストシート!$G$8:$G$207,\">=60\",集計アシストシート!$J$8:$J$207,\">=48\",集計アシストシート!$J$8:$J$207,\"<60\",集計アシストシート!$I$8:$I$207,\">0\")","v":0},"名",{"$f":"COUNTIFS(集計アシストシート!$D$8:$D$207,\"正規\",集計アシストシート!$G$8:$G$207,\">=60\",集計アシストシート!$J$8:$J$207,\">=60\",集計アシストシート!$J$8:$J$207,\"<120\",集計アシストシート!$I$8:$I$207,\">0\")","v":0},"名",{"$f":"COUNTIFS(集計アシストシート!$D$8:$D$207,\"正規\",集計アシストシート!$G$8:$G$207,\">=60\",集計アシストシート!$J$8:$J$207,\">=120\",集計アシストシート!$I$8:$I$207,\">0\")","v":0},"名",0,"名"]
[null,null,"合計",null,null,{"$f":"IF(F374+F375+F376+F377+F378+F379=0,\"\",F374+F375+F376+F377+F378+F379)","v":""},"名",{"$f":"IF(H374+H375+H376+H377+H378+H379=0,\"\",H374+H375+H376+H377+H378+H379)","v":""},"名",{"$f":"IF(J374+J375+J376+J377+J378+J379=0,\"\",J374+J375+J376+J377+J378+J379)","v":""},"名",{"$f":"IF(L374+L375+L376+L377+L378+L379=0,\"\",L374+L375+L376+L377+L378+L379)","v":""},"名",{"$f":"IF(N374+N375+N376+N377+N378+N379=0,\"\",N374+N375+N376+N377+N378+N379)","v":""},"名",{"$f":"IF(P374+P375+P376+P377+P378+P379=0,\"\",P374+P375+P376+P377+P378+P379)","v":""},"名",{"$f":"IF(R374+R375+R376+R377+R378+R379=0,\"\",R374+R375+R376+R377+R378+R379)","v":""},"名",0,"名",null,null,"↓",null,"合計",null,null,{"$f":"IF(AC374+AC375+AC376+AC377+AC378+AC379=0,\"\",AC374+AC375+AC376+AC377+AC378+AC379)","v":""},"名",{"$f":"IF(AE374+AE375+AE376+AE377+AE378+AE379=0,\"\",AE374+AE375+AE376+AE377+AE378+AE379)","v":""},"名",{"$f":"IF(AG374+AG375+AG376+AG377+AG378+AG379=0,\"\",AG374+AG375+AG376+AG377+AG378+AG379)","v":""},"名",{"$f":"IF(AI374+AI375+AI376+AI377+AI378+AI379=0,\"\",AI374+AI375+AI376+AI377+AI378+AI379)","v":""},"名",{"$f":"IF(AK374+AK375+AK376+AK377+AK378+AK379=0,\"\",AK374+AK375+AK376+AK377+AK378+AK379)","v":""},"名",{"$f":"IF(AM374+AM375+AM376+AM377+AM378+AM379=0,\"\",AM374+AM375+AM376+AM377+AM378+AM379)","v":""},"名",{"$f":"IF(AO374+AO375+AO376+AO377+AO378+AO379=0,\"\",AO374+AO375+AO376+AO377+AO378+AO379)","v":""},"名",0,"名"]
[null,"非正規（非常勤）","勤続年数",null,null,"1年未満",null,"2年未満",null,"3年未満",null,"4年未満",null,"5年未満",null,"5～10年未満",null,"10年以上",null,"合計",null,null,null,"↓","非正規（非常勤）","勤続年数",null,null,"1年未満",null,"2年未満",null,"3年未満",null,"4年未満",null,"5年未満",null,"5～10年未満",null,"10年以上",null,"合計"]
[null,null,"20歳未満",null,null,null,"名",null,"名",null,"名",null,"名",null,"名",null,"名",null,"名",{"$f":"SUM(F382,H382,J382,L382,N382,P382,R382)","v":0},"名",null,null,"↓",null,"20歳未満",null,null,{"$f":"COUNTIFS(集計アシストシート!$D$8:$D$207,\"非正規\",集計アシストシート!$G$8:$G$207,\"<20\",集計アシストシート!$J$8:$J$207,\"<12\",集計アシストシート!$I$8:$I$207,\">0\")","v":0},"名",{"$f":"COUNTIFS(集計アシストシート!$D$8:$D$207,\"非正規\",集計アシストシート!$G$8:$G$207,\"<20\",集計アシストシート!$J$8:$J$207,\">=12\",集計アシストシート!$J$8:$J$207,\"<24\",集計アシストシート!$I$8:$I$207,\">0\")","v":0},"名",{"$f":"COUNTIFS(集計アシストシート!$D$8:$D$207,\"非正規\",集計アシストシート!$G$8:$G$207,\"<20\",集計アシストシート!$J$8:$J$207,\">=24\",集計アシストシート!$J$8:$J$207,\"<36\",集計アシストシート!$I$8:$I$207,\">0\")","v":0},"名",{"$f":"COUNTIFS(集計アシストシート!$D$8:$D$207,\"非正規\",集計アシストシート!$G$8:$G$207,\"<20\",集計アシストシート!$J$8:$J$207,\">=36\",集計アシストシート!$J$8:$J$207,\"<48\",集計アシストシート!$I$8:$I$207,\">0\")","v":0},"名",{"$f":"COUNTIFS(集計アシストシート!$D$8:$D$207,\"非正規\",集計アシストシート!$G$8:$G$207,\"<20\",集計アシストシート!$J$8:$J$207,\">=48\",集計アシストシート!$J$8:$J$207,\"<60\",集計アシストシート!$I$8:$I$207,\">0\")","v":0},"名",{"$f":"COUNTIFS(集計アシストシート!$D$8:$D$207,\"非正規\",集計アシストシート!$G$8:$G$207,\"<20\",集計アシストシート!$J$8:$J$207,\">=60\",集計アシストシート!$J$8:$J$207,\"<120\",集計アシストシート!$I$8:$I$207,\">0\")","v":0},"名",{"$f":"COUNTIFS(集計アシストシート!$D$8:$D$207,\"非正規\",集計アシストシート!$G$8:$G$207,\"<20\",集計アシストシート!$J$8:$J$207,\">=120\",集計アシストシート!$I$8:$I$207,\">0\")","v":0},"名",{"$f":"SUM(AC382,AE382,AG382,AI382,AK382,AM382,AO382)","v":0},"名"]
[null,null,"20歳代",null,null,null,"名",null,"名",null,"名",null,"名",null,"名",null,"名",null,"名",{"$f":"SUM(F383,H383,J383,L383,N383,P383,R383)","v":0},"名",null,null,"↓",null,"20歳代",null,null,{"$f":"COUNTIFS(集計アシストシート!$D$8:$D$207,\"非正規\",集計アシストシート!$G$8:$G$207,\">=20\",集計アシストシート!$G$8:$G$207,\"<30\",集計アシストシート!$J$8:$J$207,\"<12\",集計アシストシート!$I$8:$I$207,\">0\")","v":0},"名",{"$f":"COUNTIFS(集計アシストシート!$D$8:$D$207,\"非正規\",集計アシストシート!$G$8:$G$207,\">=20\",集計アシストシート!$G$8:$G$207,\"<30\",集計アシストシート!$J$8:$J$207,\">=12\",集計アシストシート!$J$8:$J$207,\"<24\",集計アシストシート!$I$8:$I$207,\">0\")","v":0},"名",{"$f":"COUNTIFS(集計アシストシート!$D$8:$D$207,\"非正規\",集計アシストシート!$G$8:$G$207,\">=20\",集計アシストシート!$G$8:$G$207,\"<30\",集計アシストシート!$J$8:$J$207,\">=24\",集計アシストシート!$J$8:$J$207,\"<36\",集計アシストシート!$I$8:$I$207,\">0\")","v":0},"名",{"$f":"COUNTIFS(集計アシストシート!$D$8:$D$207,\"非正規\",集計アシストシート!$G$8:$G$207,\">=20\",集計アシストシート!$G$8:$G$207,\"<30\",集計アシストシート!$J$8:$J$207,\">=36\",集計アシストシート!$J$8:$J$207,\"<48\",集計アシストシート!$I$8:$I$207,\">0\")","v":0},"名",{"$f":"COUNTIFS(集計アシストシート!$D$8:$D$207,\"非正規\",集計アシストシート!$G$8:$G$207,\">=20\",集計アシストシート!$G$8:$G$207,\"<30\",集計アシストシート!$J$8:$J$207,\">=48\",集計アシストシート!$J$8:$J$207,\"<60\",集計アシストシート!$I$8:$I$207,\">0\")","v":0},"名",{"$f":"COUNTIFS(集計アシストシート!$D$8:$D$207,\"非正規\",集計アシストシート!$G$8:$G$207,\">=20\",集計アシストシート!$G$8:$G$207,\"<30\",集計アシストシート!$J$8:$J$207,\">=60\",集計アシストシート!$J$8:$J$207,\"<120\",集計アシストシート!$I$8:$I$207,\">0\")","v":0},"名",{"$f":"COUNTIFS(集計アシストシート!$D$8:$D$207,\"非正規\",集計アシストシート!$G$8:$G$207,\">=20\",集計アシストシート!$G$8:$G$207,\"<30\",集計アシストシート!$J$8:$J$207,\">=120\",集計アシストシート!$I$8:$I$207,\">0\")","v":0},"名",{"$f":"SUM(AC383,AE383,AG383,AI383,AK383,AM383,AO383)","v":0},"名"]
[null,null,"30歳代",null,null,null,"名",null,"名",null,"名",null,"名",null,"名",null,"名",null,"名",0,"名",null,null,"↓",null,"30歳代",null,null,{"$f":"COUNTIFS(集計アシストシート!$D$8:$D$207,\"非正規\",集計アシストシート!$G$8:$G$207,\">=30\",集計アシストシート!$G$8:$G$207,\"<40\",集計アシストシート!$J$8:$J$207,\"<12\",集計アシストシート!$I$8:$I$207,\">0\")","v":0},"名",{"$f":"COUNTIFS(集計アシストシート!$D$8:$D$207,\"非正規\",集計アシストシート!$G$8:$G$207,\">=30\",集計アシストシート!$G$8:$G$207,\"<40\",集計アシストシート!$J$8:$J$207,\">=12\",集計アシストシート!$J$8:$J$207,\"<24\",集計アシストシート!$I$8:$I$207,\">0\")","v":0},"名",{"$f":"COUNTIFS(集計アシストシート!$D$8:$D$207,\"非正規\",集計アシストシート!$G$8:$G$207,\">=30\",集計アシストシート!$G$8:$G$207,\"<40\",集計アシストシート!$J$8:$J$207,\">=24\",集計アシストシート!$J$8:$J$207,\"<36\",集計アシストシート!$I$8:$I$207,\">0\")","v":0},"名",{"$f":"COUNTIFS(集計アシストシート!$D$8:$D$207,\"非正規\",集計アシストシート!$G$8:$G$207,\">=30\",集計アシストシート!$G$8:$G$207,\"<40\",集計アシストシート!$J$8:$J$207,\">=36\",集計アシストシート!$J$8:$J$207,\"<48\",集計アシストシート!$I$8:$I$207,\">0\")","v":0},"名",{"$f":"COUNTIFS(集計アシストシート!$D$8:$D$207,\"非正規\",集計アシストシート!$G$8:$G$207,\">=30\",集計アシストシート!$G$8:$G$207,\"<40\",集計アシストシート!$J$8:$J$207,\">=48\",集計アシストシート!$J$8:$J$207,\"<60\",集計アシストシート!$I$8:$I$207,\">0\")","v":0},"名",{"$f":"COUNTIFS(集計アシストシート!$D$8:$D$207,\"非正規\",集計アシストシート!$G$8:$G$207,\">=30\",集計アシストシート!$G$8:$G$207,\"<40\",集計アシストシート!$J$8:$J$207,\">=60\",集計アシストシート!$J$8:$J$207,\"<120\",集計アシストシート!$I$8:$I$207,\">0\")","v":0},"名",{"$f":"COUNTIFS(集計アシストシート!$D$8:$D$207,\"非正規\",集計アシストシート!$G$8:$G$207,\">=30\",集計アシストシート!$G$8:$G$207,\"<40\",集計アシストシート!$J$8:$J$207,\">=120\",集計アシストシート!$I$8:$I$207,\">0\")","v":0},"名",0,"名"]
[null,null,"40歳代",null,null,null,"名",null,"名",null,"名",null,"名",null,"名",null,"名",null,"名",0,"名",null,null,"↓",null,"40歳代",null,null,{"$f":"COUNTIFS(集計アシストシート!$D$8:$D$207,\"非正規\",集計アシストシート!$G$8:$G$207,\">=40\",集計アシストシート!$G$8:$G$207,\"<50\",集計アシストシート!$J$8:$J$207,\"<12\",集計アシストシート!$I$8:$I$207,\">0\")","v":0},"名",{"$f":"COUNTIFS(集計アシストシート!$D$8:$D$207,\"非正規\",集計アシストシート!$G$8:$G$207,\">=40\",集計アシストシート!$G$8:$G$207,\"<50\",集計アシストシート!$J$8:$J$207,\">=12\",集計アシストシート!$J$8:$J$207,\"<24\",集計アシストシート!$I$8:$I$207,\">0\")","v":0},"名",{"$f":"COUNTIFS(集計アシストシート!$D$8:$D$207,\"非正規\",集計アシストシート!$G$8:$G$207,\">=40\",集計アシストシート!$G$8:$G$207,\"<50\",集計アシストシート!$J$8:$J$207,\">=24\",集計アシストシート!$J$8:$J$207,\"<36\",集計アシストシート!$I$8:$I$207,\">0\")","v":0},"名",{"$f":"COUNTIFS(集計アシストシート!$D$8:$D$207,\"非正規\",集計アシストシート!$G$8:$G$207,\">=40\",集計アシストシート!$G$8:$G$207,\"<50\",集計アシストシート!$J$8:$J$207,\">=36\",集計アシストシート!$J$8:$J$207,\"<48\",集計アシストシート!$I$8:$I$207,\">0\")","v":0},"名",{"$f":"COUNTIFS(集計アシストシート!$D$8:$D$207,\"非正規\",集計アシストシート!$G$8:$G$207,\">=40\",集計アシストシート!$G$8:$G$207,\"<50\",集計アシストシート!$J$8:$J$207,\">=48\",集計アシストシート!$J$8:$J$207,\"<60\",集計アシストシート!$I$8:$I$207,\">0\")","v":0},"名",{"$f":"COUNTIFS(集計アシストシート!$D$8:$D$207,\"非正規\",集計アシストシート!$G$8:$G$207,\">=40\",集計アシストシート!$G$8:$G$207,\"<50\",集計アシストシート!$J$8:$J$207,\">=60\",集計アシストシート!$J$8:$J$207,\"<120\",集計アシストシート!$I$8:$I$207,\">0\")","v":0},"名",{"$f":"COUNTIFS(集計アシストシート!$D$8:$D$207,\"非正規\",集計アシストシート!$G$8:$G$207,\">=40\",集計アシストシート!$G$8:$G$207,\"<50\",集計アシストシート!$J$8:$J$207,\">=120\",集計アシストシート!$I$8:$I$207,\">0\")","v":0},"名",0,"名"]
[null,null,"50歳代",null,null,null,"名",null,"名",null,"名",null,"名",null,"名",null,"名",null,"名",0,"名",null,null,"↓",null,"50歳代",null,null,{"$f":"COUNTIFS(集計アシストシート!$D$8:$D$207,\"非正規\",集計アシストシート!$G$8:$G$207,\">=50\",集計アシストシート!$G$8:$G$207,\"<60\",集計アシストシート!$J$8:$J$207,\"<12\",集計アシストシート!$I$8:$I$207,\">0\")","v":0},"名",{"$f":"COUNTIFS(集計アシストシート!$D$8:$D$207,\"非正規\",集計アシストシート!$G$8:$G$207,\">=50\",集計アシストシート!$G$8:$G$207,\"<60\",集計アシストシート!$J$8:$J$207,\">=12\",集計アシストシート!$J$8:$J$207,\"<24\",集計アシストシート!$I$8:$I$207,\">0\")","v":0},"名",{"$f":"COUNTIFS(集計アシストシート!$D$8:$D$207,\"非正規\",集計アシストシート!$G$8:$G$207,\">=50\",集計アシストシート!$G$8:$G$207,\"<60\",集計アシストシート!$J$8:$J$207,\">=24\",集計アシストシート!$J$8:$J$207,\"<36\",集計アシストシート!$I$8:$I$207,\">0\")","v":0},"名",{"$f":"COUNTIFS(集計アシストシート!$D$8:$D$207,\"非正規\",集計アシストシート!$G$8:$G$207,\">=50\",集計アシストシート!$G$8:$G$207,\"<60\",集計アシストシート!$J$8:$J$207,\">=36\",集計アシストシート!$J$8:$J$207,\"<48\",集計アシストシート!$I$8:$I$207,\">0\")","v":0},"名",{"$f":"COUNTIFS(集計アシストシート!$D$8:$D$207,\"非正規\",集計アシストシート!$G$8:$G$207,\">=50\",集計アシストシート!$G$8:$G$207,\"<60\",集計アシストシート!$J$8:$J$207,\">=48\",集計アシストシート!$J$8:$J$207,\"<60\",集計アシストシート!$I$8:$I$207,\">0\")","v":0},"名",{"$f":"COUNTIFS(集計アシストシート!$D$8:$D$207,\"非正規\",集計アシストシート!$G$8:$G$207,\">=50\",集計アシストシート!$G$8:$G$207,\"<60\",集計アシストシート!$J$8:$J$207,\">=60\",集計アシストシート!$J$8:$J$207,\"<120\",集計アシストシート!$I$8:$I$207,\">0\")","v":0},"名",{"$f":"COUNTIFS(集計アシストシート!$D$8:$D$207,\"非正規\",集計アシストシート!$G$8:$G$207,\">=50\",集計アシストシート!$G$8:$G$207,\"<60\",集計アシストシート!$J$8:$J$207,\">=120\",集計アシストシート!$I$8:$I$207,\">0\")","v":0},"名",0,"名"]
[null,null,"60歳以上",null,null,null,"名",null,"名",null,"名",null,"名",null,"名",null,"名",null,"名",0,"名",null,null,"↓",null,"60歳以上",null,null,{"$f":"COUNTIFS(集計アシストシート!$D$8:$D$207,\"非正規\",集計アシストシート!$G$8:$G$207,\">=60\",集計アシストシート!$J$8:$J$207,\"<12\",集計アシストシート!$I$8:$I$207,\">0\")","v":0},"名",{"$f":"COUNTIFS(集計アシストシート!$D$8:$D$207,\"非正規\",集計アシストシート!$G$8:$G$207,\">=60\",集計アシストシート!$J$8:$J$207,\">=12\",集計アシストシート!$J$8:$J$207,\"<24\",集計アシストシート!$I$8:$I$207,\">0\")","v":0},"名",{"$f":"COUNTIFS(集計アシストシート!$D$8:$D$207,\"非正規\",集計アシストシート!$G$8:$G$207,\">=60\",集計アシストシート!$J$8:$J$207,\">=24\",集計アシストシート!$J$8:$J$207,\"<36\",集計アシストシート!$I$8:$I$207,\">0\")","v":0},"名",{"$f":"COUNTIFS(集計アシストシート!$D$8:$D$207,\"非正規\",集計アシストシート!$G$8:$G$207,\">=60\",集計アシストシート!$J$8:$J$207,\">=36\",集計アシストシート!$J$8:$J$207,\"<48\",集計アシストシート!$I$8:$I$207,\">0\")","v":0},"名",{"$f":"COUNTIFS(集計アシストシート!$D$8:$D$207,\"非正規\",集計アシストシート!$G$8:$G$207,\">=60\",集計アシストシート!$J$8:$J$207,\">=48\",集計アシストシート!$J$8:$J$207,\"<60\",集計アシストシート!$I$8:$I$207,\">0\")","v":0},"名",{"$f":"COUNTIFS(集計アシストシート!$D$8:$D$207,\"非正規\",集計アシストシート!$G$8:$G$207,\">=60\",集計アシストシート!$J$8:$J$207,\">=60\",集計アシストシート!$J$8:$J$207,\"<120\",集計アシストシート!$I$8:$I$207,\">0\")","v":0},"名",{"$f":"COUNTIFS(集計アシストシート!$D$8:$D$207,\"非正規\",集計アシストシート!$G$8:$G$207,\">=60\",集計アシストシート!$J$8:$J$207,\">=120\",集計アシストシート!$I$8:$I$207,\">0\")","v":0},"名",0,"名"]
[null,null,"合計",null,null,{"$f":"IF(F382+F383+F384+F385+F386+F387=0,\"\",F382+F383+F384+F385+F386+F387)","v":""},"名",{"$f":"IF(H382+H383+H384+H385+H386+H387=0,\"\",H382+H383+H384+H385+H386+H387)","v":""},"名",{"$f":"IF(J382+J383+J384+J385+J386+J387=0,\"\",J382+J383+J384+J385+J386+J387)","v":""},"名",{"$f":"IF(L382+L383+L384+L385+L386+L387=0,\"\",L382+L383+L384+L385+L386+L387)","v":""},"名",{"$f":"IF(N382+N383+N384+N385+N386+N387=0,\"\",N382+N383+N384+N385+N386+N387)","v":""},"名",{"$f":"IF(P382+P383+P384+P385+P386+P387=0,\"\",P382+P383+P384+P385+P386+P387)","v":""},"名",{"$f":"IF(R382+R383+R384+R385+R386+R387=0,\"\",R382+R383+R384+R385+R386+R387)","v":""},"名",0,"名",null,null,"↓",null,"合計",null,null,{"$f":"IF(AC382+AC383+AC384+AC385+AC386+AC387=0,\"\",AC382+AC383+AC384+AC385+AC386+AC387)","v":""},"名",{"$f":"IF(AE382+AE383+AE384+AE385+AE386+AE387=0,\"\",AE382+AE383+AE384+AE385+AE386+AE387)","v":""},"名",{"$f":"IF(AG382+AG383+AG384+AG385+AG386+AG387=0,\"\",AG382+AG383+AG384+AG385+AG386+AG387)","v":""},"名",{"$f":"IF(AI382+AI383+AI384+AI385+AI386+AI387=0,\"\",AI382+AI383+AI384+AI385+AI386+AI387)","v":""},"名",{"$f":"IF(AK382+AK383+AK384+AK385+AK386+AK387=0,\"\",AK382+AK383+AK384+AK385+AK386+AK387)","v":""},"名",{"$f":"IF(AM382+AM383+AM384+AM385+AM386+AM387=0,\"\",AM382+AM383+AM384+AM385+AM386+AM387)","v":""},"名",{"$f":"IF(AO382+AO383+AO384+AO385+AO386+AO387=0,\"\",AO382+AO383+AO384+AO385+AO386+AO387)","v":""},"名",0,"名"]
[null,null,null,null,null,null,null,null,null,null,null,null,null,null,null,null,null,null,null,null,null,null,null,"↓"]
[null,"勤続年数",null,null,"正規職員",null,null,null,null,null,"非正規職員",null,null,null,null,null,null,null,null,null,null,null,null,"↓"]
[null,null,null,null,"男性",null,null,"女性",null,null,"男性",null,null,"女性",null,null,null,null,null,null,null,null,null,"↓"]
[null,"1年未満",null,null,null,null,"名",null,null,"名",null,null,"名",null,null,"名",null,null,null,null,null,null,null,"↓"]
[null,"1～2年未満",null,null,null,null,"名",null,null,"名",null,null,"名",null,null,"名",null,null,null,null,null,null,null,"↓"]
[null,"2～3年未満",null,null,null,null,"名",null,null,"名",null,null,"名",null,null,"名",null,null,null,null,null,null,null,"↓"]
[null,"3～4年未満",null,null,null,null,"名",null,null,"名",null,null,"名",null,null,"名",null,null,null,null,null,null,null,"↓"]
[null,"4～5年未満",null,null,null,null,"名",null,null,"名",null,null,"名",null,null,"名",null,null,null,null,null,null,null,"↓"]
[null,"5～10年未満",null,null,null,null,"名",null,null,"名",null,null,"名",null,null,"名",null,null,null,null,null,null,null,"↓"]
[null,"10年以上",null,null,null,null,"名",null,null,"名",null,null,"名",null,null,"名",null,null,null,null,null,null,null,"↓"]
[null,null,null,null,null,null,null,null,null,null,null,null,null,null,null,null,null,null,null,null,null,null,null,"↓"]
[]
["25.正規介護職員の初任給（月額）"]
["●","上記学歴欄に見合う金額をご記入ください。年齢により支給されている場合は、学歴に相当する欄に金額をご記入ください（例：23歳の場合→4年制大学卒）。"]
[]
[]
[null,"学歴 ",null,null,null,"介護福祉士資格の有無",null,null,"①基本給",null,null,null,"②諸手当　※1",null,null,null,"合計（①+②）"]
[null,"高校卒",null,null,null,"あり",null,null,null,null,null,"円",null,null,null,"円",{"$f":"SUM(I406,M406)","v":0},null,null,"円"]
[null,null,null,null,null,"なし",null,null,null,null,null,"円",null,null,null,"円",{"$f":"SUM(I407,M407)","v":0},null,null,"円"]
[null,"短大・専門学校卒",null,null,null,"あり",null,null,null,null,null,"円",null,null,null,"円",0,null,null,"円"]
[null,null,null,null,null,"なし",null,null,null,null,null,"円",null,null,null,"円",0,null,null,"円"]
[null,"4年制大学卒",null,null,null,"あり",null,null,null,null,null,"円",null,null,null,"円",0,null,null,"円"]
[null,null,null,null,null,"なし",null,null,null,null,null,"円",null,null,null,"円",0,null,null,"円"]
[null,"一律支給の場合 ※2",null,null,null,"あり",null,null,null,null,null,"円",null,null,null,"円",0,null,null,"円"]
[null,null,null,null,null,"なし",null,null,null,null,null,"円",null,null,null,"円",0,null,null,"円"]
[null,"※1","諸手当には地域手当（旧調整手当）、特殊勤務手当等、介護職員に一律に支給される金額の合計をご記入ください。職務手当、扶養手当、住宅手当、通勤手当、超過勤務手当、資格手当等、職位や諸条件により支給の有無や金額が異なるものは除きます。"]
[]
[]
[null,"※2","学歴・年齢等問わずに、一律で支給されている場合は、当欄にご記入ください。例えば、基本給は一律で、介護福祉士資格の有無や職位や条件によって、上乗せ部分がある給与体系など。"]
[]
[]
["26.非正規介護職員の時給"]
["●","貴施設の非正規職員の介護職員の採用募集時における時給をご記入ください。"]
[null,"時給に幅がある場合は、下限金額を記載してください（例えば、時給960～1,150円と設定している場合、960円と記載）。"]
["●","非正規職員とは、①雇用期間の定めがあり、雇用関係がある職員（派遣職員以外）、②雇用保険加入者（週20時間以上勤務、31日以上の雇用見込みがある）とします。月額・日給支給の場合は時給に換算してご記入ください。"]
[]
[]
[null,"資格の有無",null,null,null,null,null,null,null,null,null,"金額"]
[null,"資格\nあり","介護福祉士",null,null,null,null,null,null,null,null,null,null,null,null,"円"]
[null,null,"実務者研修修了者（旧ヘルパー1級相当）",null,null,null,null,null,null,null,null,null,null,null,null,"円"]
[null,null,"介護職員初任者研修課程修了（旧ヘルパー2級相当）",null,null,null,null,null,null,null,null,null,null,null,null,"円"]
[null,"資格　なし",null,null,null,null,null,null,null,null,null,null,null,null,null,"円"]
[]
["27.夜勤形態について"]
["●","貴施設の夜勤体制について、「16時間夜勤（2交替制）」または「8時間夜勤（3交代制）」のいずれか選択し、1回あたりの夜勤手当の金額を記入してください。"]
["●","また、年間休日日数を記入してください。"]
[]
[null,"夜勤形態",null,null,null,null,null,"金額",null,null,null,null,null,"年間休日日数"]
[null,null,null,null,null,null,null,null,null,null,null,"円",null,null,null,null,null,"日"]
[]
["28.正規介護職員における平成29年4月と平成30年4月の2か年の給与等の状況"]
["●","勤続年数ごとの対象者のうち、平成29年4月の「本給」が中央値になる職員の状況をご記入ください。"]
[null,"なお「①1年未満（勤続11か月）」以外、29年・30年ともに在籍している職員を対象とする（いずれかの4月時点に退職、休職、復職などによる在籍ていない職員は抽出対象から除外する）。"]
["●","下記の「対象者の抽出例」と「記入上の注意点」、「記入例」を参考に、7区分①～⑦をご記入ください。"]
[]
[null,"対象者の抽出例"]
[null,"※1","勤続年数「④3年」⇒4名の中央値をはさむ2名（Q・R）の内、高額の210,000（Q）の給与状況等を記入。"]
[null,"※2","勤続年数「⑥5～10年未満」⇒中央値が同額で複数名（X～Z）いる場合は、その中から無作為抽出を行い1名の給与状況等を記入　　　　　　　　　　　　　　　　　　　　　　　　　　　　　　"]
[null,null,"介護職の人数",null,null,null,"①1年未満",null,"②1年",null,"③2年",null,"④3年\n（※1）",null,"⑤4年",null,"⑥5～10年未満（※2）",null,"⑦10年以上"]
[null,null,"1名",null,null,null,"A 200,000",null,"F 210,000",null,"K 220,000",null,"P 230,000",null,"T 240,000",null,"W250,000",null,"AB250,000"]
[null,null,"2名",null,null,null,"B 180,000",null,"G 190,000",null,"L 200,000",null,"Q 210,000",null,"U 230,000",null,"X 240,000",null,"AC 260,000"]
[null,null,"3名",null,null,null,"C 170,000",null,"H 180,000",null,"M 190,000",null,"R 200,000",null,"V 220,000",null,"Y 240,000",null,"AD 270,000"]
[null,null,"4名",null,null,null,"D 160,000",null,"I 170,000",null,"N 180,000",null,"S 190,000",null,"―",null,"Z 240,000",null,"AE 280,000"]
[null,null,"5名",null,null,null,"E 150,000",null,"J 160,000",null,"O 170,000",null,"―",null,"―",null,"AA 230,000",null,"AF 250,000",null,"（円）"]
[]
[null,"記入上の注意点"]
[]
[null,"項目",null,null,"記入上の注意点"]
[null,"年齢",null,null,"平成30年3月31日における年齢をご記入ください。月数は切り捨ててください。"]
[null,"勤続年数",null,null,"平成30年3月31日時点での貴施設における勤続年数（入社月を含む）。なお、当該施設以前に同一法人の経営する事業所などに勤務していた場合は、そこでの勤続年数も含めて算出してください。また、現職と異なる職種であっても、処遇等の検討時に勤続年数を考慮している場合は、現職の勤続年数に含めてください。月数は切り捨ててください。"]
[null,"管理職",null,null,"平成30年3月31日時点で管理職である場合、「1」を選択してください。\n（当設問における「管理職」の定義は、シート「設問解説」をご参照ください）。"]
[null,"本給\n（単月分）",null,null,"平成29年4月と平成30年4月の2か年の本給（月給か、年俸の方は12で除した額）の金額をご記入ください。（当設問における「本給」とは、各種手当を除いた金額を指す）。"]
[null,"諸手当\n（単月分）",null,null,"平成29年4月と平成30年4月の2か年の手当の金額（総額）をご記入ください。\nなお、夜勤手当は回数、時間外手当は時間外勤務時間、資格手当は該当する資格名（複数該当する場合は、主業務に該当する資格とする）をそれぞれ回答してください。\n\nまた、「介護職員処遇改善加算」の賃金改善額を「処遇改善加算相当額」に回答してください。一時金として支給している場合は、12か月で除した1か月当たりの金額を回答してください。\n上記以外の手当を支給している場合は、その他の手当に合算してご記入ください。"]
[null,"一時金\n（年間総額）",null,null,"平成29年度（平成29年4月1日から平成30年3月31日まで）に支給された一時金（賞与・その他の臨時支給分（処遇改善加算分を含まない）の合計金額をご記入ください。一時金がない場合は、0（ゼロ）をご記入ください。"]
[]
[null,"記入例④　3年（勤続3年～3年11か月）　"]
[]
["性別",null,null,"男",null,"年齢",null,null,32,null,"歳",null,"管理職\n別紙．2参照",null,null,"該当する"]
["平成29年度（H29.4月）",null,null,null,null,null,null,null,"⇒　　昇給した場合　　⇒","平成30年度（H30.4月）",null,null,null,null,null,null,null,"⇒　　1年間の増減差　　⇒","H30 - H29 増減差　\n（入力確認用）"]
["本給（単月分）",null,null,null,190000,null,null,"円",null,"本給（単月分）",null,null,null,193500,null,null,"円",null,{"$f":"N468-E468","v":3500},null,null,"円"]
["諸手当（単月分）\n　①～⑤の合計",null,null,null,{"$f":"SUM(E470+E473+E476+E478+E479)","v":69500},null,null,"円",null,"諸手当（単月分）\n　①～⑤の合計",null,null,null,{"$f":"SUM(N470+N473+N476+N478+N479)","v":84500},null,null,"円",null,{"$f":"N469-E469","v":15000},null,null,"円"]
["①夜勤手当",null,null,null,24000,null,null,"円",null,"①夜勤手当",null,null,null,18000,null,null,"円",null,-6000,null,null,"円"]
["夜勤回数",null,null,null,4,null,null,"回",null,"夜勤回数",null,null,null,3,null,null,"回",null,-1,null,null,"回"]
["1回あたり手当額",null,null,null,{"$f":"E470/E471","v":6000},null,null,"円",null,"1回あたり手当額",null,null,null,{"$f":"N470/N471","v":6000},null,null,"円",null,"-"]
["②時間外手当",null,null,null,4500,null,null,"円",null,"②時間外手当",null,null,null,13500,null,null,"円",null,9000,null,null,"円"]
["時間外勤務時間",null,null,null,3,null,null,"時間",null,"時間外勤務時間",null,null,null,9,null,null,"時間",null,6,null,null,"時間"]
["1時間当たり手当額",null,null,null,{"$f":"E473/E474","v":1500},null,null,"円",null,"1時間当たり手当額",null,null,null,{"$f":"N473/N474","v":1500},null,null,"円",null,"-"]
["③資格手当",null,null,null,13000,null,null,"円",null,"③資格手当",null,null,null,13000,null,null,"円",null,0,null,null,"円"]
["資格名※",null,null,null,"1介護福祉士",null,null,null,null,"資格名※",null,null,null,"1介護福祉士",null,null,null,null,"-"]
["④処遇改善加算相当額",null,null,null,15000,null,null,"円",null,"④処遇改善加算相当額",null,null,null,27000,null,null,"円",null,{"$f":"N478-E478","v":12000},null,null,"円"]
["⑤その他手当",null,null,null,13000,null,null,"円",null,"⑤その他手当",null,null,null,13000,null,null,"円",null,{"$f":"N479-E479","v":0},null,null,"円"]
["一時金（年間総額）",null,null,null,924000,null,null,"円"]
[]
[]
["以下、7区分①～⑦にご記入ください。"]
[null,"①　1年未満（勤続11か月）　",null,null,null,null,null,"※新卒者以外の中途採用者が回答対象の場合、平成29年4月時点に不在（4月以降に採用）であれば、平成30年度のみ回答してください。"]
[]
["性別",null,null,null,null,"年齢",null,null,null,null,"歳",null,"管理職\n別紙．2参照"]
["平成29年度（H29.4月）",null,null,null,null,null,null,null,"⇒　　昇給した場合　　⇒","平成30年度（H30.4月）",null,null,null,null,null,null,null,"⇒　　1年間の増減差　　⇒","H30 - H29 増減差　\n（入力確認用）"]
["本給（単月分）",null,null,null,null,null,null,"円",null,"本給（単月分）",null,null,null,null,null,null,"円",null,{"$f":"N488-E488","v":0},null,null,"円"]
["諸手当（単月分）\n　①～⑤の合計",null,null,null,{"$f":"SUM(E490+E493+E496+E498+E499)","v":0},null,null,"円",null,"諸手当（単月分）\n　①～⑤の合計",null,null,null,{"$f":"SUM(N490+N493+N496+N498+N499)","v":0},null,null,"円",null,0,null,null,"円"]
["①夜勤手当",null,null,null,null,null,null,"円",null,"①夜勤手当",null,null,null,null,null,null,"円",null,0,null,null,"円"]
["夜勤回数",null,null,null,null,null,null,"回",null,"夜勤回数",null,null,null,null,null,null,"回",null,0,null,null,"回"]
["1回あたり手当額",null,null,null,{"$f":"IF(E490=0,\"\",E490/E491)","v":""},null,null,"円",null,"1回あたり手当額",null,null,null,{"$f":"IF(N490=0,\"\",N490/N491)","v":""},null,null,"円",null,"-"]
["②時間外手当",null,null,null,null,null,null,"円",null,"②時間外手当",null,null,null,null,null,null,"円",null,0,null,null,"円"]
["時間外勤務時間",null,null,null,null,null,null,"時間",null,"時間外勤務時間",null,null,null,null,null,null,"時間",null,0,null,null,"時間"]
["1時間あたり手当額",null,null,null,{"$f":"IF(E493=0,\"\",E493/E494)","v":""},null,null,"円",null,"1時間あたり手当額",null,null,null,{"$f":"IF(N493=0,\"\",N493/N494)","v":""},null,null,"円",null,"-"]
["③資格手当",null,null,null,null,null,null,"円",null,"③資格手当",null,null,null,null,null,null,"円",null,0,null,null,"円"]
["資格名※",null,null,null,null,null,null,null,null,"資格名※",null,null,null,null,null,null,null,null,"-"]
["④処遇改善加算相当額",null,null,null,null,null,null,"円",null,"④処遇改善加算相当額",null,null,null,null,null,null,"円",null,{"$f":"N498-E498","v":0},null,null,"円"]
["⑤その他手当",null,null,null,null,null,null,"円",null,"⑤その他手当",null,null,null,null,null,null,"円",null,{"$f":"N499-E499","v":0},null,null,"円"]
["一時金（年間総額）",null,null,null,null,null,null,"円"]
[null,"※資格名の選択肢"]
[null,"1．介護福祉士　　2．社会福祉士　　3．精神保健福祉士　　4．介護支援専門員　　\n5．介護職員初任者研修課程修了（旧ヘルパー1・2級相当）　　6．認知症介護指導者養成研修課程修了\n7．その他"]
[]
[]
[]
[null,"②　1年（勤続1年～1年11か月）　"]
[]
["性別",null,null,null,null,"年齢",null,null,null,null,"歳",null,"管理職\n別紙．2参照"]
["平成29年度（H29.4月）",null,null,null,null,null,null,null,"⇒　　昇給した場合　　⇒","平成30年度（H30.4月）",null,null,null,null,null,null,null,"⇒　　1年間の増減差　　⇒","H30 - H29 増減差　\n（入力確認用）"]
["本給（単月分）",null,null,null,null,null,null,"円",null,"本給（単月分）",null,null,null,null,null,null,"円",null,{"$f":"N510-E510","v":0},null,null,"円"]
["諸手当（単月分）\n　①～⑤の合計",null,null,null,{"$f":"SUM(E512+E515+E518+E520+E521)","v":0},null,null,"円",null,"諸手当（単月分）\n　①～⑤の合計",null,null,null,{"$f":"SUM(N512+N515+N518+N520+N521)","v":0},null,null,"円",null,0,null,null,"円"]
["①夜勤手当",null,null,null,null,null,null,"円",null,"①夜勤手当",null,null,null,null,null,null,"円",null,0,null,null,"円"]
["夜勤回数",null,null,null,null,null,null,"回",null,"夜勤回数",null,null,null,null,null,null,"回",null,0,null,null,"回"]
["1回あたり手当額",null,null,null,{"$f":"IF(E512=0,\"\",E512/E513)","v":""},null,null,"円",null,"1回あたり手当額",null,null,null,{"$f":"IF(N512=0,\"\",N512/N513)","v":""},null,null,"円",null,"-"]
["②時間外手当",null,null,null,null,null,null,"円",null,"②時間外手当",null,null,null,null,null,null,"円",null,0,null,null,"円"]
["時間外勤務時間",null,null,null,null,null,null,"時間",null,"時間外勤務時間",null,null,null,null,null,null,"時間",null,0,null,null,"時間"]
["1時間あたり手当額",null,null,null,{"$f":"IF(E515=0,\"\",E515/E516)","v":""},null,null,"円",null,"1時間あたり手当額",null,null,null,{"$f":"IF(N515=0,\"\",N515/N516)","v":""},null,null,"円",null,"-"]
["③資格手当",null,null,null,null,null,null,"円",null,"③資格手当",null,null,null,null,null,null,"円",null,0,null,null,"円"]
["資格名※",null,null,null,null,null,null,null,null,"資格名※",null,null,null,null,null,null,null,null,"-"]
["④処遇改善加算相当額",null,null,null,null,null,null,"円",null,"④処遇改善加算相当額",null,null,null,null,null,null,"円",null,{"$f":"N520-E520","v":0},null,null,"円"]
["⑤その他手当",null,null,null,null,null,null,"円",null,"⑤その他手当",null,null,null,null,null,null,"円",null,{"$f":"N521-E521","v":0},null,null,"円"]
["一時金（年間総額）",null,null,null,null,null,null,"円"]
[]
[null,"③　2年（勤続2年～2年11か月）　"]
[]
["性別",null,null,null,null,"年齢",null,null,null,null,"歳",null,"管理職\n別紙．2参照"]
["平成29年度（H29.4月）",null,null,null,null,null,null,null,"⇒　　昇給した場合　　⇒","平成30年度（H30.4月）",null,null,null,null,null,null,null,"⇒　　1年間の増減差　　⇒","H30 - H29 増減差　\n（入力確認用）"]
["本給（単月分）",null,null,null,null,null,null,"円",null,"本給（単月分）",null,null,null,null,null,null,"円",null,{"$f":"N528-E528","v":0},null,null,"円"]
["諸手当（単月分）\n　①～⑤の合計",null,null,null,{"$f":"SUM(E530+E533+E536+E538+E539)","v":0},null,null,"円",null,"諸手当（単月分）\n　①～⑤の合計",null,null,null,{"$f":"SUM(N530+N533+N536+N538+N539)","v":0},null,null,"円",null,0,null,null,"円"]
["①夜勤手当",null,null,null,null,null,null,"円",null,"①夜勤手当",null,null,null,null,null,null,"円",null,0,null,null,"円"]
["夜勤回数",null,null,null,null,null,null,"回",null,"夜勤回数",null,null,null,null,null,null,"回",null,0,null,null,"回"]
["1回あたり手当額",null,null,null,{"$f":"IF(E530=0,\"\",E530/E531)","v":""},null,null,"円",null,"1回あたり手当額",null,null,null,{"$f":"IF(N530=0,\"\",N530/N531)","v":""},null,null,"円",null,"-"]
["②時間外手当",null,null,null,null,null,null,"円",null,"②時間外手当",null,null,null,null,null,null,"円",null,0,null,null,"円"]
["時間外勤務時間",null,null,null,null,null,null,"時間",null,"時間外勤務時間",null,null,null,null,null,null,"時間",null,0,null,null,"時間"]
["1時間あたり手当額",null,null,null,{"$f":"IF(E533=0,\"\",E533/E534)","v":""},null,null,"円",null,"1時間あたり手当額",null,null,null,{"$f":"IF(N533=0,\"\",N533/N534)","v":""},null,null,"円",null,"-"]
["③資格手当",null,null,null,null,null,null,"円",null,"③資格手当",null,null,null,null,null,null,"円",null,0,null,null,"円"]
["資格名※",null,null,null,null,null,null,null,null,"資格名※",null,null,null,null,null,null,null,null,"-"]
["④処遇改善加算相当額",null,null,null,null,null,null,"円",null,"④処遇改善加算相当額",null,null,null,null,null,null,"円",null,{"$f":"N538-E538","v":0},null,null,"円"]
["⑤その他手当",null,null,null,null,null,null,"円",null,"⑤その他手当",null,null,null,null,null,null,"円",null,{"$f":"N539-E539","v":0},null,null,"円"]
["一時金（年間総額）",null,null,null,null,null,null,"円"]
[null,"※資格名の選択肢"]
[null,"1．介護福祉士　　2．社会福祉士　　3．精神保健福祉士　　4．介護支援専門員　　\n5．介護職員初任者研修課程修了（旧ヘルパー1・2級相当）　　6．認知症介護指導者養成研修課程修了\n7．その他"]
[]
[]
[]
[null,"④　3年（勤続3年～3年11か月）"]
[]
["性別",null,null,null,null,"年齢",null,null,null,null,"歳",null,"管理職\n別紙．2参照"]
["平成29年度（H29.4月）",null,null,null,null,null,null,null,"⇒　　昇給した場合　　⇒","平成30年度（H30.4月）",null,null,null,null,null,null,null,"⇒　　1年間の増減差　　⇒","H30 - H29 増減差　\n（入力確認用）"]
["本給（単月分）",null,null,null,null,null,null,"円",null,"本給（単月分）",null,null,null,null,null,null,"円",null,{"$f":"N550-E550","v":0},null,null,"円"]
["諸手当（単月分）\n　①～⑤の合計",null,null,null,{"$f":"SUM(E552+E555+E558+E560+E561)","v":0},null,null,"円",null,"諸手当（単月分）\n　①～⑤の合計",null,null,null,{"$f":"SUM(N552+N555+N558+N560+N561)","v":0},null,null,"円",null,{"$f":"N551-E551","v":0},null,null,"円"]
["①夜勤手当",null,null,null,null,null,null,"円",null,"①夜勤手当",null,null,null,null,null,null,"円",null,{"$f":"N552-E552","v":0},null,null,"円"]
["夜勤回数",null,null,null,null,null,null,"回",null,"夜勤回数",null,null,null,null,null,null,"回",null,{"$f":"N553-E553","v":0},null,null,"回"]
["1回あたり手当額",null,null,null,{"$f":"IF(E552=0,\"\",E552/E553)","v":""},null,null,"円",null,"1回あたり手当額",null,null,null,{"$f":"IF(N552=0,\"\",N552/N553)","v":""},null,null,"円",null,"-"]
["②時間外手当",null,null,null,null,null,null,"円",null,"②時間外手当",null,null,null,null,null,null,"円",null,{"$f":"N555-E555","v":0},null,null,"円"]
["時間外勤務時間",null,null,null,null,null,null,"時間",null,"時間外勤務時間",null,null,null,null,null,null,"時間",null,{"$f":"N556-E556","v":0},null,null,"時間"]
["1時間あたり手当額",null,null,null,{"$f":"IF(E555=0,\"\",E555/E556)","v":""},null,null,"円",null,"1時間あたり手当額",null,null,null,{"$f":"IF(N555=0,\"\",N555/N556)","v":""},null,null,"円",null,"-"]
["③資格手当",null,null,null,null,null,null,"円",null,"③資格手当",null,null,null,null,null,null,"円",null,{"$f":"N558-E558","v":0},null,null,"円"]
["資格名※",null,null,null,null,null,null,null,null,"資格名※",null,null,null,null,null,null,null,null,"-"]
["④処遇改善加算相当額",null,null,null,null,null,null,"円",null,"④処遇改善加算相当額",null,null,null,null,null,null,"円",null,{"$f":"N560-E560","v":0},null,null,"円"]
["⑤その他手当",null,null,null,null,null,null,"円",null,"⑤その他手当",null,null,null,null,null,null,"円",null,{"$f":"N561-E561","v":0},null,null,"円"]
["一時金（年間総額）",null,null,null,null,null,null,"円"]
[]
[null,"⑤　4年（勤続4年～4年11か月）　"]
[]
["性別",null,null,null,null,"年齢",null,null,null,null,"歳",null,"管理職\n別紙．2参照"]
["平成29年度（H29.4月）",null,null,null,null,null,null,null,"⇒　　昇給した場合　　⇒","平成30年度（H30.4月）",null,null,null,null,null,null,null,"⇒　　1年間の増減差　　⇒","H30 - H29 増減差　\n（入力確認用）"]
["本給（単月分）",null,null,null,null,null,null,"円",null,"本給（単月分）",null,null,null,null,null,null,"円",null,{"$f":"N568-E568","v":0},null,null,"円"]
["諸手当（単月分）\n　①～⑤の合計",null,null,null,{"$f":"SUM(E570+E573+E576+E578+E579)","v":0},null,null,"円",null,"諸手当（単月分）\n　①～⑤の合計",null,null,null,{"$f":"SUM(N570+N573+N576+N578+N579)","v":0},null,null,"円",null,0,null,null,"円"]
["①夜勤手当",null,null,null,null,null,null,"円",null,"①夜勤手当",null,null,null,null,null,null,"円",null,0,null,null,"円"]
["夜勤回数",null,null,null,null,null,null,"回",null,"夜勤回数",null,null,null,null,null,null,"回",null,0,null,null,"回"]
["1回あたり手当額",null,null,null,{"$f":"IF(E570=0,\"\",E570/E571)","v":""},null,null,"円",null,"1回あたり手当額",null,null,null,{"$f":"IF(N570=0,\"\",N570/N571)","v":""},null,null,"円",null,"-"]
["②時間外手当",null,null,null,null,null,null,"円",null,"②時間外手当",null,null,null,null,null,null,"円",null,0,null,null,"円"]
["時間外勤務時間",null,null,null,null,null,null,"時間",null,"時間外勤務時間",null,null,null,null,null,null,"時間",null,0,null,null,"時間"]
["1時間あたり手当額",null,null,null,{"$f":"IF(E573=0,\"\",E573/E574)","v":""},null,null,"円",null,"1時間あたり手当額",null,null,null,{"$f":"IF(N573=0,\"\",N573/N574)","v":""},null,null,"円",null," ",null,null,"円"]
["③資格手当",null,null,null,null,null,null,"円",null,"③資格手当",null,null,null,null,null,null,"円",null,"-"]
["資格名※",null,null,null,null,null,null,null,null,"資格名※",null,null,null,null,null,null,null,null,"-"]
["④処遇改善加算相当額",null,null,null,null,null,null,"円",null,"④処遇改善加算相当額",null,null,null,null,null,null,"円",null,{"$f":"N578-E578","v":0},null,null,"円"]
["⑤その他手当",null,null,null,null,null,null,"円",null,"⑤その他手当",null,null,null,null,null,null,"円",null,{"$f":"N579-E579","v":0},null,null,"円"]
["一時金（年間総額）",null,null,null,null,null,null,"円"]
[null,"※資格名の選択肢"]
[null,"1．介護福祉士　　2．社会福祉士　　3．精神保健福祉士　　4．介護支援専門員　　\n5．介護職員初任者研修課程修了（旧ヘルパー1・2級相当）　　6．認知症介護指導者養成研修課程修了\n7．その他"]
[]
[]
[]
[null,"⑥　5年～10年未満（勤続5年～9年11か月）　"]
[]
["性別",null,null,null,null,"年齢",null,null,null,null,"歳",null,"管理職\n別紙．2参照"]
["平成29年度（H29.4月）",null,null,null,null,null,null,null,"⇒　　昇給した場合　　⇒","平成30年度（H30.4月）",null,null,null,null,null,null,null,"⇒　　1年間の増減差　　⇒","H30 - H29 増減差　\n（入力確認用）"]
["本給（単月分）",null,null,null,null,null,null,"円",null,"本給（単月分）",null,null,null,null,null,null,"円",null,{"$f":"N590-E590","v":0},null,null,"円"]
["諸手当（単月分）\n　①～⑤の合計",null,null,null,{"$f":"SUM(E592+E595+E598+E600+E601)","v":0},null,null,"円",null,"諸手当（単月分）\n　①～⑤の合計",null,null,null,{"$f":"SUM(N592+N595+N598+N600+N601)","v":0},null,null,"円",null,0,null,null,"円"]
["①夜勤手当",null,null,null,null,null,null,"円",null,"①夜勤手当",null,null,null,null,null,null,"円",null,0,null,null,"円"]
["夜勤回数",null,null,null,null,null,null,"回",null,"夜勤回数",null,null,null,null,null,null,"回",null,0,null,null,"回"]
["1回あたり手当額",null,null,null,{"$f":"IF(E592=0,\"\",E592/E593)","v":""},null,null,"円",null,"1回あたり手当額",null,null,null,{"$f":"IF(N592=0,\"\",N592/N593)","v":""},null,null,"円",null,"-"]
["②時間外手当",null,null,null,null,null,null,"円",null,"②時間外手当",null,null,null,null,null,null,"円",null,0,null,null,"円"]
["時間外勤務時間",null,null,null,null,null,null,"時間",null,"時間外勤務時間",null,null,null,null,null,null,"時間",null,0,null,null,"時間"]
["1時間あたり手当額",null,null,null,{"$f":"IF(E595=0,\"\",E595/E596)","v":""},null,null,"円",null,"1時間あたり手当額",null,null,null,{"$f":"IF(N595=0,\"\",N595/N596)","v":""},null,null,"円",null,"-"]
["③資格手当",null,null,null,null,null,null,"円",null,"③資格手当",null,null,null,null,null,null,"円",null,0,null,null,"円"]
["資格名※",null,null,null,null,null,null,null,null,"資格名※",null,null,null,null,null,null,null,null,"-"]
["④処遇改善加算相当額",null,null,null,null,null,null,"円",null,"④処遇改善加算相当額",null,null,null,null,null,null,"円",null,{"$f":"N600-E600","v":0},null,null,"円"]
["⑤その他手当",null,null,null,null,null,null,"円",null,"⑤その他手当",null,null,null,null,null,null,"円",null,{"$f":"N601-E601","v":0},null,null,"円"]
["一時金（年間総額）",null,null,null,null,null,null,"円"]
[]
[null,"⑦　10年以上　"]
[]
["性別",null,null,null,null,"年齢",null,null,null,null,"歳",null,"管理職\n別紙．2参照"]
["平成29年度（H29.4月）",null,null,null,null,null,null,null,"⇒　　昇給した場合　　⇒","平成30年度（H30.4月）",null,null,null,null,null,null,null,"⇒　　1年間の増減差　　⇒","H30 - H29 増減差　\n（入力確認用）"]
["本給（単月分）",null,null,null,null,null,null,"円",null,"本給（単月分）",null,null,null,null,null,null,"円",null,{"$f":"N608-E608","v":0},null,null,"円"]
["諸手当（単月分）\n　①～⑤の合計",null,null,null,{"$f":"SUM(E610+E613+E616+E618+E619)","v":0},null,null,"円",null,"諸手当（単月分）\n　①～⑤の合計",null,null,null,{"$f":"SUM(N610+N613+N616+N618+N619)","v":0},null,null,"円",null,0,null,null,"円"]
["①夜勤手当",null,null,null,null,null,null,"円",null,"①夜勤手当",null,null,null,null,null,null,"円",null,0,null,null,"円"]
["夜勤回数",null,null,null,null,null,null,"回",null,"夜勤回数",null,null,null,null,null,null,"回",null,0,null,null,"回"]
["1回あたり手当額",null,null,null,{"$f":"IF(E610=0,\"\",E610/E611)","v":""},null,null,"円",null,"1回あたり手当額",null,null,null,{"$f":"IF(N610=0,\"\",N610/N611)","v":""},null,null,"円",null,"-"]
["②時間外手当",null,null,null,null,null,null,"円",null,"②時間外手当",null,null,null,null,null,null,"円",null,0,null,null,"円"]
["時間外勤務時間",null,null,null,null,null,null,"時間",null,"時間外勤務時間",null,null,null,null,null,null,"時間",null,0,null,null,"時間"]
["1時間あたり手当額",null,null,null,{"$f":"IF(E613=0,\"\",E613/E614)","v":""},null,null,"円",null,"1時間あたり手当額",null,null,null,{"$f":"IF(N613=0,\"\",N613/N614)","v":""},null,null,"円",null,"-"]
["③資格手当",null,null,null,null,null,null,"円",null,"③資格手当",null,null,null,null,null,null,"円",null,0,null,null,"円"]
["資格名※",null,null,null,null,null,null,null,null,"資格名※",null,null,null,null,null,null,null,null,"-"]
["④処遇改善加算相当額",null,null,null,null,null,null,"円",null,"④処遇改善加算相当額",null,null,null,null,null,null,"円",null,{"$f":"N618-E618","v":0},null,null,"円"]
["⑤その他手当",null,null,null,null,null,null,"円",null,"⑤その他手当",null,null,null,null,null,null,"円",null,{"$f":"N619-E619","v":0},null,null,"円"]
["一時金（年間総額）",null,null,null,null,null,null,"円"]
[null,"※資格名の選択肢"]
[null,"1．介護福祉士　　2．社会福祉士　　3．精神保健福祉士　　4．介護支援専門員　　\n5．介護職員初任者研修課程修了（旧ヘルパー1・2級相当）　　6．認知症介護指導者養成研修課程修了\n7．その他"]
[]
[]
[]
["31.看護職員の実人数（年齢別・勤続年数別）",null,null,null,null,null,null,null,null,"※平成30年3月末時点の実数"]
[]
["看護職","正規（常勤）","勤続年数",null,null,"1年未満",null,"2年未満",null,"3年未満",null,"4年未満",null,"5年未満",null,"5～10年未満",null,"10年以上",null,"合計"]
[null,null,"20歳未満",null,null,null,"名",null,"名",null,"名",null,"名",null,"名",null,"名",null,"名",{"$f":"SUM(F629,H629,J629,L629,N629,P629,R629)","v":0},"名"]
[null,null,"20歳代",null,null,null,"名",null,"名",null,"名",null,"名",null,"名",null,"名",null,"名",{"$f":"SUM(F630,H630,J630,L630,N630,P630,R630)","v":0},"名"]
[null,null,"30歳代",null,null,null,"名",null,"名",null,"名",null,"名",null,"名",null,"名",null,"名",0,"名"]
[null,null,"40歳代",null,null,null,"名",null,"名",null,"名",null,"名",null,"名",null,"名",null,"名",0,"名"]
[null,null,"50歳代",null,null,null,"名",null,"名",null,"名",null,"名",null,"名",null,"名",null,"名",0,"名"]
[null,null,"60歳以上",null,null,null,"名",null,"名",null,"名",null,"名",null,"名",null,"名",null,"名",0,"名"]
[null,null,"合計",null,null,{"$f":"IF(F629+F630+F631+F632+F633+F634=0,\"\",F629+F630+F631+F632+F633+F634)","v":""},"名",{"$f":"IF(H629+H630+H631+H632+H633+H634=0,\"\",H629+H630+H631+H632+H633+H634)","v":""},"名",{"$f":"IF(J629+J630+J631+J632+J633+J634=0,\"\",J629+J630+J631+J632+J633+J634)","v":""},"名",{"$f":"IF(L629+L630+L631+L632+L633+L634=0,\"\",L629+L630+L631+L632+L633+L634)","v":""},"名",{"$f":"IF(N629+N630+N631+N632+N633+N634=0,\"\",N629+N630+N631+N632+N633+N634)","v":""},"名",{"$f":"IF(P629+P630+P631+P632+P633+P634=0,\"\",P629+P630+P631+P632+P633+P634)","v":""},"名",{"$f":"IF(R629+R630+R631+R632+R633+R634=0,\"\",R629+R630+R631+R632+R633+R634)","v":""},"名",0,"名"]
[null,"非正規（非常勤）","勤続年数",null,null,"1年未満",null,"2年未満",null,"3年未満",null,"4年未満",null,"5年未満",null,"5～10年未満",null,"10年以上",null,"合計"]
[null,null,"20歳未満",null,null,null,"名",null,"名",null,"名",null,"名",null,"名",null,"名",null,"名",{"$f":"SUM(F637,H637,J637,L637,N637,P637,R637)","v":0},"名"]
[null,null,"20歳代",null,null,null,"名",null,"名",null,"名",null,"名",null,"名",null,"名",null,"名",{"$f":"SUM(F638,H638,J638,L638,N638,P638,R638)","v":0},"名"]
[null,null,"30歳代",null,null,null,"名",null,"名",null,"名",null,"名",null,"名",null,"名",null,"名",0,"名"]
[null,null,"40歳代",null,null,null,"名",null,"名",null,"名",null,"名",null,"名",null,"名",null,"名",0,"名"]
[null,null,"50歳代",null,null,null,"名",null,"名",null,"名",null,"名",null,"名",null,"名",null,"名",0,"名"]
[null,null,"60歳以上",null,null,null,"名",null,"名",null,"名",null,"名",null,"名",null,"名",null,"名",0,"名"]
[null,null,"合計",null,null,{"$f":"IF(F637+F638+F639+F640+F641+F642=0,\"\",F637+F638+F639+F640+F641+F642)","v":""},"名",{"$f":"IF(H637+H638+H639+H640+H641+H642=0,\"\",H637+H638+H639+H640+H641+H642)","v":""},"名",{"$f":"IF(J637+J638+J639+J640+J641+J642=0,\"\",J637+J638+J639+J640+J641+J642)","v":""},"名",{"$f":"IF(L637+L638+L639+L640+L641+L642=0,\"\",L637+L638+L639+L640+L641+L642)","v":""},"名",{"$f":"IF(N637+N638+N639+N640+N641+N642=0,\"\",N637+N638+N639+N640+N641+N642)","v":""},"名",{"$f":"IF(P637+P638+P639+P640+P641+P642=0,\"\",P637+P638+P639+P640+P641+P642)","v":""},"名",{"$f":"IF(R637+R638+R639+R640+R641+R642=0,\"\",R637+R638+R639+R640+R641+R642)","v":""},"名",0,"名"]
[]
["32.正規看護職の給与（月額）"]
["●","勤続年数ごとの対象者のうち、平成30年4月の「本給」が中央値になる職員の状況をご記入ください。"]
["●","諸手当合計は月給に占める手当の総合計金額を記載し、その内、看護職のみに支給される「職務手当」相当額（「職務手当」に該当する手当の支給がない場合は「資格手当」相当額）をそれぞれ記入してください。"]
[]
[]
["勤続年数",null,null,"年齢",null,"免許区分",null,"①本給",null,null,null,"②諸手当合計",null,null,null,"③内、職務手当（資格手当）",null,null,"合計（①+②）"]
["1年未満",null,null,null,"歳",null,null,null,null,null,"円",null,null,null,"円",null,null,"円",{"$f":"SUM(H651,L651)","v":0},null,null,"円"]
["1～2年未満",null,null,null,"歳",null,null,null,null,null,"円",null,null,null,"円",null,null,"円",0,null,null,"円"]
["2～3年未満",null,null,null,"歳",null,null,null,null,null,"円",null,null,null,"円",null,null,"円",0,null,null,"円"]
["3～4年未満",null,null,null,"歳",null,null,null,null,null,"円",null,null,null,"円",null,null,"円",0,null,null,"円"]
["4～5年未満",null,null,null,"歳",null,null,null,null,null,"円",null,null,null,"円",null,null,"円",0,null,null,"円"]
["5～10年未満",null,null,null,"歳",null,null,null,null,null,"円",null,null,null,"円",null,null,"円",0,null,null,"円"]
["10年以上",null,null,null,"歳",null,null,null,null,null,"円",null,null,null,"円",null,null,"円",0,null,null,"円"]
[]
["33.医師の配置状況",null,null,null,null,null,null,null,null,"※平成30年3月時末点の実数"]
["●","複数名の医師が関わっている場合は、施設で主となる医療機関の医師について回答してください。"]
[]
[null,"医師の配置状況"]
[null,"年間給与（年間協力費）",null,null,null,null,null,null,null,null,null,null,"円"]
[]
[]
["平成29年度決算書データ（事業活動計算書）"]
["●","対象サービスは「1.特養・短期入所」、「2.特養のみ」です。"]
[]
[null,"事業活動計算書【新会計基準】","事業活動計算書作成単位",null,null,null,null,null,null,null,null,null,null,null,null,null,null,null,null,null,"経営指標\n（確認用）"]
[null,null,"サービス活動増減の部","収益","介護保険事業収益"]
[null,null,null,null,"　施設介護料収益"]
[null,null,null,null,"　居宅介護料収益"]
[null,null,null,null,"　地域密着型介護料収益"]
[null,null,null,null,"　居宅介護支援介護料収益"]
[null,null,null,null,"　利用者等利用料収益"]
[null,null,null,null,"　その他の事業収益"]
[null,null,null,null,"　　補助金事業収益"]
[null,null,null,null,"　　市町村特別事業収益"]
[null,null,null,null,"　　受託事業収益"]
[null,null,null,null,"　　その他の事業収益"]
[null,null,null,null,"経常経費寄付金収益"]
[null,null,null,null,"その他の収益"]
[null,null,null,null,"サービス活動収益計"]
[null,null,null,"費用","人件費",null,null,null,null,null,null,null,null,null,null,null,null,null,null,null,{"$f":"IF($N$684=0,0,($N$684+$N$690)/($N$683-$N$681))","v":0}]
[null,null,null,null,"　派遣職員費",null,null,null,null,null,null,null,null,null,null,null,null,null,null,null,{"$f":"IF($N$685=0,0,$N$685/($N$683-$N$681))","v":0}]
[null,null,null,null,"事業費",null,null,null,null,null,null,null,null,null,null,null,null,null,null,null,{"$f":"IF($N$686=0,0,$N$686/($N$683-$N$681))","v":0}]
[null,null,null,null,"　給食費",null,null,null,null,null,null,null,null,null,null,null,null,null,null,null,{"$f":"IF($N$687=0,0,$N$687/($N$683-$N$681))","v":0}]
[null,null,null,null,"　水道光熱費",null,null,null,null,null,null,null,null,null,null,null,null,null,null,null,{"$f":"IF($N$688=0,0,$N$688/($N$683-$N$681))","v":0}]
[null,null,null,null,"事務費",null,null,null,null,null,null,null,null,null,null,null,null,null,null,null,{"$f":"IF($N$689=0,0,($N$689-$N$690-$N$693)/($N$683-$N$681))","v":0}]
[null,null,null,null,"　福利厚生費"]
[null,null,null,null,"　研修研究費",null,null,null,null,null,null,null,null,null,null,null,null,null,null,null,{"$f":"IF($N$691=0,0,$N$691/($N$683-$N$681))","v":0}]
[null,null,null,null,"  修繕費",null,null,null,null,null,null,null,null,null,null,null,null,null,null,null,{"$f":"IF($N$692=0,0,$N$692/($N$683-$N$681))","v":0}]
[null,null,null,null,"　業務委託費",null,null,null,null,null,null,null,null,null,null,null,null,null,null,null,{"$f":"IF($N$693=0,0,$N$693/($N$683-$N$681))","v":0}]
[null,null,null,null,"　保守料",null,null,null,null,null,null,null,null,null,null,null,null,null,null,null,{"$f":"IF($N$694=0,0,$N$694/($N$683-$N$681))","v":0}]
[null,null,null,null,"減価償却費",null,null,null,null,null,null,null,null,null,null,null,null,null,null,null,{"$f":"IF($N$695=0,0,($N$695-$N$696)/($N$683-$N$681))","v":0}]
[null,null,null,null,"国庫補助金等特別積立金取崩額（マイナス入力しない）"]
[null,null,null,null,"サービス活動費用計"]
[null,null,null,"サービス活動増減差額",null,null,null,null,null,null,null,null,null,null,null,null,null,null,null,null,{"$f":"IF($N$698=0,0,$N$698/($N$683-$N$681))","v":0}]
[null,null,"サービス活動外増減の部","収益","借入金利息補助金収益"]
[null,null,null,null,"サービス活動外収益計"]
[null,null,null,"費用","支払利息"]
[null,null,null,null,"サービス活動外費用計"]
[null,null,null,"サービス活動外増減差額"]
[null,null,"特別増減の部","収益","特別収益計"]
[null,null,null,"費用","会計区分外繰入金支出（法人本部に帰属する経費）"]
[null,null,null,null,"特別費用計"]
[null,null,null,"特別費用増減差額"]
[]
["平成29年度決算書データ（貸借対照表）"]
["●","対象サービスは「1.特養・短期入所」、「2.特養のみ」です。"]
["●","「3.拠点区分」、「4.法人全体」でご提出された場合、集計上、報告書の集計対象から除外するとともに、個表における「安全性」の項目に関する数値が反映されません。"]
[null,null,null,null,null,null,null,null,null,null,null,{"$f":"IF(L714+L721=L729+L731+L735,\"\",\"入力した左右の金額のバランスがあっていません。入力した数値を再度確認してください。\")","v":""}]
[null,"貸借対照表","貸借作成単位"]
[null,null,"　　流動資産"]
[null,null,"　　　現金預金"]
[null,null,"　　　有価証券"]
[null,null,"　　　未収金"]
[null,null,"　　　他会計区分貸付金"]
[null,null,"　　　会計区分外貸付金"]
[null,null,"　　　その他の流動資産"]
[null,null,"　　固定資産"]
[null,null,"　　　基本財産"]
[null,null,"　　　その他の固定資産"]
[null,null,"　　　　　　うち投資有価証券"]
[null,null,"　　　　　　うち他会計区分長期貸付金"]
[null,null,"　　　　　　うち移行時特別積立金"]
[null,null,"　　　　　　うち移行時減価償却特別積立預金"]
[null,null,"　　　　　　うちその他の積立預金"]
[null,null,"　　流動負債"]
[null,null,"　　　短期運営資金借入金"]
[null,null,"　　固定負債"]
[null,null,"　　　設備資金借入金"]
[null,null,"　　　長期運営資金借入金"]
[null,null,"　　　退職給与引当金"]
[null,null,"　　純資産"]
[null,null,"　　　基本金"]
[null,null,"　　　国庫補助金等特別積立金"]
[null,null,"　　　その他の積立金"]
[null,null,"　　　次期繰越活動収支差額"]
[]
["平成29年度決算書データ（資金収支計算書）"]
["●","対象サービスは「1.特養・短期入所」、「2.特養のみ」です。"]
["●","「3.拠点区分」、「4.法人全体」でご提出された場合、集計上、報告書の集計対象から除外するとともに、個表における「安全性」の項目に関する数値が反映されません。"]
[]
[null,"資金収支明細書【新会計基準】","資金収支計算書作成単位"]
[null,null,"経常活動による収支","収入","介護保険事業収入"]
[null,null,null,null,"借入金利息補助金収入"]
[null,null,null,null,"経常経費寄付金収入"]
[null,null,null,null,"受取利息配当金収入"]
[null,null,null,null,"その他の収入"]
[null,null,null,null,"流動資産評価益等による資金増加額"]
[null,null,null,null,"事業活動収入計"]
[null,null,null,"支出","人件費支出"]
[null,null,null,null,"事業費支出"]
[null,null,null,null,"事務費支出"]
[null,null,null,null,"利用者負担軽減額"]
[null,null,null,null,"支払利息支出"]
[null,null,null,null,"その他の支出"]
[null,null,null,null,"流動資産評価損等による資金減少額"]
[null,null,null,null,"事業活動支出計"]
[null,null,null,"事業活動資金収支差額"]
[null,null,"施設整備等による収支","収入","施設整備等収入計"]
[null,null,null,"支出","設備資金借入金元金償還支出"]
[null,null,null,null,"施設整備等支出計"]
[null,null,null,"施設整備等資金収支差額"]
[null,null,"財務活動等による収支","収入","その他の活動収入計"]
[null,null,null,"支出","長期運営資金借入金元金償還支出"]
[null,null,null,null,"その他の活動支出計"]
[null,null,null,"その他の活動資金収支差額"]
[null,null,"当期資金収支差額合計"]
[null,null,"前期未支払資金残高"]
[null,null,"当期未支払資金残高"]

{"sheet":"加算の取得状況","index":1,"n_rows":45,"n_cols":17,"rows_kept":45,"cut":false,"hidden":false,"merged":[[21,1,21,7],[21,8,21,15],[21,16,21,18],[14,16,14,18],[15,1,15,7],[15,8,15,15],[15,16,15,18],[16,1,16,7],[16,8,16,15],[16,16,16,18],[19,1,19,7],[19,8,19,15],[19,16,19,18],[20,1,20,7],[20,8,20,15],[20,16,20,18],[17,1,17,7],[17,8,17,15],[17,16,17,18],[18,1,18,7],[18,8,18,15],[18,16,18,18],[44,1,44,7],[44,8,44,15],[44,16,44,18],[4,16,4,18],[5,16,5,18],[13,1,13,7],[13,8,13,15],[13,16,13,18],[14,1,14,7],[14,8,14,15],[42,1,42,7],[42,8,42,15],[42,16,42,18],[43,1,43,7],[43,8,43,15],[43,16,43,18],[40,1,40,7],[40,8,40,15],[40,16,40,18],[41,1,41,7],[41,8,41,15],[41,16,41,18],[38,1,38,7],[38,8,38,15],[38,16,38,18],[39,1,39,7],[39,8,39,15],[39,16,39,18],[35,1,35,7],[35,8,35,15],[35,16,35,18],[37,1,37,7],[37,8,37,15],[37,16,37,18],[36,1,36,7],[36,8,36,15],[36,16,36,18],[32,1,32,7],[32,8,32,15],[32,16,32,18],[34,1,34,7],[34,8,34,15],[34,16,34,18],[33,1,33,7],[33,8,33,15],[33,16,33,18],[30,1,30,7],[30,8,30,15],[30,16,30,18],[31,1,31,7],[31,8,31,15],[31,16,31,18],[28,1,28,7],[28,8,28,15],[28,16,28,18],[29,1,29,7],[29,8,29,15],[29,16,29,18],[26,1,26,7],[26,8,26,15],[26,16,26,18],[27,1,27,7],[27,8,27,15],[27,16,27,18],[22,1,22,7],[22,8,22,15],[22,16,22,18],[25,1,25,7],[25,8,25,15],[25,16,25,18],[24,1,24,7],[24,8,24,15],[24,16,24,18],[23,1,23,7],[23,8,23,15],[23,16,23,18],[11,1,11,7],[11,8,11,15],[11,16,11,18],[12,1,12,7],[12,8,12,15],[12,16,12,18],[9,1,9,7],[9,8,9,15],[9,16,9,18],[10,1,10,7],[10,8,10,15],[10,16,10,18],[7,1,7,7],[7,8,7,15],[7,16,7,18],[8,1,8,7],[8,8,8,15],[8,16,8,18],[0,0,0,13],[4,1,5,7],[4,8,5,15],[6,1,6,7],[6,8,6,15],[6,16,6,18],[1,1,1,20]]}
["平成30年4月以降の特養における加算の状況"]
["●","平成30年度については、回答時に請求している項目または今後請求する見込みがある項目を回答してください。"]
[null,"組織的に計画的な取り組みがない場合は、「無」を回答してください。"]
[]
[null,"項　　目",null,null,null,null,null,null,"該当する番号を回答欄に入力してください。",null,null,null,null,null,null,null,"回答欄"]
[null,null,null,null,null,null,null,null,null,null,null,null,null,null,null,null,"平成30年度\n（請求見込含む）"]
[null,"介護職員処遇改善加算",null,null,null,null,null,null,"①加算Ⅰ ②加算Ⅱ ③加算Ⅲ ④加算Ⅳ ⑤加算Ⅴ ⑥無"]
[null,"日常生活継続支援加算",null,null,null,null,null,null,"①有　　　　②無"]
[null,"サービス提供体制強化加算",null,null,null,null,null,null,"①加算Ⅰイ ②加算Ⅰロ ③加算Ⅱ ④加算Ⅲ ⑤無"]
[null,"看護体制加算（Ⅰ）",null,null,null,null,null,null,"①加算Ⅰ イ  　②加算Ⅰ ロ　 　③無"]
[null,"看護体制加算（Ⅱ）",null,null,null,null,null,null,"①加算Ⅱ イ    ②加算Ⅱ ロ　 　③無"]
[null,"夜勤職員配置加算（Ⅰ）",null,null,null,null,null,null,"①加算Ⅰ イ  　②加算Ⅰ ロ　 　③無"]
[null,"夜勤職員配置加算（Ⅱ）",null,null,null,null,null,null,"①加算Ⅱ イ    ②加算Ⅱ ロ　 　③無"]
[null,"夜勤職員配置加算（Ⅲ）",null,null,null,null,null,null,"①加算Ⅲ イ  　②加算Ⅲ ロ　 　③無"]
[null,"夜勤職員配置加算（Ⅳ）",null,null,null,null,null,null,"①加算Ⅳ イ    ②加算Ⅳ ロ　 　③無"]
[null,"排せつ支援加算",null,null,null,null,null,null,"①有　　　　②無"]
[null,"褥瘡マネジメント加算",null,null,null,null,null,null,"①有　　　　②無"]
[null,"精神科医療養指導加算",null,null,null,null,null,null,"①有　　　　②無"]
[null,"認知症専門ケア加算",null,null,null,null,null,null,"①加算Ⅰ　     ②加算Ⅱ  　　　③無"]
[null,"認知症行動・心理症状緊急対応加算",null,null,null,null,null,null,"①有　　　　②無"]
[null,"個別機能訓練加算",null,null,null,null,null,null,"①有　　　　②無"]
[null,"生活機能向上連携加算",null,null,null,null,null,null,"①有　　　　②無"]
[null,"栄養マネジメント加算",null,null,null,null,null,null,"①有　　　　②無"]
[null,"低栄養リスク改善加算",null,null,null,null,null,null,"①有　　　　②無"]
[null,"再入所時栄養連携加算",null,null,null,null,null,null,"①有　　　　②無"]
[null,"経口移行加算",null,null,null,null,null,null,"①有　　　　②無"]
[null,"経口維持加算",null,null,null,null,null,null,"①加算Ⅰ　②加算Ⅱ　③併算定　④無"]
[null,"口腔衛生管理体制加算",null,null,null,null,null,null,"①有　　　　②無"]
[null,"口腔衛生管理加算",null,null,null,null,null,null,"①有　　　　②無"]
[null,"療養食加算",null,null,null,null,null,null,"①有　　　　②無"]
[null,"看取り介護加算",null,null,null,null,null,null,"①加算Ⅰ　　　　②加算Ⅱ　　　　③無"]
[null,"準ユニットケア加算",null,null,null,null,null,null,"①有　　　　②無"]
[null,"常勤医師配置加算",null,null,null,null,null,null,"①有　　　　②無"]
[null,"配置医師緊急時対応加算",null,null,null,null,null,null,"①有　　　　②無"]
[null,"障害者生活支援体制加算",null,null,null,null,null,null,"①加算Ⅰ　　　　②加算Ⅱ　　　　③無"]
[null,"外泊時費用",null,null,null,null,null,null,"①有　　　　②無"]
[null,"在宅サービスを利用した時の費用",null,null,null,null,null,null,"①有　　　　②無"]
[null,"初期加算",null,null,null,null,null,null,"①有　　　　②無"]
[null,"退所前訪問相談援助加算",null,null,null,null,null,null,"①有　　　　②無"]
[null,"退所後訪問相談援助加算",null,null,null,null,null,null,"①有　  　　②無"]
[null,"退所時相談援助加算",null,null,null,null,null,null,"①有　　　　②無"]
[null,"退所前連携加算",null,null,null,null,null,null,"①有　　　　②無"]
[null,"在宅復帰支援機能加算",null,null,null,null,null,null,"①有　　　　②無"]
[null,"在宅・入所相互利用加算",null,null,null,null,null,null,"①有　　　　②無"]
[null,"若年性認知症入所者受入加算",null,null,null,null,null,null,"①有　　　　②無"]

{"sheet":"集計アシストシート","index":2,"n_rows":207,"n_cols":11,"rows_kept":207,"cut":false,"hidden":false,"merged":[[1,0,1,5],[3,0,3,5],[4,1,4,10]]}
[]
["21.介護職員の実人数（性別・年齢別・勤続年数別）",null,null,null,null,null,"※平成30年3月末時点の実数"]
[]
["24.介護職員の年間採用・退職者の状況",null,null,null,null,null,"※平成29年4月1日から平成30年3月31日まで"]
["●","「集計アシストシート」には個人情報が含まれています。調査票をご提出時は、「集計アシストシート」の情報を削除してからご提出ください。（必ず、設問の回答セルに数値を貼り付けまたは入力した上で削除してください）"]
[null,null,null,null,null,null,null,null,null,"基準日","2018-03-31"]
[null,"No.","氏名","雇用形態\n（正規・非正規）","性別\n（男・女）","生年月日\n（西暦・和暦）","年齢","入職日\n（西暦・和暦）","退職日\n（西暦・和暦）","勤続月数\n（月）","勤続年数\n（年）"]
[null,1,null,null,null,null,{"$f":"IF(F8=\"\",\"\",DATEDIF(F8,$K$6,\"Y\"))","v":""},null,null,{"$f":"IF($H8=\"\",\"\",IF($I8=\"\",DATEDIF($H8,$K$6,\"m\"),DATEDIF($H8,$I8,\"M\")))","v":""},{"$f":"IF($H8=\"\",\"\",IF($I8=\"\",DATEDIF($H8,$K$6,\"Y\"),DATEDIF($H8,$I8,\"Y\")))","v":""}]
[null,2,null,null,null,null,{"$f":"IF(F9=\"\",\"\",DATEDIF(F9,$K$6,\"Y\"))","v":""},null,null,{"$f":"IF($H9=\"\",\"\",IF($I9=\"\",DATEDIF($H9,$K$6,\"m\"),DATEDIF($H9,$I9,\"M\")))","v":""},{"$f":"IF($H9=\"\",\"\",IF($I9=\"\",DATEDIF($H9,$K$6,\"Y\"),DATEDIF($H9,$I9,\"Y\")))","v":""}]
[null,3,null,null,null,null,"",null,null,"",{"$f":"IF($H10=\"\",\"\",IF($I10=\"\",DATEDIF($H10,$K$6,\"Y\"),DATEDIF($H10,$I10,\"Y\")))","v":""}]
[null,4,null,null,null,null,"",null,null,"",""]
[null,5,null,null,null,null,"",null,null,"",""]
[null,6,null,null,null,null,"",null,null,"",""]
[null,7,null,null,null,null,"",null,null,"",""]
[null,8,null,null,null,null,"",null,null,"",""]
[null,9,null,null,null,null,"",null,null,"",""]
[null,10,null,null,null,null,"",null,null,"",""]
[null,11,null,null,null,null,"",null,null,"",""]
[null,12,null,null,null,null,"",null,null,"",""]
[null,13,null,null,null,null,"",null,null,"",""]
[null,14,null,null,null,null,"",null,null,"",""]
[null,15,null,null,null,null,"",null,null,"",""]
[null,16,null,null,null,null,"",null,null,"",""]
[null,17,null,null,null,null,"",null,null,"",""]
[null,18,null,null,null,null,"",null,null,"",""]
[null,19,null,null,null,null,"",null,null,"",""]
[null,20,null,null,null,null,"",null,null,"",""]
[null,21,null,null,null,null,"",null,null,"",""]
[null,22,null,null,null,null,"",null,null,"",""]
[null,23,null,null,null,null,"",null,null,"",""]
[null,24,null,null,null,null,"",null,null,"",""]
[null,25,null,null,null,null,"",null,null,"",""]
[null,26,null,null,null,null,"",null,null,"",""]
[null,27,null,null,null,null,"",null,null,"",""]
[null,28,null,null,null,null,"",null,null,"",""]
[null,29,null,null,null,null,"",null,null,"",""]
[null,30,null,null,null,null,"",null,null,"",""]
[null,31,null,null,null,null,"",null,null,"",""]
[null,32,null,null,null,null,"",null,null,"",""]
[null,33,null,null,null,null,"",null,null,"",""]
[null,34,null,null,null,null,"",null,null,"",""]
[null,35,null,null,null,null,"",null,null,"",""]
[null,36,null,null,null,null,"",null,null,"",""]
[null,37,null,null,null,null,"",null,null,"",""]
[null,38,null,null,null,null,"",null,null,"",""]
[null,39,null,null,null,null,"",null,null,"",""]
[null,40,null,null,null,null,"",null,null,"",""]
[null,41,null,null,null,null,"",null,null,"",""]
[null,42,null,null,null,null,"",null,null,"",""]
[null,43,null,null,null,null,"",null,null,"",""]
[null,44,null,null,null,null,"",null,null,"",""]
[null,45,null,null,null,null,"",null,null,"",""]
[null,46,null,null,null,null,"",null,null,"",""]
[null,47,null,null,null,null,"",null,null,"",""]
[null,48,null,null,null,null,"",null,null,"",""]
[null,49,null,null,null,null,"",null,null,"",""]
[null,50,null,null,null,null,"",null,null,"",""]
[null,51,null,null,null,null,"",null,null,"",""]
[null,52,null,null,null,null,"",null,null,"",""]
[null,53,null,null,null,null,"",null,null,"",""]
[null,54,null,null,null,null,"",null,null,"",""]
[null,55,null,null,null,null,"",null,null,"",""]
[null,56,null,null,null,null,"",null,null,"",""]
[null,57,null,null,null,null,"",null,null,"",""]
[null,58,null,null,null,null,"",null,null,"",""]
[null,59,null,null,null,null,"",null,null,"",""]
[null,60,null,null,null,null,"",null,null,"",""]
[null,61,null,null,null,null,"",null,null,"",""]
[null,62,null,null,null,null,"",null,null,"",""]
[null,63,null,null,null,null,"",null,null,"",""]
[null,64,null,null,null,null,"",null,null,"",""]
[null,65,null,null,null,null,"",null,null,"",""]
[null,66,null,null,null,null,{"$f":"IF(F73=\"\",\"\",DATEDIF(F73,$K$6,\"Y\"))","v":""},null,null,{"$f":"IF($H73=\"\",\"\",IF($I73=\"\",DATEDIF($H73,$K$6,\"m\"),DATEDIF($H73,$I73,\"M\")))","v":""},{"$f":"IF($H73=\"\",\"\",IF($I73=\"\",DATEDIF($H73,$K$6,\"Y\"),DATEDIF($H73,$I73,\"Y\")))","v":""}]
[null,67,null,null,null,null,"",null,null,"",""]
[null,68,null,null,null,null,"",null,null,"",""]
[null,69,null,null,null,null,"",null,null,"",""]
[null,70,null,null,null,null,"",null,null,"",""]
[null,71,null,null,null,null,"",null,null,"",""]
[null,72,null,null,null,null,"",null,null,"",""]
[null,73,null,null,null,null,"",null,null,"",""]
[null,74,null,null,null,null,"",null,null,"",""]
[null,75,null,null,null,null,"",null,null,"",""]
[null,76,null,null,null,null,"",null,null,"",""]
[null,77,null,null,null,null,"",null,null,"",""]
[null,78,null,null,null,null,"",null,null,"",""]
[null,79,null,null,null,null,"",null,null,"",""]
[null,80,null,null,null,null,"",null,null,"",""]
[null,81,null,null,null,null,"",null,null,"",""]
[null,82,null,null,null,null,"",null,null,"",""]
[null,83,null,null,null,null,"",null,null,"",""]
[null,84,null,null,null,null,"",null,null,"",""]
[null,85,null,null,null,null,"",null,null,"",""]
[null,86,null,null,null,null,"",null,null,"",""]
[null,87,null,null,null,null,"",null,null,"",""]
[null,88,null,null,null,null,"",null,null,"",""]
[null,89,null,null,null,null,"",null,null,"",""]
[null,90,null,null,null,null,"",null,null,"",""]
[null,91,null,null,null,null,"",null,null,"",""]
[null,92,null,null,null,null,"",null,null,"",""]
[null,93,null,null,null,null,"",null,null,"",""]
[null,94,null,null,null,null,"",null,null,"",""]
[null,95,null,null,null,null,"",null,null,"",""]
[null,96,null,null,null,null,"",null,null,"",""]
[null,97,null,null,null,null,"",null,null,"",""]
[null,98,null,null,null,null,"",null,null,"",""]
[null,99,null,null,null,null,"",null,null,"",""]
[null,100,null,null,null,null,"",null,null,"",""]
[null,101,null,null,null,null,"",null,null,"",""]
[null,102,null,null,null,null,"",null,null,"",""]
[null,103,null,null,null,null,"",null,null,"",""]
[null,104,null,null,null,null,"",null,null,"",""]
[null,105,null,null,null,null,"",null,null,"",""]
[null,106,null,null,null,null,"",null,null,"",""]
[null,107,null,null,null,null,"",null,null,"",""]
[null,108,null,null,null,null,"",null,null,"",""]
[null,109,null,null,null,null,"",null,null,"",""]
[null,110,null,null,null,null,"",null,null,"",""]
[null,111,null,null,null,null,"",null,null,"",""]
[null,112,null,null,null,null,"",null,null,"",""]
[null,113,null,null,null,null,"",null,null,"",""]
[null,114,null,null,null,null,"",null,null,"",""]
[null,115,null,null,null,null,"",null,null,"",""]
[null,116,null,null,null,null,"",null,null,"",""]
[null,117,null,null,null,null,"",null,null,"",""]
[null,118,null,null,null,null,"",null,null,"",""]
[null,119,null,null,null,null,"",null,null,"",""]
[null,120,null,null,null,null,"",null,null,"",""]
[null,121,null,null,null,null,"",null,null,"",""]
[null,122,null,null,null,null,"",null,null,"",""]
[null,123,null,null,null,null,"",null,null,"",""]
[null,124,null,null,null,null,"",null,null,"",""]
[null,125,null,null,null,null,"",null,null,"",""]
[null,126,null,null,null,null,"",null,null,"",""]
[null,127,null,null,null,null,"",null,null,"",""]
[null,128,null,null,null,null,"",null,null,"",""]
[null,129,null,null,null,null,"",null,null,"",""]
[null,130,null,null,null,null,{"$f":"IF(F137=\"\",\"\",DATEDIF(F137,$K$6,\"Y\"))","v":""},null,null,{"$f":"IF($H137=\"\",\"\",IF($I137=\"\",DATEDIF($H137,$K$6,\"m\"),DATEDIF($H137,$I137,\"M\")))","v":""},{"$f":"IF($H137=\"\",\"\",IF($I137=\"\",DATEDIF($H137,$K$6,\"Y\"),DATEDIF($H137,$I137,\"Y\")))","v":""}]
[null,131,null,null,null,null,"",null,null,"",""]
[null,132,null,null,null,null,"",null,null,"",""]
[null,133,null,null,null,null,"",null,null,"",""]
[null,134,null,null,null,null,"",null,null,"",""]
[null,135,null,null,null,null,"",null,null,"",""]
[null,136,null,null,null,null,"",null,null,"",""]
[null,137,null,null,null,null,"",null,null,"",""]
[null,138,null,null,null,null,"",null,null,"",""]
[null,139,null,null,null,null,"",null,null,"",""]
[null,140,null,null,null,null,"",null,null,"",""]
[null,141,null,null,null,null,"",null,null,"",""]
[null,142,null,null,null,null,"",null,null,"",""]
[null,143,null,null,null,null,"",null,null,"",""]
[null,144,null,null,null,null,"",null,null,"",""]
[null,145,null,null,null,null,"",null,null,"",""]
[null,146,null,null,null,null,"",null,null,"",""]
[null,147,null,null,null,null,"",null,null,"",""]
[null,148,null,null,null,null,"",null,null,"",""]
[null,149,null,null,null,null,"",null,null,"",""]
[null,150,null,null,null,null,"",null,null,"",""]
[null,151,null,null,null,null,"",null,null,"",""]
[null,152,null,null,null,null,"",null,null,"",""]
[null,153,null,null,null,null,"",null,null,"",""]
[null,154,null,null,null,null,"",null,null,"",""]
[null,155,null,null,null,null,"",null,null,"",""]
[null,156,null,null,null,null,"",null,null,"",""]
[null,157,null,null,null,null,"",null,null,"",""]
[null,158,null,null,null,null,"",null,null,"",""]
[null,159,null,null,null,null,"",null,null,"",""]
[null,160,null,null,null,null,"",null,null,"",""]
[null,161,null,null,null,null,"",null,null,"",""]
[null,162,null,null,null,null,"",null,null,"",""]
[null,163,null,null,null,null,"",null,null,"",""]
[null,164,null,null,null,null,"",null,null,"",""]
[null,165,null,null,null,null,"",null,null,"",""]
[null,166,null,null,null,null,"",null,null,"",""]
[null,167,null,null,null,null,"",null,null,"",""]
[null,168,null,null,null,null,"",null,null,"",""]
[null,169,null,null,null,null,"",null,null,"",""]
[null,170,null,null,null,null,"",null,null,"",""]
[null,171,null,null,null,null,"",null,null,"",""]
[null,172,null,null,null,null,"",null,null,"",""]
[null,173,null,null,null,null,"",null,null,"",""]
[null,174,null,null,null,null,"",null,null,"",""]
[null,175,null,null,null,null,"",null,null,"",""]
[null,176,null,null,null,null,"",null,null,"",""]
[null,177,null,null,null,null,"",null,null,"",""]
[null,178,null,null,null,null,"",null,null,"",""]
[null,179,null,null,null,null,"",null,null,"",""]
[null,180,null,null,null,null,"",null,null,"",""]
[null,181,null,null,null,null,"",null,null,"",""]
[null,182,null,null,null,null,"",null,null,"",""]
[null,183,null,null,null,null,"",null,null,"",""]
[null,184,null,null,null,null,"",null,null,"",""]
[null,185,null,null,null,null,"",null,null,"",""]
[null,186,null,null,null,null,"",null,null,"",""]
[null,187,null,null,null,null,"",null,null,"",""]
[null,188,null,null,null,null,"",null,null,"",""]
[null,189,null,null,null,null,"",null,null,"",""]
[null,190,null,null,null,null,"",null,null,"",""]
[null,191,null,null,null,null,"",null,null,"",""]
[null,192,null,null,null,null,"",null,null,"",""]
[null,193,null,null,null,null,"",null,null,"",""]
[null,194,null,null,null,null,{"$f":"IF(F201=\"\",\"\",DATEDIF(F201,$K$6,\"Y\"))","v":""},null,null,{"$f":"IF($H201=\"\",\"\",IF($I201=\"\",DATEDIF($H201,$K$6,\"m\"),DATEDIF($H201,$I201,\"M\")))","v":""},{"$f":"IF($H201=\"\",\"\",IF($I201=\"\",DATEDIF($H201,$K$6,\"Y\"),DATEDIF($H201,$I201,\"Y\")))","v":""}]
[null,195,null,null,null,null,"",null,null,"",""]
[null,196,null,null,null,null,"",null,null,"",""]
[null,197,null,null,null,null,"",null,null,"",""]
[null,198,null,null,null,null,"",null,null,"",""]
[null,199,null,null,null,null,"",null,null,"",""]
[null,200,null,null,null,null,"",null,null,"",""]

{"sheet":"検算シート","index":3,"n_rows":126,"n_cols":9,"rows_kept":126,"cut":false,"hidden":false,"merged":[[21,2,21,9],[4,1,4,5],[6,1,6,5],[8,1,8,5],[11,2,11,9],[20,1,20,5],[38,2,38,3],[38,4,38,5],[23,2,23,3],[23,4,23,5],[25,1,25,5],[26,2,26,9],[28,2,28,3],[28,4,28,5],[30,1,30,5],[30,6,30,9],[33,2,33,3],[33,4,33,5],[35,1,35,9],[43,2,43,3],[43,4,43,5],[48,2,48,3],[48,4,48,5],[53,2,53,3],[53,4,53,5],[84,2,84,3],[84,4,84,5],[84,6,84,7],[58,2,58,3],[58,4,58,5],[64,2,64,3],[64,4,64,5],[64,6,64,7],[69,2,69,3],[69,4,69,5],[74,2,74,3],[74,4,74,5],[74,6,74,7],[79,2,79,3],[79,4,79,5],[105,4,105,5],[105,6,105,7],[87,6,87,7],[92,2,92,3],[92,4,92,5],[92,6,92,7],[97,2,97,3],[97,4,97,5],[100,2,100,9],[102,2,102,3],[102,4,102,5],[102,6,102,7],[102,8,102,9],[125,2,125,3],[125,4,125,5],[109,2,109,3],[109,4,109,5],[112,1,112,9],[115,2,115,3],[115,4,115,5],[120,2,120,3],[120,4,120,5]]}
[null,null,null,null,null,"入力箇所はございません。確認用です。"]
[]
[]
[null,"◆収益性の指標"]
[null,"①サービス活動収益（円）",null,null,null,null,{"$f":"調査票!N683","v":0},"（円）"]
[]
[null,"②サービス活動費用（円）",null,null,null,null,{"$f":"調査票!N697","v":0},"（円）"]
[]
[null,"③サービス活動増減差額（円）",null,null,null,null,{"$f":"G5-G7","v":0},"（円）"]
[]
[null,"④サービス活動増減差額率(%)；"]
[null,null,"（③サービス活動増減差額 ÷ ①サービス活動収益）×100"]
[null,"（",{"$f":"G9","v":0},"÷",{"$f":"G5","v":0},"）×100＝",{"$f":"IF(E13=\"\",\"\",(C13/E13))","v":{"$error":"#DIV/0!"}}]
[]
[null,"◆機能性の指標"]
[null,"※純然たるサービス活動収益を先に算出する。"]
[null,null,"サービス活動収益 － 経常経費寄付金収益 ＝ 純然たるサービス活動収益"]
[null,null,{"$f":"$G$5","v":0},"－",{"$f":"調査票!N681","v":0},"＝",{"$f":"C18-E18","v":0}]
[]
[]
[null,"⑤１日平均利用者数(人)；"]
[null,null,"年間利用者延べ人数 ÷ 施設開業日数"]
[null,null,{"$f":"調査票!R71","v":""},"÷",365,"＝",{"$f":"C23/E23","v":{"$error":"#VALUE!"}},"（人）"]
[null,null,"年間利用者延べ人数",null,"施設開業日数"]
[]
[null,"⑥１日あたり平均利用率(%)；"]
[null,null,"⑤１日平均利用者数 ÷ 施設定員数"]
[null,null,{"$f":"G23","v":{"$error":"#VALUE!"}},"÷",{"$f":"調査票!J62","v":""},"×100 ＝",{"$f":"C28/E28","v":{"$error":"#VALUE!"}}]
[null,null,"⑤の結果を入力",null,"施設定員数"]
[]
[null,"⑦利用者10人あたり職員数(人)；"]
[null,null,"常勤換算職員数 ÷ ⑤１日平均利用者数 × 10"]
[null,null,{"$f":"調査票!M275","v":0},"÷",{"$f":"G23","v":{"$error":"#VALUE!"}},"×10 ＝",{"$f":"C33/E33*10","v":{"$error":"#VALUE!"}},"（人）"]
[null,null,"常勤換算職員数",null,"⑤の結果を入力"]
[]
[null,"⑧利用者１人１日あたりサービス活動収益(円)／日；"]
[null,null,"純然たるサービス活動収益 ÷ 年間利用者延べ人数 等"]
[null,null,{"$f":"$G$18","v":0},"÷",{"$f":"C23","v":""},"＝",{"$f":"C38/E38","v":{"$error":"#VALUE!"}},"（円）"]
[null,null,"純然たるサービス活動収益",null,"年間利用者延べ人数"]
[]
[null,"⑧-1（訪問介護のみ）利用者１人１時間あたりサービス活動収益(円)／時間；"]
[null,null,"純然たるサービス活動収益 ÷ 年間延べサービス提供時間"]
[null,null,{"$f":"$G$18","v":0},"÷",{"$f":"L36","v":0},"＝",{"$f":"IF(E43=\"\",\"\",C43/E43)","v":{"$error":"#DIV/0!"}},"（円）"]
[null,null,"純然たるサービス活動収益",null,"年間延べサービス提供時間"]
[]
[null,"⑧-2（訪問介護のみ）利用者１人１回あたりサービス活動収益(円)／回；"]
[null,null,"純然たるサービス活動収益 ÷ 年間延べサービス提供回数"]
[null,null,{"$f":"$G$18","v":0},"÷",{"$f":"L41","v":0},"＝",{"$f":"IF(E48=\"\",\"\",C48/E48)","v":{"$error":"#DIV/0!"}},"（円）"]
[null,null,"純然たるサービス活動収益",null,"年間延べサービス提供回数"]
[]
[null,"⑧-1（居宅介護のみ）利用者１人１プランあたりサービス活動収益(円)／1プラン；"]
[null,null,"純然たるサービス活動収益 ÷ 年間保有ケアプラン数"]
[null,null,{"$f":"$G$18","v":0},"÷",{"$f":"L50","v":0},"＝",{"$f":"IF(E53=\"\",\"\",C53/E53)","v":{"$error":"#DIV/0!"}},"（円）"]
[null,null,"純然たるサービス活動収益",null,"年間保有ケアプラン数"]
[]
[null,"⑧-2（居宅介護のみ）（常勤換算）職員１人あたりケアプラン／人；"]
[null,null,"年間保有ケアプラン数 ÷ 常勤換算職員数"]
[null,null,{"$f":"L50","v":0},"÷",{"$f":"$C$33","v":0},"÷","12か月","＝",{"$f":"IF(C58=\"\",\"\",C58/E58/12)","v":{"$error":"#DIV/0!"}}]
[null,null,"年間保有ケアプラン数",null,"常勤換算職員数",null,null,null,"(人）"]
[]
[null,"◆合理性の指標"]
[null,"⑨人件費率（％）"]
[null,null,"（人件費 ＋ 福利厚生費）÷ 純然たるサービス活動収益 ×100"]
[null,"（",{"$f":"調査票!N684","v":0},"＋",{"$f":"調査票!N690","v":0},"）÷",{"$f":"$G$18","v":0},"×100＝",{"$f":"(C64+E64)/G64","v":{"$error":"#DIV/0!"}}]
[null,null,"人件費",null,"福利厚生費",null,"純然たるサービス活動収益"]
[]
[null,"⑩事業費率（％）；"]
[null,null,"事業費 ÷ 純然たるサービス活動収益 ×100"]
[null,null,{"$f":"調査票!N686","v":0},"÷",{"$f":"$G$18","v":0},"×100＝",{"$f":"C69/E69","v":{"$error":"#DIV/0!"}}]
[null,null,"事業費",null,"純然たるサービス活動収益"]
[]
[null,"⑪減価償却費率（％）；"]
[null,null,"（減価償却費ー国庫補助金等特別積立金取崩額）÷ 純然たるサービス活動収益×100"]
[null,"（",{"$f":"調査票!N695","v":0},"－",{"$f":"調査票!N696","v":0},"）÷",{"$f":"$G$18","v":0},"×100＝",{"$f":"IF(E74=\"\",\"\",((C74-E74)/G74))","v":{"$error":"#DIV/0!"}}]
[null,null,"減価償却費",null,"国庫補助金等特別積立金取崩額",null,"純然たるサービス活動収益"]
[]
[null,"⑫業務委託費率（％）；"]
[null,null,"業務委託費 ÷ 純然たるサービス活動収益 ×100"]
[null,null,{"$f":"調査票!N693","v":0},"÷",{"$f":"$G$18","v":0},"×100＝",{"$f":"IF(C79=\"\",\"\",(C79/E79))","v":{"$error":"#DIV/0!"}}]
[null,null,"業務委託費",null,"純然たるサービス活動収益"]
[]
[null,"⑬事務費率（％）；"]
[null,null,"（事務費 ー 福利厚生費 ー 業務委託費）÷ 純然たるサービス活動収益 ×100"]
[null,"（",{"$f":"調査票!N689","v":0},"－",{"$f":"E64","v":0},"－",{"$f":"C79","v":0},"）"]
[null,null,"事務費",null,"福利厚生費",null,"業務委託費"]
[]
[null,null,null,null,null,"÷　",{"$f":"$G$18","v":0},"×100＝",{"$f":"IF(C84=\"\",\"\",((C84-E84-G84)/G87))","v":{"$error":"#DIV/0!"}}]
[null,null,null,null,null,null,"純然たるサービス活動収益"]
[null,"◆生産性の指標"]
[null,"⑭職員１人あたりの給与費（円）；"]
[null,null,"（人件費 ＋ 福利厚生費）÷ 常勤換算職員数 ÷ 12ヵ月"]
[null,"（",{"$f":"C64","v":0},"＋",{"$f":"E64","v":0},"）÷",{"$f":"$C$33","v":0},"÷12＝",{"$f":"IF(G92=0,\"\",(C92+E92)/G92/12)","v":""}]
[null,null,"人件費",null,"福利厚生費",null,"常勤換算職員数",null,"（円）"]
[]
[null,"⑮職員1人あたりサービス活動収益（円）；"]
[null,null,"純然たるサービス活動収益 ÷ 常勤換算職員数 ÷ 12ヵ月"]
[null,null,{"$f":"$G$18","v":0},"÷",{"$f":"$C$33","v":0},"÷12＝",{"$f":"IF(E97=0,\"\",C97/E97/12)","v":""},"（円）"]
[null,null,"純然たるサービス活動収益",null,"常勤換算職員数"]
[]
[null,"⑯労働生産性（円）；"]
[null,null,"（純然たるサービス活動収益 ー（事業費＋業務委託費 ＋ 減価償却費 \n　　　　　　　　　　ー 国庫補助金等特別積立金取崩額））÷ 常勤換算職員数 ÷12ヵ月"]
[null,"（",{"$f":"$G$18","v":0},"－（",{"$f":"$C$69","v":0},"＋",{"$f":"$C$79","v":0},"＋",{"$f":"$C$74","v":0}]
[null,null,"純然たるサービス活動収益",null,"事業費",null,"業務委託費",null,"減価償却費"]
[]
[null,null,null,"－",{"$f":"E74","v":0},"））÷",{"$f":"$C$33","v":0},"÷12＝",{"$f":"IF(G105=0,\"\",(C102-(E102+G102+I102-E105))/G105/12)","v":""}]
[null,null,null,null,"国庫補助金等特別積立金取崩額",null,"常勤換算職員数",null,"（円）"]
[null,"⑰労働分配率（％）；"]
[null,null,"⑭職員1人あたりの給与費 ÷ ⑯労働生産性 ×100"]
[null,null,{"$f":"I92","v":""},"÷",{"$f":"I105","v":""},"×100＝",{"$f":"IF(C109=\"\",\"\",C109/E109)","v":""}]
[null,null,"職員1人当たり給与費",null,"労働生産性"]
[]
[]
[]
[]
[]
[]
[]
[null,"⑧-1（訪問介護のみ）利用者１人１時間あたりサービス活動収益(円)／時間；"]
[null,null,"介護報酬収益 ÷ 年間延べサービス提供時間"]
[null,null,{"$f":"C115","v":0},"÷",{"$f":"(L37+L38)","v":0},"＝",{"$f":"IF(E120=\"\",\"\",C120/E120)","v":{"$error":"#DIV/0!"}},"（円）"]
[null,null,"介護報酬収益",null,"年間延べサービス提供時間"]
[]
[null,"⑧-2（訪問介護のみ）利用者１人１回あたりサービス活動収益(円)／回；"]
[null,null,"介護報酬収益 ÷ 年間延べサービス提供回数"]
[null,null,{"$f":"C120","v":0},"÷",{"$f":"(L42+L43)","v":0},"＝",{"$f":"IF(E125=\"\",\"\",C125/E125)","v":{"$error":"#DIV/0!"}},"（円）"]
[null,null,"介護報酬収益",null,"年間延べサービス提供回数"]

{"sheet":"経営指標の計算式","index":4,"n_rows":37,"n_cols":3,"rows_kept":37,"cut":false,"hidden":false,"merged":[[11,0,11,1],[0,0,0,3],[2,0,3,1],[2,2,2,3],[3,2,3,3],[4,0,4,1],[5,2,5,3],[11,2,11,3],[4,2,4,3],[6,2,6,3],[7,2,7,3],[8,2,8,3],[9,2,9,3],[10,2,10,3],[23,0,23,1],[12,2,12,3],[13,2,13,3],[14,2,14,3],[15,2,15,3],[16,0,16,1],[17,2,17,3],[16,2,16,3],[23,2,23,3],[18,2,18,3],[19,2,19,3],[20,2,20,3],[21,2,21,3],[22,2,22,3],[24,2,24,3],[25,2,25,3],[26,2,26,3],[27,0,28,0],[27,1,28,1],[27,2,27,3],[28,2,28,3],[35,2,35,3],[36,2,36,3],[29,0,29,1],[30,2,30,3],[31,2,31,3],[32,2,32,3],[33,2,33,3],[34,0,34,1],[29,2,29,3],[34,2,34,3]]}
["実態調査における各経営指標の計算式"]
[]
["指標",null,"新会計基準"]
[null,null,"事業活動計算書　サービス区分別\n（附属明細書　基準別紙4\n「拠点区分事業活動明細書」）"]
["１．収益性の指標"]
["①","サービス活動収益","①サービス活動収益＝サービス活動収益計-経常経費寄附金収益"]
["②","内、（経常経費）補助金収益","介護保険事業収益：「中区分」その他の事業収益（・「小区分」補助金事業収益）"]
["③","サービス活動費用","サービス活動費用計"]
["④","国庫補助金等特別積立金取崩額","サービス活動費用にマイナス計上"]
["⑤","サービス活動増減差額","サービス活動増減差額＝サービス活動収益-サービス活動費用"]
["⑥","サービス活動増減差額率（％）\n（収支差額率）","サービス活動増減差額率＝サービス活動増減差額÷サービス活動収益×100"]
["２．機能性の指標"]
["①","1日平均利用者数（人）","年間利用者延べ人数÷365（施設操業日数）"]
["②","1日当たり利用率","１日平均利用者数÷施設定員数"]
["③","利用者10人当たり職員数","常勤換算職員数÷１日平均利用者数×10"]
["④","利用者1人１日当たりサービス活動収益（円）","サービス活動収益÷利用者延べ人数"]
["３．合理性の指標"]
["①","人件費率","（人件費+福利厚生費）÷サービス活動収益"]
["②","委託費率","業務委託費÷サービス活動収益"]
["③","人件費率+委託費率","人件費率+委託費率"]
["④","事業費率","事業費÷サービス活動収益"]
["⑤","事務費率","（事務費-福利厚生費-業務委託費）÷サービス活動収益"]
["⑥","減価償却費率","（減価償却費-国庫補助金等特別積立金取崩額）÷サービス活動収益"]
["４．生産性の指標"]
["①","職員１人当たり給与費（円/月額）","（人件費+福利厚生費）÷常勤換算職員数÷12ヵ月"]
["②","職員1人当たりサービス活動収益（円/月額）","サービス活動収益÷常勤換算職員数÷12ヵ月"]
["③","労働生産性","【サービス活動収益-（事業費+業務委託費+減価償却費-国庫補助金等特別積立金取崩額）】÷常勤換算職員数"]
["④","労働分配率","職員１人当たりの給与費÷労働生産性"]
[null,null,"【（人件費+福利厚生費）】÷【（サービス活動収益計-経常経費寄付金収益）-（事業費+業務委託費+減価償却費-国庫補助金等特別積立金取崩額）】×100"]
["５．安全性の指標"]
["①","流動比率","流動資産÷流動負債×100"]
["②","固定長期適合比率","固定資産÷（純資産+固定負債）×100"]
["③","純資産比率","（純資産÷資産総額）×100"]
["④","借入金償還余裕率","（当期資金収支差額-その他の活動資金収支差額+支払利息支出）÷（設備資金借入金元金償還支出+長期運営資金借入金元金償還支出+支払利息支出）×100"]
["６．“いわゆる”「内部留保」の指標"]
["①","発生源内部留保","次期繰越活動収支差額+その他積立金"]
["②","実在内部留保","現預金・現預金相当額-（流動負債+退職給与引当金）"]

{"sheet":"提出方法","index":5,"n_rows":31,"n_cols":15,"rows_kept":31,"cut":false,"hidden":false,"merged":[[1,1,1,21],[9,6,9,15],[6,1,6,3],[6,4,6,13],[6,14,6,21],[7,1,7,3],[7,4,7,13],[7,14,7,21],[3,6,3,15],[2,6,2,15],[4,6,4,7],[30,3,31,19],[4,1,4,5],[4,8,4,15],[26,2,26,19],[13,2,15,21],[18,9,18,19],[20,9,20,19],[16,9,16,21],[24,2,24,18],[25,2,25,18],[27,2,27,18],[28,2,28,18],[29,2,29,18]]}
[null,"◇提出方法"]
[null,"「施設基本項目調査票（以下、調査票）」と「平成29年度決算書類（以下、決算書）」のデータをそれぞれご提出ください。"]
[null,null,null,null,null,null,"施設基本項目調査票"]
[null,null,null,null,null,null,"①データ"]
[null,"平成29年度決算書類",null,null,null,null,"①データ",null,"提出形態【Ａ】（調査票①・決算書①）"]
[]
[null,"提出形態",null,null,"施設基本項目調査票",null,null,null,null,null,null,null,null,null,"平成29年度決算書類"]
[null,"提出形態【Ａ】",null,null,"①「調査票」のエクセルファイルには保護がかかっているため、コピー、ペースト（貼り付けをすること）ができません。\n提出時は複数でのご提出は一切受け付けておりませんので、職員が分担し、複数ファイルでそれぞれご入力する場合、回答を転記し、ファイルを1つに統合してからご提出ください。\n\n②ファイル名を「相模原_第3回調査（施設コード）」に変更してください。\n　例：相模原_第3回調査（SA000)\n\n③sagamihara-tokuyo@kawahara-group.co.jp\nまでメールを送付してください。",null,null,null,null,null,null,null,null,null,"①「決算書」については、PDFに変換したデータファイルを添付してください。PDFに変換できない場合は、エクセル等のソフトで閲覧できるフォーマットでご提出ください。\n\n②ファイル名を「相模原_第3回調査（施設コード）決算書類」に変更してください。\n　例：相模原_第3回調査（SA000)決算書類\n\n③「調査票」と一緒にメールに添付してください。"]
[]
[null,null,null,null,null,null,"提出期限 ： 平 成30年7月13日（金）必着"]
[]
[null,"◇ご提出いただく資料について"]
[null,"●","資料の内容確認のため、川原経営総合センターから問い合わせがある場合があります。"]
[null,"●","対象サービスの「①特養・短期入所」、「②特養のみ」以外の「③対象サービスを含む拠点で作成」、または「④対象サービス以外を含め法人全体で作成」でご提出された場合、集計上、個表における「安全性」の項目に関する数値が反映されません。"]
[]
[]
[null,null,null,null,null,null,null,null,null,"ご提出いただく決算書類"]
[null,null,null,null,null,null,null,null,null,"1.施設基本項目調査票（本紙）"]
[null,null,null,null,null,null,null,null,null,"2.事業活動計算書 サービス区分別（附属明細書 基準別紙4）"]
[null,null,null,null,null,null,null,null,null,"　拠点区分別事業活動明細書"]
[null,null,null,null,null,null,null,null,null,"3.資金収支計算書 サービス区分別（附属明細書 基準別紙3）"]
[null,null,null,null,null,null,null,null,null,"　拠点区分別資金収支明細書"]
[null,null,null,null,null,null,null,null,null,"4.貸借対照表"]
[]
[null,null,"○送付先・お問合せ先　　"]
[null,null,"㈱川原経営総合センター 　経営コンサルティング部門"]
[null,null,"特養実態調査チーム　担当者：加藤、水田　　　"]
[null,null,"〒140－0001　東京都品川区北品川4－7－35　御殿山トラストタワー9階"]
[null,null,"ＴＥＬ　０３－５４２２－７５４８　ＦＡＸ　０３－５４２２－７９９６"]
[null,null,"Eメールアドレス：sagamihara-tokuyo@kawahara-group.co.jp"]
[null,null,"※","お問合せ先電話番号が通話中でつながらない場合、誠にお手数ではありますが、 お掛け直し頂けますようお願い申し上げます。"]

{"sheet":"設問解説","index":6,"n_rows":19,"n_cols":17,"rows_kept":19,"cut":false,"hidden":false,"merged":[[0,0,0,20],[1,0,1,20],[2,3,4,7],[2,8,2,15],[2,16,2,18],[3,8,3,15],[3,16,8,18],[4,8,4,11],[4,12,4,15],[5,3,8,4],[5,5,6,7],[5,8,6,11],[5,12,6,15],[7,5,8,7],[7,8,8,11],[7,12,8,15],[18,2,29,5],[18,6,29,8],[18,9,29,13],[18,14,29,18],[15,0,15,21],[17,2,17,5],[17,6,17,8],[17,9,17,13],[17,14,17,18]]}
["1.職員の雇用区分"]
["【正規職員・非正規職員について】"]
[null,null,null,null,null,null,null,null,"雇用関係あり",null,null,null,null,null,null,null,"雇用関係なし"]
[null,null,null,null,null,null,null,null,"労働契約期間",null,null,null,null,null,null,null,"派遣職員\n※5"]
[null,null,null,null,null,null,null,null,"定めなし",null,null,null,"定めあり"]
[null,null,null,"所定労働時間",null,"通常\n（フルタイム）",null,null,"正規職員\n※1",null,null,null,"有期契約職員\n（非正規職員）\n※3"]
[]
[null,null,null,null,null,"（通常より）\n短い",null,null,"短時間正規職員\n※2",null,null,null,"短時間有期契約職員\n（短時間非正規職員）\n※4"]
[]
[null,null,null,"●","正規職員とは、労働契約期間の定めのない職員（※1，2）"]
[null,null,null,"●","非正規職員とは、労働契約期間の定めのある職員（※3，4）"]
[null,null,null,null,"労働契約期間が毎年自動的に更新される職員についても、非正規職員とします。"]
[null,null,null,"●","派遣職員とは、雇用関係のない職員（※5）"]
[]
[]
["2.正規職員の介護職員における「管理職」と「一般職」の定義"]
[null,null,"●","この「管理職」の定義は、あくまでも本調査における調査対象を統一するための定義です。"]
[null,null,"定義",null,null,null,"要件1",null,null,"要件2",null,null,null,null,"要件3"]
[null,null,"右記の要件のうち、\n\n\n（1）管理職\nいずれかの要件を満たすもの\n\n（2）一般職\nいずれにも概要しないもの",null,null,null,"２名以上の職員を管理する立場にある",null,null,"組織管理上の役割に応じた名称が与えられている\n\n例）\n・施設長\n・副施設長\n・課長\n・主任、副主任\n・フロアリーダー　等\n※ユニットリーダーは含まず。",null,null,null,null,"組織管理上の役割に応じた報酬を受けている\n\n例）\n・役職・役付手当\n・課長、主任、リーダー手当\n・役職に応じた調整手当等"]

{"sheet":"集計シート","index":7,"n_rows":984,"n_cols":4,"rows_kept":984,"cut":false,"hidden":true,"merged":[]}
["施設コード",{"$f":"調査票!D44","v":""}]
["１．法人名",{"$f":"調査票!D46","v":0}]
["２．施設名",{"$f":"調査票!D47","v":0}]
["３・運営形態                                              ",{"$f":"調査票!D49","v":0}]
["４．開設年度　西暦  年",{"$f":"調査票!E51","v":0}]
["５・地域区分_級地",{"$f":"調査票!D53","v":"4級地"}]
["地域①",{"$f":"調査票!F53","v":"相模原市"}]
["地域②",{"$f":"調査票!I53","v":0}]
["６・居室形態                                              ",{"$f":"調査票!D55","v":0}]
["７・建物階層",{"$f":"調査票!D56","v":0},null,"設問無"]
["８・特養_定員数",{"$f":"調査票!B62","v":0}]
["ショート_定員数",{"$f":"調査票!F62","v":0}]
["定員数_合計",{"$f":"調査票!J62","v":""}]
["９．年間利用者延べ人数_①特養",{"$f":"調査票!B71","v":0}]
["年間利用者延べ人数_②ショート",{"$f":"調査票!G71","v":0}]
["年間利用者延べ人数_③うち、空床利用",{"$f":"調査票!L71","v":0}]
["年間利用者延べ人数_合計（①＋②）",{"$f":"調査票!R71","v":""}]
["１０・要介護度内訳　合計人数",{"$f":"調査票!B79","v":""}]
["要介護度1               ",{"$f":"調査票!E79","v":0}]
["要介護度2               ",{"$f":"調査票!G79","v":0}]
["要介護度3               ",{"$f":"調査票!I79","v":0}]
["要介護度4               ",{"$f":"調査票!K79","v":0}]
["要介護度5               ",{"$f":"調査票!M79","v":0}]
["要介護度平均",{"$f":"調査票!O79","v":""}]
["１１．認知症高齢者の日常生活自立度　合計",{"$f":"調査票!B84","v":""}]
["自立",{"$f":"調査票!E84","v":0}]
["Ⅰ",{"$f":"調査票!G84","v":0}]
["Ⅱa",{"$f":"調査票!I84","v":0}]
["Ⅱb",{"$f":"調査票!K84","v":0}]
["Ⅲa",{"$f":"調査票!M84","v":0}]
["Ⅲb",{"$f":"調査票!O84","v":0}]
["Ⅳ",{"$f":"調査票!Q84","v":0}]
["M",{"$f":"調査票!S84","v":0}]
["１２・利用者負担の各段階人数　合計人数",{"$f":"調査票!B89","v":""}]
["第1段階（自己負担有）_利用者延べ人数        ",{"$f":"調査票!E89","v":0}]
["第1段階（自己負担無）_利用者延べ人数        ",{"$f":"調査票!H89","v":0}]
["第2段階_利用者延べ人数        ",{"$f":"調査票!K89","v":0}]
["第3段階_利用者延べ人数        ",{"$f":"調査票!N89","v":0}]
["第4段階_利用者延べ人数        ",{"$f":"調査票!Q89","v":0}]
["１３・退所者の理由　合計人数",{"$f":"調査票!B96","v":""}]
["看取り（死亡）",{"$f":"調査票!E96","v":0}]
["医療機関へ転院",{"$f":"調査票!H96","v":0}]
["在宅復帰",{"$f":"調査票!K96","v":0}]
["その他",{"$f":"調査票!N96","v":0}]
["１４・空床の理由　入院確保",{"$f":"調査票!N102","v":0}]
["入所予定であるが未入所",{"$f":"調査票!N103","v":0}]
["職員配置基準を満たすことが出来ていない",{"$f":"調査票!N104","v":0}]
["待機者がいない",{"$f":"調査票!N105","v":0}]
["１５・待機者の状況要介護1",{"$f":"調査票!B110","v":0},null,"要介護1・2を分ける"]
["要介護2",{"$f":"調査票!D110","v":0}]
["要介護3",{"$f":"調査票!F110","v":0}]
["要介護４",{"$f":"調査票!H110","v":0}]
["要介護５",{"$f":"調査票!J110","v":0}]
["合計",{"$f":"調査票!L110","v":""}]
["受入れ保留",{"$f":"調査票!I113","v":0},null,"設問無"]
["断った",{"$f":"調査票!I114","v":0},null,"設問無"]
["その理由",{"$f":"調査票!I115","v":0},null,"設問無"]
["１６・保険者の保険者独自及び法人独自の利用者負担額軽減制度　年間延べ人数",{"$f":"調査票!L119","v":0},null,"設問無"]
["食費_年間延べ対象者数",{"$f":"調査票!H124","v":0},null,"設問無"]
["食費_年間軽減総額",{"$f":"調査票!L124","v":0},null,"設問無"]
["居住費_年間延べ対象者数",{"$f":"調査票!H125","v":0},null,"設問無"]
["居住費_年間軽減総額",{"$f":"調査票!L125","v":0},null,"設問無"]
["その他日常生活費等_年間延べ対象者数",{"$f":"調査票!H126","v":0},null,"設問無"]
["その他日常生活費等_年間軽減総額",{"$f":"調査票!L126","v":0},null,"設問無"]
["一律_年間延べ対象者数",{"$f":"調査票!H127","v":0},null,"設問無"]
["一律_年間軽減総額",{"$f":"調査票!L127","v":0},null,"設問無"]
["１７・第4段階_食費             ",{"$f":"調査票!H136","v":0}]
["第4段階_居住費_多床室        ",{"$f":"調査票!H137","v":0}]
["第4段階_居住費_従来型個室      ",{"$f":"調査票!H138","v":0}]
["第4段階_居住費_ユニット型準個室   ",{"$f":"調査票!H139","v":0}]
["第4段階_居住費_ユニット型個室    ",{"$f":"調査票!H140","v":0}]
["第4段階_日常生活品費",{"$f":"調査票!H141","v":0}]
["１８．物価費_土地①_保有形態",{"$f":"調査票!H150","v":0}]
["土地①_金額",{"$f":"調査票!K150","v":0}]
["土地①_うち、補助金",{"$f":"調査票!O150","v":0}]
["土地①_面積",{"$f":"調査票!S150","v":0}]
["土地②_保有形態",{"$f":"調査票!H151","v":0}]
["土地②_金額",{"$f":"調査票!K151","v":0}]
["土地②_うち、補助金",{"$f":"調査票!O151","v":0}]
["土地②_面積",{"$f":"調査票!S151","v":0}]
["建物①_保有形態",{"$f":"調査票!H152","v":0}]
["建物①_金額",{"$f":"調査票!K152","v":0}]
["建物①_うち、補助金",{"$f":"調査票!O152","v":0}]
["建物①_延べ床面積",{"$f":"調査票!S152","v":0}]
["建物②_保有形態",{"$f":"調査票!H153","v":0}]
["建物②_金額",{"$f":"調査票!K153","v":0}]
["建物②_うち、補助金",{"$f":"調査票!O153","v":0}]
["建物②_延べ床面積",{"$f":"調査票!S153","v":0}]
["１９．H29_処遇改善加算",{"$f":"調査票!Q161","v":0}]
["H29_日常生活継続支援                                          ",{"$f":"調査票!Q162","v":0}]
["H29_サービス提供体制強化",{"$f":"調査票!Q163","v":0}]
["H29_看護体制Ⅰ",{"$f":"調査票!Q164","v":0}]
["H29_看護体制Ⅱ",{"$f":"調査票!Q165","v":0}]
["H29_夜勤職員配置Ⅰ",{"$f":"調査票!Q166","v":0}]
["H29_夜勤職員配置Ⅱ",{"$f":"調査票!Q167","v":0}]
["H29_精神科医療養指導                                           ",{"$f":"調査票!Q168","v":0}]
["H29_認知症専門ケア   ",{"$f":"調査票!Q169","v":0}]
["H29_認知症行動・心理症状緊急対応加算",{"$f":"調査票!Q170","v":0}]
["H29_個別機能訓練加算                                          ",{"$f":"調査票!Q171","v":0}]
["H29_栄養マネジメント                                          ",{"$f":"調査票!Q172","v":0}]
["H29_経口移行_有無                                           ",{"$f":"調査票!Q173","v":0}]
["H29_経口維持_加算   ",{"$f":"調査票!Q174","v":0}]
["H29_口腔機能維持管理体制_有無                                       ",{"$f":"調査票!Q175","v":0}]
["H29_口腔機能維持管理_有無                                       ",{"$f":"調査票!Q176","v":0}]
["H29_療養食_有無                                            ",{"$f":"調査票!Q177","v":0}]
["H29_看取り介護加算_有無 ",{"$f":"調査票!Q178","v":0}]
["H29_準ユニットケア加算",{"$f":"調査票!Q179","v":0}]
["H29_常勤医師配置加算",{"$f":"調査票!Q180","v":0}]
["H29_障害者生活支援体制加算",{"$f":"調査票!Q181","v":0}]
["H29_外泊時費用",{"$f":"調査票!Q182","v":0}]
["H29_初期加算",{"$f":"調査票!Q183","v":0}]
["H29_退所前訪問相談援助加算",{"$f":"調査票!Q184","v":0}]
["H29_退所後訪問相談援助加算",{"$f":"調査票!Q185","v":0}]
["H29_退所時相談援助加算",{"$f":"調査票!Q186","v":0}]
["H29_退所前連携加算",{"$f":"調査票!Q187","v":0}]
["H29_在宅復帰支援機能加算",{"$f":"調査票!Q188","v":0}]
["H29_在宅・入所相互利用加算",{"$f":"調査票!Q189","v":0}]
["H29_若年性認知症入所者受入加算",{"$f":"調査票!Q190","v":0}]
["２０．介護職員処遇改善加算の取得状況　支給方法_基本給",{"$f":"調査票!M196","v":0},null,"設問無"]
["支給方法_手当",{"$f":"調査票!Q196","v":0},null,"設問無"]
["支給方法_賞与（一時金）",{"$f":"調査票!U196","v":0},null,"設問無"]
["支給方法_その他",{"$f":"調査票!M197","v":0},null,"設問無"]
["支給方法_その他（自由記述）",{"$f":"調査票!P197","v":0},null,"設問無"]
["他職種への支給状況_①実施していない",{"$f":"調査票!U202","v":0},null,"設問無"]
["他職種への支給状況_②実施している",{"$f":"調査票!U203","v":0},null,"設問無"]
["②実施している場合の金額（月額）",{"$f":"調査票!R204","v":0},null,"設問無"]
["介護職員処遇改善加算（新Ⅰ）の取得状況",{"$f":"調査票!#REF!","v":{"$error":"#REF!"}},null,"設問無"]
["経験",{"$f":"調査票!L209","v":0},null,"設問無"]
["資格",{"$f":"調査票!P209","v":0},null,"設問無"]
["評価",{"$f":"調査票!T209","v":0},null,"設問無"]
["新Ⅰ取得できない理由",{"$f":"調査票!I210","v":0},null,"設問無"]
["２１．日常生活継続支援加算の取得状況 算定要件_①",{"$f":"調査票!Q219","v":0}]
["算定要件_②",{"$f":"調査票!Q221","v":0}]
["算定要件_③",{"$f":"調査票!Q222","v":0}]
["算定要件_④",{"$f":"調査票!Q223","v":0}]
["喀痰吸引の年間延べ利用者数",{"$f":"調査票!O225","v":0}]
["２２．看取り介護加算の取得状況 算定要件_①",{"$f":"調査票!U230","v":0},null,"設問無"]
["算定要件_②",{"$f":"調査票!U231","v":0},null,"設問無"]
["算定要件_③",{"$f":"調査票!U232","v":0},null,"設問無"]
["算定要件_④",{"$f":"調査票!U233","v":0},null,"設問無"]
["算定要件_⑤",{"$f":"調査票!U234","v":0},null,"設問無"]
["看取り介護_課題_利用者及び家族①",{"$f":"調査票!O238","v":0},null,"設問無"]
["看取り介護_課題_利用者及び家族②",{"$f":"調査票!O239","v":0},null,"設問無"]
["看取り介護_課題_施設の体制①",{"$f":"調査票!O240","v":0},null,"設問無"]
["看取り介護_課題_施設の体制②",{"$f":"調査票!O241","v":0},null,"設問無"]
["看取り介護_課題_施設の体制③",{"$f":"調査票!O242","v":0},null,"設問無"]
["看取り介護_課題_施設の体制④",{"$f":"調査票!O243","v":0},null,"設問無"]
["看取り介護_課題_施設の体制⑤",{"$f":"調査票!O244","v":0},null,"設問無"]
["看取り介護_課題_職員体制①",{"$f":"調査票!O245","v":0},null,"設問無"]
["看取り介護_課題_職員体制②",{"$f":"調査票!O246","v":0},null,"設問無"]
["看取り介護_課題_職員体制③",{"$f":"調査票!O247","v":0},null,"設問無"]
["看取り介護_課題_職員体制④",{"$f":"調査票!O248","v":0},null,"設問無"]
["看取り介護_課題_職員体制⑤",{"$f":"調査票!O249","v":0},null,"設問無"]
["看取り介護_課題_施設の業務①",{"$f":"調査票!O250","v":0},null,"設問無"]
["看取り介護_課題_施設の業務②",{"$f":"調査票!O251","v":0},null,"設問無"]
["看取り介護_課題_施設の業務③",{"$f":"調査票!O252","v":0},null,"設問無"]
["看取り介護_課題_施設の業務④",{"$f":"調査票!O253","v":0},null,"設問無"]
["２３．職員配置の回答基準",{"$f":"調査票!A267","v":0}]
["      ①正規_介護職員（実数）",{"$f":"調査票!G269","v":0}]
["　　　　　うち、介護福祉士資格者（実数）",{"$f":"調査票!G270","v":0}]
["　　　②正規_看護職員（実数）",{"$f":"調査票!G271","v":0}]
["　　　③正規_PT・OT・ST（実数）",{"$f":"調査票!G272","v":0}]
["　　　④正規_調理職員（実数）",{"$f":"調査票!G273","v":0}]
["　　　⑤正規_その他（実数）",{"$f":"調査票!G274","v":0}]
["正規_実人数_合計（＊）",{"$f":"調査票!G275","v":""}]
["      ①非正規_介護職員（実数）",{"$f":"調査票!I269","v":0}]
["　　　　　うち、介護福祉士資格者（実数）",{"$f":"調査票!I270","v":0}]
["　　　②非正規_看護職員（実数）",{"$f":"調査票!I271","v":0}]
["　　　③非正規_PT・OT・ST（実数）",{"$f":"調査票!I272","v":0}]
["　　　④非正規_調理職員（実数）",{"$f":"調査票!I273","v":0}]
["　　　⑤非正規_その他（実数）",{"$f":"調査票!I274","v":0}]
["非正規_実人数_合計（＊）",{"$f":"調査票!I275","v":""}]
["　　　①非正規_介護職員（常勤換算）",{"$f":"調査票!K269","v":0}]
["　　　　　うち、介護福祉士資格者（常勤換算）",{"$f":"調査票!K270","v":0}]
["　　　②非正規_看護職員（常勤換算）",{"$f":"調査票!K271","v":0}]
["　　　③非正規_PT・OT・ST（常勤換算）",{"$f":"調査票!K272","v":0}]
["　　　④非正規_調理職員（常勤換算）",{"$f":"調査票!K273","v":0}]
["　　　⑤非正規_その他（常勤換算）",{"$f":"調査票!K274","v":0}]
["非正規_常勤換算_合計（＊）",{"$f":"調査票!K275","v":""}]
["      ①派遣_介護職員（実数）",{"$f":"調査票!P269","v":0}]
["　　　　　うち、介護福祉士資格者（実数）",{"$f":"調査票!P270","v":0}]
["　　　②派遣_看護職員（実数）",{"$f":"調査票!P271","v":0}]
["　　　③派遣_PT・OT・ST（実数）",{"$f":"調査票!P272","v":0}]
["　　　④派遣_調理職員（実数）",{"$f":"調査票!P273","v":0}]
["　　　⑤派遣_その他（実数）",{"$f":"調査票!P274","v":0}]
["派遣_実人数_合計（＊）",{"$f":"調査票!P275","v":""}]
["　　　①派遣_介護職員（常勤換算）",{"$f":"調査票!R269","v":0}]
["　　　　　うち、介護福祉士資格者（常勤換算）",{"$f":"調査票!R270","v":0}]
["　　　②派遣_看護職員（常勤換算）",{"$f":"調査票!R271","v":0}]
["　　　③派遣_PT・OT・ST（常勤換算）",{"$f":"調査票!R272","v":0}]
["　　　④派遣_調理職員（常勤換算）",{"$f":"調査票!R273","v":0}]
["　　　⑤派遣_その他（常勤換算）",{"$f":"調査票!R274","v":0}]
["派遣_常勤換算_合計（＊）",{"$f":"調査票!R275","v":""}]
["２４．委託費_派遣職員_合計",{"$f":"調査票!G288","v":""}]
["　　　　うち介護職",{"$f":"調査票!G289","v":0}]
["　　　　うち看護職員",{"$f":"調査票!G290","v":0}]
["　　　　うちその他事務等",{"$f":"調査票!G291","v":0}]
["その他事務等の内容",{"$f":"調査票!G292","v":0}]
["　　　委託費_給食委託",{"$f":"調査票!G293","v":0}]
["２５．職員実人数　  介護_正規_男性_1年未満_20歳未満",{"$f":"調査票!$F$307","v":0}]
["　　　　　介護_正規_男性_1年未満_20代",{"$f":"調査票!$F$308","v":0}]
["　　　　　介護_正規_男性_1年未満_30代",{"$f":"調査票!$F$309","v":0}]
["　　　　　介護_正規_男性_1年未満_40代",{"$f":"調査票!$F$310","v":0}]
["　　　　　介護_正規_男性_1年未満_50代",{"$f":"調査票!$F$311","v":0}]
["　　　　　介護_正規_男性_1年未満_60代",{"$f":"調査票!$F$312","v":0}]
[" 　介護_正規_男性_1年未満_合計",{"$f":"調査票!$F$313","v":""}]
["　　　　　介護_正規_男性_2年未満_20歳未満",{"$f":"調査票!$H$307","v":0}]
["　　　　　介護_正規_男性_2年未満_20代",{"$f":"調査票!$H$308","v":0}]
["　　　　　介護_正規_男性_2年未満_30代",{"$f":"調査票!$H$309","v":0}]
["　　　　　介護_正規_男性_2年未満_40代",{"$f":"調査票!$H$310","v":0}]
["　　　　　介護_正規_男性_2年未満_50代",{"$f":"調査票!$H$311","v":0}]
["　　　　　介護_正規_男性_2年未満_60代",{"$f":"調査票!$H$312","v":0}]
[" 　介護_正規_男性_2年未満_合計",{"$f":"調査票!$H$313","v":""}]
["　　　　　介護_正規_男性_3年未満_20歳未満",{"$f":"調査票!$J$307","v":0}]
["　　　　　介護_正規_男性_3年未満_20代",{"$f":"調査票!$J$308","v":0}]
["　　　　　介護_正規_男性_3年未満_30代",{"$f":"調査票!$J$309","v":0}]
["　　　　　介護_正規_男性_3年未満_40代",{"$f":"調査票!$J$310","v":0}]
["　　　　　介護_正規_男性_3年未満_50代",{"$f":"調査票!$J$311","v":0}]
["　　　　　介護_正規_男性_3年未満_60代",{"$f":"調査票!$J$312","v":0}]
[" 　介護_正規_男性_3年未満_合計",{"$f":"調査票!$J$313","v":""}]
["　　　　　介護_正規_男性_4年未満_20歳未満",{"$f":"調査票!$L$307","v":0}]
["　　　　　介護_正規_男性_4年未満_20代",{"$f":"調査票!$L$308","v":0}]
["　　　　　介護_正規_男性_4年未満_30代",{"$f":"調査票!$L$309","v":0}]
["　　　　　介護_正規_男性_4年未満_40代",{"$f":"調査票!$L$310","v":0}]
["　　　　　介護_正規_男性_4年未満_50代",{"$f":"調査票!$L$311","v":0}]
["　　　　　介護_正規_男性_4年未満_60代",{"$f":"調査票!$L$312","v":0}]
[" 　介護_正規_男性_4年未満_合計",{"$f":"調査票!$L$313","v":""}]
["　　　　　介護_正規_男性_5年未満_20歳未満",{"$f":"調査票!$N$307","v":0}]
["　　　　　介護_正規_男性_5年未満_20代",{"$f":"調査票!$N$308","v":0}]
["　　　　　介護_正規_男性_5年未満_30代",{"$f":"調査票!$N$309","v":0}]
["　　　　　介護_正規_男性_5年未満_40代",{"$f":"調査票!$N$310","v":0}]
["　　　　　介護_正規_男性_5年未満_50代",{"$f":"調査票!$N$311","v":0}]
["　　　　　介護_正規_男性_5年未満_60代",{"$f":"調査票!$N$312","v":0}]
[" 　介護_正規_男性_5年未満_合計",{"$f":"調査票!$N$313","v":""}]
["　　　　　介護_正規_男性_5～9年未満_20歳未満",{"$f":"調査票!$P$307","v":0}]
["　　　　　介護_正規_男性_5～9年未満_20代",{"$f":"調査票!$P$308","v":0}]
["　　　　　介護_正規_男性_5～9年未満_30代",{"$f":"調査票!$P$309","v":0}]
["　　　　　介護_正規_男性_5～9年未満_40代",{"$f":"調査票!$P$310","v":0}]
["　　　　　介護_正規_男性_5～9年未満_50代",{"$f":"調査票!$P$311","v":0}]
["　　　　　介護_正規_男性_5～9年未満_60代",{"$f":"調査票!$P$312","v":0}]
[" 　介護_正規_男性_5～9年未満_合計",{"$f":"調査票!$P$313","v":""}]
["　　　　　介護_正規_男性_10年以上_20歳未満",{"$f":"調査票!$R$307","v":0}]
["　　　　　介護_正規_男性_10年以上_20代",{"$f":"調査票!$R$308","v":0}]
["　　　　　介護_正規_男性_10年以上_30代",{"$f":"調査票!$R$309","v":0}]
["　　　　　介護_正規_男性_10年以上_40代",{"$f":"調査票!$R$310","v":0}]
["　　　　　介護_正規_男性_10年以上_50代",{"$f":"調査票!$R$311","v":0}]
["　　　　　介護_正規_男性_10年以上_60代",{"$f":"調査票!$R$312","v":0}]
[" 　介護_正規_男性_10年以上_合計",{"$f":"調査票!$R$313","v":""}]
["　　　　　介護_非正規_男性_1年未満_20歳未満",{"$f":"調査票!$F$315","v":0}]
["　　　　　介護_非正規_男性_1年未満_20代",{"$f":"調査票!$F$316","v":0}]
["　　　　　介護_非正規_男性_1年未満_30代",{"$f":"調査票!$F$317","v":0}]
["　　　　　介護_非正規_男性_1年未満_40代",{"$f":"調査票!$F$318","v":0}]
["　　　　　介護_非正規_男性_1年未満_50代",{"$f":"調査票!$F$319","v":0}]
["　　　　　介護_非正規_男性_1年未満_60代",{"$f":"調査票!$F$320","v":0}]
[" 　介護_非正規_男性_1年未満_合計",{"$f":"調査票!$F$321","v":""}]
["　　　　　介護_非正規_男性_2年未満_20歳未満",{"$f":"調査票!$H$315","v":0}]
["　　　　　介護_非正規_男性_2年未満_20代",{"$f":"調査票!$H$316","v":0}]
["　　　　　介護_非正規_男性_2年未満_30代",{"$f":"調査票!$H$317","v":0}]
["　　　　　介護_非正規_男性_2年未満_40代",{"$f":"調査票!$H$318","v":0}]
["　　　　　介護_非正規_男性_2年未満_50代",{"$f":"調査票!$H$319","v":0}]
["　　　　　介護_非正規_男性_2年未満_60代",{"$f":"調査票!$H$320","v":0}]
[" 　介護_非正規_男性_2年未満_合計",{"$f":"調査票!$H$321","v":""}]
["　　　　　介護_非正規_男性_3年未満_20歳未満",{"$f":"調査票!$J$315","v":0}]
["　　　　　介護_非正規_男性_3年未満_20代",{"$f":"調査票!$J$316","v":0}]
["　　　　　介護_非正規_男性_3年未満_30代",{"$f":"調査票!$J$317","v":0}]
["　　　　　介護_非正規_男性_3年未満_40代",{"$f":"調査票!$J$318","v":0}]
["　　　　　介護_非正規_男性_3年未満_50代",{"$f":"調査票!$J$319","v":0}]
["　　　　　介護_非正規_男性_3年未満_60代",{"$f":"調査票!$J$320","v":0}]
[" 　介護_非正規_男性_3年未満_合計",{"$f":"調査票!$J$321","v":""}]
["　　　　　介護_非正規_男性_4年未満_20歳未満",{"$f":"調査票!$L$315","v":0}]
["　　　　　介護_非正規_男性_4年未満_20代",{"$f":"調査票!$L$316","v":0}]
["　　　　　介護_非正規_男性_4年未満_30代",{"$f":"調査票!$L$317","v":0}]
["　　　　　介護_非正規_男性_4年未満_40代",{"$f":"調査票!$L$318","v":0}]
["　　　　　介護_非正規_男性_4年未満_50代",{"$f":"調査票!$L$319","v":0}]
["　　　　　介護_非正規_男性_4年未満_60代",{"$f":"調査票!$L$320","v":0}]
[" 　介護_非正規_男性_4年未満_合計",{"$f":"調査票!$L$321","v":""}]
["　　　　　介護_非正規_男性_5年未満_20歳未満",{"$f":"調査票!$N$315","v":0}]
["　　　　　介護_非正規_男性_5年未満_20代",{"$f":"調査票!$N$316","v":0}]
["　　　　　介護_非正規_男性_5年未満_30代",{"$f":"調査票!$N$317","v":0}]
["　　　　　介護_非正規_男性_5年未満_40代",{"$f":"調査票!$N$318","v":0}]
["　　　　　介護_非正規_男性_5年未満_50代",{"$f":"調査票!$N$319","v":0}]
["　　　　　介護_非正規_男性_5年未満_60代",{"$f":"調査票!$N$320","v":0}]
[" 　介護_非正規_男性_5年未満_合計",{"$f":"調査票!$N$321","v":""}]
["　　　　　介護_非正規_男性_5～9年未満_20歳未満",{"$f":"調査票!$P$315","v":0}]
["　　　　　介護_非正規_男性_5～9年未満_20代",{"$f":"調査票!$P$316","v":0}]
["　　　　　介護_非正規_男性_5～9年未満_30代",{"$f":"調査票!$P$317","v":0}]
["　　　　　介護_非正規_男性_5～9年未満_40代",{"$f":"調査票!$P$318","v":0}]
["　　　　　介護_非正規_男性_5～9年未満_50代",{"$f":"調査票!$P$319","v":0}]
["　　　　　介護_非正規_男性_5～9年未満_60代",{"$f":"調査票!$P$320","v":0}]
[" 　介護_非正規_男性_5～9年未満_合計",{"$f":"調査票!$P$321","v":""}]
["　　　　　介護_非正規_男性_10年以上_20歳未満",{"$f":"調査票!$R$315","v":0}]
["　　　　　介護_非正規_男性_10年以上_20代",{"$f":"調査票!$R$316","v":0}]
["　　　　　介護_非正規_男性_10年以上_30代",{"$f":"調査票!$R$317","v":0}]
["　　　　　介護_非正規_男性_10年以上_40代",{"$f":"調査票!$R$318","v":0}]
["　　　　　介護_非正規_男性_10年以上_50代",{"$f":"調査票!$R$319","v":0}]
["　　　　　介護_非正規_男性_10年以上_60代",{"$f":"調査票!$R$320","v":0}]
[" 　介護_非正規_男性_10年以上_合計",{"$f":"調査票!$R$321","v":""}]
["　　　　　介護_正規_女性_1年未満_20歳未満",{"$f":"調査票!$F$324","v":0}]
["　　　　　介護_正規_女性_1年未満_20代",{"$f":"調査票!$F$325","v":0}]
["　　　　　介護_正規_女性_1年未満_30代",{"$f":"調査票!$F$326","v":0}]
["　　　　　介護_正規_女性_1年未満_40代",{"$f":"調査票!$F$327","v":0}]
["　　　　　介護_正規_女性_1年未満_50代",{"$f":"調査票!$F$328","v":0}]
["　　　　　介護_正規_女性_1年未満_60代",{"$f":"調査票!$F$329","v":0}]
[" 　介護_正規_女性_1年未満_合計",{"$f":"調査票!$F$330","v":""}]
["　　　　　介護_正規_女性_2年未満_20歳未満",{"$f":"調査票!$H$324","v":0}]
["　　　　　介護_正規_女性_2年未満_20代",{"$f":"調査票!$H$325","v":0}]
["　　　　　介護_正規_女性_2年未満_30代",{"$f":"調査票!$H$326","v":0}]
["　　　　　介護_正規_女性_2年未満_40代",{"$f":"調査票!$H$327","v":0}]
["　　　　　介護_正規_女性_2年未満_50代",{"$f":"調査票!$H$328","v":0}]
["　　　　　介護_正規_女性_2年未満_60代",{"$f":"調査票!$H$329","v":0}]
[" 　介護_正規_女性_2年未満_合計",{"$f":"調査票!$H$330","v":""}]
["　　　　　介護_正規_女性_3年未満_20歳未満",{"$f":"調査票!$J$324","v":0}]
["　　　　　介護_正規_女性_3年未満_20代",{"$f":"調査票!$J$325","v":0}]
["　　　　　介護_正規_女性_3年未満_30代",{"$f":"調査票!$J$326","v":0}]
["　　　　　介護_正規_女性_3年未満_40代",{"$f":"調査票!$J$327","v":0}]
["　　　　　介護_正規_女性_3年未満_50代",{"$f":"調査票!$J$328","v":0}]
["　　　　　介護_正規_女性_3年未満_60代",{"$f":"調査票!$J$329","v":0}]
[" 　介護_正規_女性_3年未満_合計",{"$f":"調査票!$J$330","v":""}]
["　　　　　介護_正規_女性_4年未満_20歳未満",{"$f":"調査票!$L$324","v":0}]
["　　　　　介護_正規_女性_4年未満_20代",{"$f":"調査票!$L$325","v":0}]
["　　　　　介護_正規_女性_4年未満_30代",{"$f":"調査票!$L$326","v":0}]
["　　　　　介護_正規_女性_4年未満_40代",{"$f":"調査票!$L$327","v":0}]
["　　　　　介護_正規_女性_4年未満_50代",{"$f":"調査票!$L$328","v":0}]
["　　　　　介護_正規_女性_4年未満_60代",{"$f":"調査票!$L$329","v":0}]
[" 　介護_正規_女性_4年未満_合計",{"$f":"調査票!$L$330","v":""}]
["　　　　　介護_正規_女性_5年未満_20歳未満",{"$f":"調査票!$N$324","v":0}]
["　　　　　介護_正規_女性_5年未満_20代",{"$f":"調査票!$N$325","v":0}]
["　　　　　介護_正規_女性_5年未満_30代",{"$f":"調査票!$N$326","v":0}]
["　　　　　介護_正規_女性_5年未満_40代",{"$f":"調査票!$N$327","v":0}]
["　　　　　介護_正規_女性_5年未満_50代",{"$f":"調査票!$N$328","v":0}]
["　　　　　介護_正規_女性_5年未満_60代",{"$f":"調査票!$N$329","v":0}]
[" 　介護_正規_女性_5年未満_合計",{"$f":"調査票!$N$330","v":""}]
["　　　　　介護_正規_女性_5～9年未満_20歳未満",{"$f":"調査票!$P$324","v":0}]
["　　　　　介護_正規_女性_5～9年未満_20代",{"$f":"調査票!$P$325","v":0}]
["　　　　　介護_正規_女性_5～9年未満_30代",{"$f":"調査票!$P$326","v":0}]
["　　　　　介護_正規_女性_5～9年未満_40代",{"$f":"調査票!$P$327","v":0}]
["　　　　　介護_正規_女性_5～9年未満_50代",{"$f":"調査票!$P$328","v":0}]
["　　　　　介護_正規_女性_5～9年未満_60代",{"$f":"調査票!$P$329","v":0}]
[" 　介護_正規_女性_5～9年未満_合計",{"$f":"調査票!$P$330","v":""}]
["　　　　　介護_正規_女性_10年以上_20歳未満",{"$f":"調査票!$R$324","v":0}]
["　　　　　介護_正規_女性_10年以上_20代",{"$f":"調査票!$R$325","v":0}]
["　　　　　介護_正規_女性_10年以上_30代",{"$f":"調査票!$R$326","v":0}]
["　　　　　介護_正規_女性_10年以上_40代",{"$f":"調査票!$R$327","v":0}]
["　　　　　介護_正規_女性_10年以上_50代",{"$f":"調査票!$R$328","v":0}]
["　　　　　介護_正規_女性_10年以上_60代",{"$f":"調査票!$R$329","v":0}]
[" 　介護_正規_女性_10年以上_合計",{"$f":"調査票!$R$330","v":""}]
["　　　　　介護_非正規_女性_1年未満_20歳未満",{"$f":"調査票!$F$332","v":0}]
["　　　　　介護_非正規_女性_1年未満_20代",{"$f":"調査票!$F$333","v":0}]
["　　　　　介護_非正規_女性_1年未満_30代",{"$f":"調査票!$F$334","v":0}]
["　　　　　介護_非正規_女性_1年未満_40代",{"$f":"調査票!$F$335","v":0}]
["　　　　　介護_非正規_女性_1年未満_50代",{"$f":"調査票!$F$336","v":0}]
["　　　　　介護_非正規_女性_1年未満_60代",{"$f":"調査票!$F$337","v":0}]
[" 　介護_非正規_女性_1年未満_合計",{"$f":"調査票!$F$338","v":""}]
["　　　　　介護_非正規_女性_2年未満_20歳未満",{"$f":"調査票!$H$332","v":0}]
["　　　　　介護_非正規_女性_2年未満_20代",{"$f":"調査票!$H$333","v":0}]
["　　　　　介護_非正規_女性_2年未満_30代",{"$f":"調査票!$H$334","v":0}]
["　　　　　介護_非正規_女性_2年未満_40代",{"$f":"調査票!$H$335","v":0}]
["　　　　　介護_非正規_女性_2年未満_50代",{"$f":"調査票!$H$336","v":0}]
["　　　　　介護_非正規_女性_2年未満_60代",{"$f":"調査票!$H$337","v":0}]
[" 　介護_非正規_女性_2年未満_合計",{"$f":"調査票!$H$338","v":""}]
["　　　　　介護_非正規_女性_3年未満_20歳未満",{"$f":"調査票!$J$332","v":0}]
["　　　　　介護_非正規_女性_3年未満_20代",{"$f":"調査票!$J$333","v":0}]
["　　　　　介護_非正規_女性_3年未満_30代",{"$f":"調査票!$J$334","v":0}]
["　　　　　介護_非正規_女性_3年未満_40代",{"$f":"調査票!$J$335","v":0}]
["　　　　　介護_非正規_女性_3年未満_50代",{"$f":"調査票!$J$336","v":0}]
["　　　　　介護_非正規_女性_3年未満_60代",{"$f":"調査票!$J$337","v":0}]
[" 　介護_非正規_女性_3年未満_合計",{"$f":"調査票!$J$338","v":""}]
["　　　　　介護_非正規_女性_4年未満_20歳未満",{"$f":"調査票!$L$332","v":0}]
["　　　　　介護_非正規_女性_4年未満_20代",{"$f":"調査票!$L$333","v":0}]
["　　　　　介護_非正規_女性_4年未満_30代",{"$f":"調査票!$L$334","v":0}]
["　　　　　介護_非正規_女性_4年未満_40代",{"$f":"調査票!$L$335","v":0}]
["　　　　　介護_非正規_女性_4年未満_50代",{"$f":"調査票!$L$336","v":0}]
["　　　　　介護_非正規_女性_4年未満_60代",{"$f":"調査票!$L$337","v":0}]
[" 　介護_非正規_女性_4年未満_合計",{"$f":"調査票!$L$338","v":""}]
["　　　　　介護_非正規_女性_5年未満_20歳未満",{"$f":"調査票!$N$332","v":0}]
["　　　　　介護_非正規_女性_5年未満_20代",{"$f":"調査票!$N$333","v":0}]
["　　　　　介護_非正規_女性_5年未満_30代",{"$f":"調査票!$N$334","v":0}]
["　　　　　介護_非正規_女性_5年未満_40代",{"$f":"調査票!$N$335","v":0}]
["　　　　　介護_非正規_女性_5年未満_50代",{"$f":"調査票!$N$336","v":0}]
["　　　　　介護_非正規_女性_5年未満_60代",{"$f":"調査票!$N$337","v":0}]
[" 　介護_非正規_女性_5年未満_合計",{"$f":"調査票!$N$338","v":""}]
["　　　　　介護_非正規_女性_5～9年未満_20歳未満",{"$f":"調査票!$P$332","v":0}]
["　　　　　介護_非正規_女性_5～9年未満_20代",{"$f":"調査票!$P$333","v":0}]
["　　　　　介護_非正規_女性_5～9年未満_30代",{"$f":"調査票!$P$334","v":0}]
["　　　　　介護_非正規_女性_5～9年未満_40代",{"$f":"調査票!$P$335","v":0}]
["　　　　　介護_非正規_女性_5～9年未満_50代",{"$f":"調査票!$P$336","v":0}]
["　　　　　介護_非正規_女性_5～9年未満_60代",{"$f":"調査票!$P$337","v":0}]
[" 　介護_非正規_女性_5～9年未満_合計",{"$f":"調査票!$P$338","v":""}]
["　　　　　介護_非正規_女性_10年以上_20歳未満",{"$f":"調査票!$R$332","v":0}]
["　　　　　介護_非正規_女性_10年以上_20代",{"$f":"調査票!$R$333","v":0}]
["　　　　　介護_非正規_女性_10年以上_30代",{"$f":"調査票!$R$334","v":0}]
["　　　　　介護_非正規_女性_10年以上_40代",{"$f":"調査票!$R$335","v":0}]
["　　　　　介護_非正規_女性_10年以上_50代",{"$f":"調査票!$R$336","v":0}]
["　　　　　介護_非正規_女性_10年以上_60代",{"$f":"調査票!$R$337","v":0}]
[" 　介護_非正規_女性_10年以上_合計",{"$f":"調査票!$R$338","v":""}]
["22.外国人採用_日本在住",{"$f":"調査票!H344","v":0},null,"追加"]
["外国人採用_EPA",{"$f":"調査票!H345","v":0},null,"追加"]
["外国人採用_留学生",{"$f":"調査票!H346","v":0},null,"追加"]
["外国人採用_合計",{"$f":"調査票!H347","v":0},null,"追加"]
["23.継続雇用制度への対応",{"$f":"調査票!B351","v":0},null,"追加"]
["定年年齢",{"$f":"調査票!B353","v":0},null,"追加"]
["２６．採用　　　　　新卒_正規_男性",{"$f":"調査票!E367","v":0}]
["　　　　　　　　　　 中途_正規_男性",{"$f":"調査票!E368","v":0}]
["内、派遣雇入れ",{"$f":"調査票!E369","v":0}]
["紹介予定派遣_正規_男性",{"$f":"調査票!E370","v":0},null,"追加"]
["　　　　　　　　　　 新卒_正規_女性",{"$f":"調査票!H367","v":0}]
["　　　　　　　　　　 中途_正規_女性",{"$f":"調査票!H368","v":0}]
["内、派遣雇入れ",{"$f":"調査票!H369","v":0}]
["紹介予定派遣_正規_女性",{"$f":"調査票!H370","v":0},null,"追加"]
["　　　　　　　　　　 新卒_非正規_男性",{"$f":"調査票!K367","v":0}]
["　　　　　　　　　　 中途_非正規_男性",{"$f":"調査票!K368","v":0}]
["内、派遣雇入れ",{"$f":"調査票!K369","v":0}]
["紹介予定派遣_非正規_男性",{"$f":"調査票!K370","v":0},null,"追加"]
["　　　　　　　　　　 新卒_非正規_女性",{"$f":"調査票!N367","v":0}]
["　　　　　　　　　　 中途_非正規_女性",{"$f":"調査票!N368","v":0}]
["内、派遣雇入れ",{"$f":"調査票!N369","v":0}]
["紹介予定派遣_非正規_女性",{"$f":"調査票!N370","v":0},null,"追加"]
["採用経費_新卒",{"$f":"調査票!R367","v":0},null,"追加"]
["採用経費_中途",{"$f":"調査票!R368","v":0},null,"追加"]
["採用経費_紹介予定派遣",{"$f":"調査票!R369","v":0},null,"追加"]
["退職　  介護_正規_1年未満_20歳未満",{"$f":"調査票!F374","v":0},null,"追加"]
["　　　　　介護_正規_1年未満_20代",{"$f":"調査票!F375","v":0},null,"追加"]
["　　　　　介護_正規_1年未満_30代",{"$f":"調査票!F376","v":0},null,"追加"]
["　　　　　介護_正規_1年未満_40代",{"$f":"調査票!F377","v":0},null,"追加"]
["　　　　　介護_正規_1年未満_50代",{"$f":"調査票!F378","v":0},null,"追加"]
["　　　　　介護_正規_1年未満_60代",{"$f":"調査票!F379","v":0},null,"追加"]
[" 　介護_正規_1年未満_合計",{"$f":"調査票!F380","v":""},null,"追加"]
["　　　　　介護_正規_2年未満_20歳未満",{"$f":"調査票!H374","v":0},null,"追加"]
["　　　　　介護_正規_2年未満_20代",{"$f":"調査票!H375","v":0},null,"追加"]
["　　　　　介護_正規_2年未満_30代",{"$f":"調査票!H376","v":0},null,"追加"]
["　　　　　介護_正規_2年未満_40代",{"$f":"調査票!H377","v":0},null,"追加"]
["　　　　　介護_正規_2年未満_50代",{"$f":"調査票!H378","v":0},null,"追加"]
["　　　　　介護_正規_2年未満_60代",{"$f":"調査票!H379","v":0},null,"追加"]
[" 　介護_正規_2年未満_合計",{"$f":"調査票!H380","v":""},null,"追加"]
["　　　　　介護_正規_3年未満_20歳未満",{"$f":"調査票!J374","v":0},null,"追加"]
["　　　　　介護_正規_3年未満_20代",{"$f":"調査票!J375","v":0},null,"追加"]
["　　　　　介護_正規_3年未満_30代",{"$f":"調査票!J376","v":0},null,"追加"]
["　　　　　介護_正規_3年未満_40代",{"$f":"調査票!J377","v":0},null,"追加"]
["　　　　　介護_正規_3年未満_50代",{"$f":"調査票!J378","v":0},null,"追加"]
["　　　　　介護_正規_3年未満_60代",{"$f":"調査票!J379","v":0},null,"追加"]
[" 　介護_正規_3年未満_合計",{"$f":"調査票!J380","v":""},null,"追加"]
["　　　　　介護_正規_4年未満_20歳未満",{"$f":"調査票!L374","v":0},null,"追加"]
["　　　　　介護_正規_4年未満_20代",{"$f":"調査票!L375","v":0},null,"追加"]
["　　　　　介護_正規_4年未満_30代",{"$f":"調査票!L376","v":0},null,"追加"]
["　　　　　介護_正規_4年未満_40代",{"$f":"調査票!L377","v":0},null,"追加"]
["　　　　　介護_正規_4年未満_50代",{"$f":"調査票!L378","v":0},null,"追加"]
["　　　　　介護_正規_4年未満_60代",{"$f":"調査票!L379","v":0},null,"追加"]
[" 　介護_正規_4年未満_合計",{"$f":"調査票!L380","v":""},null,"追加"]
["　　　　　介護_正規_5年未満_20歳未満",{"$f":"調査票!N374","v":0},null,"追加"]
["　　　　　介護_正規_5年未満_20代",{"$f":"調査票!N375","v":0},null,"追加"]
["　　　　　介護_正規_5年未満_30代",{"$f":"調査票!N376","v":0},null,"追加"]
["　　　　　介護_正規_5年未満_40代",{"$f":"調査票!N377","v":0},null,"追加"]
["　　　　　介護_正規_5年未満_50代",{"$f":"調査票!N378","v":0},null,"追加"]
["　　　　　介護_正規_5年未満_60代",{"$f":"調査票!N379","v":0},null,"追加"]
[" 　介護_正規_5年未満_合計",{"$f":"調査票!N380","v":""},null,"追加"]
["　　　　　介護_正規_5～9年未満_20歳未満",{"$f":"調査票!P374","v":0},null,"追加"]
["　　　　　介護_正規_5～9年未満_20代",{"$f":"調査票!P375","v":0},null,"追加"]
["　　　　　介護_正規_5～9年未満_30代",{"$f":"調査票!P376","v":0},null,"追加"]
["　　　　　介護_正規_5～9年未満_40代",{"$f":"調査票!P377","v":0},null,"追加"]
["　　　　　介護_正規_5～9年未満_50代",{"$f":"調査票!P378","v":0},null,"追加"]
["　　　　　介護_正規_5～9年未満_60代",{"$f":"調査票!P379","v":0},null,"追加"]
[" 　介護_正規_5～9年未満_合計",{"$f":"調査票!P380","v":""},null,"追加"]
["　　　　　介護_正規_10年以上_20歳未満",{"$f":"調査票!R374","v":0},null,"追加"]
["　　　　　介護_正規_10年以上_20代",{"$f":"調査票!R375","v":0},null,"追加"]
["　　　　　介護_正規_10年以上_30代",{"$f":"調査票!R376","v":0},null,"追加"]
["　　　　　介護_正規_10年以上_40代",{"$f":"調査票!R377","v":0},null,"追加"]
["　　　　　介護_正規_10年以上_50代",{"$f":"調査票!R378","v":0},null,"追加"]
["　　　　　介護_正規_10年以上_60代",{"$f":"調査票!R379","v":0},null,"追加"]
[" 　介護_正規_10年以上_合計",{"$f":"調査票!R380","v":""},null,"追加"]
["　　　　　介護_非正規_1年未満_20歳未満",{"$f":"調査票!F382","v":0},null,"追加"]
["　　　　　介護_非正規_1年未満_20代",{"$f":"調査票!F383","v":0},null,"追加"]
["　　　　　介護_非正規_1年未満_30代",{"$f":"調査票!F384","v":0},null,"追加"]
["　　　　　介護_非正規_1年未満_40代",{"$f":"調査票!F385","v":0},null,"追加"]
["　　　　　介護_非正規_1年未満_50代",{"$f":"調査票!F386","v":0},null,"追加"]
["　　　　　介護_非正規_1年未満_60代",{"$f":"調査票!F387","v":0},null,"追加"]
[" 　介護_非正規_1年未満_合計",{"$f":"調査票!F388","v":""},null,"追加"]
["　　　　　介護_非正規_2年未満_20歳未満",{"$f":"調査票!H382","v":0},null,"追加"]
["　　　　　介護_非正規_2年未満_20代",{"$f":"調査票!H383","v":0},null,"追加"]
["　　　　　介護_非正規_2年未満_30代",{"$f":"調査票!H384","v":0},null,"追加"]
["　　　　　介護_非正規_2年未満_40代",{"$f":"調査票!H385","v":0},null,"追加"]
["　　　　　介護_非正規_2年未満_50代",{"$f":"調査票!H386","v":0},null,"追加"]
["　　　　　介護_非正規_2年未満_60代",{"$f":"調査票!H387","v":0},null,"追加"]
[" 　介護_非正規_2年未満_合計",{"$f":"調査票!H388","v":""},null,"追加"]
["　　　　　介護_非正規_3年未満_20歳未満",{"$f":"調査票!J382","v":0},null,"追加"]
["　　　　　介護_非正規_3年未満_20代",{"$f":"調査票!J383","v":0},null,"追加"]
["　　　　　介護_非正規_3年未満_30代",{"$f":"調査票!J384","v":0},null,"追加"]
["　　　　　介護_非正規_3年未満_40代",{"$f":"調査票!J385","v":0},null,"追加"]
["　　　　　介護_非正規_3年未満_50代",{"$f":"調査票!J386","v":0},null,"追加"]
["　　　　　介護_非正規_3年未満_60代",{"$f":"調査票!J387","v":0},null,"追加"]
[" 　介護_非正規_3年未満_合計",{"$f":"調査票!J388","v":""},null,"追加"]
["　　　　　介護_非正規_4年未満_20歳未満",{"$f":"調査票!L382","v":0},null,"追加"]
["　　　　　介護_非正規_4年未満_20代",{"$f":"調査票!L383","v":0},null,"追加"]
["　　　　　介護_非正規_4年未満_30代",{"$f":"調査票!L384","v":0},null,"追加"]
["　　　　　介護_非正規_4年未満_40代",{"$f":"調査票!L385","v":0},null,"追加"]
["　　　　　介護_非正規_4年未満_50代",{"$f":"調査票!L386","v":0},null,"追加"]
["　　　　　介護_非正規_4年未満_60代",{"$f":"調査票!L387","v":0},null,"追加"]
[" 　介護_非正規_4年未満_合計",{"$f":"調査票!L388","v":""},null,"追加"]
["　　　　　介護_非正規_5年未満_20歳未満",{"$f":"調査票!N382","v":0},null,"追加"]
["　　　　　介護_非正規_5年未満_20代",{"$f":"調査票!N383","v":0},null,"追加"]
["　　　　　介護_非正規_5年未満_30代",{"$f":"調査票!N384","v":0},null,"追加"]
["　　　　　介護_非正規_5年未満_40代",{"$f":"調査票!N385","v":0},null,"追加"]
["　　　　　介護_非正規_5年未満_50代",{"$f":"調査票!N386","v":0},null,"追加"]
["　　　　　介護_非正規_5年未満_60代",{"$f":"調査票!N387","v":0},null,"追加"]
[" 　介護_非正規_5年未満_合計",{"$f":"調査票!N388","v":""},null,"追加"]
["　　　　　介護_非正規_5～9年未満_20歳未満",{"$f":"調査票!P382","v":0},null,"追加"]
["　　　　　介護_非正規_5～9年未満_20代",{"$f":"調査票!P383","v":0},null,"追加"]
["　　　　　介護_非正規_5～9年未満_30代",{"$f":"調査票!P384","v":0},null,"追加"]
["　　　　　介護_非正規_5～9年未満_40代",{"$f":"調査票!P385","v":0},null,"追加"]
["　　　　　介護_非正規_5～9年未満_50代",{"$f":"調査票!P386","v":0},null,"追加"]
["　　　　　介護_非正規_5～9年未満_60代",{"$f":"調査票!P387","v":0},null,"追加"]
[" 　介護_非正規_5～9年未満_合計",{"$f":"調査票!P388","v":""},null,"追加"]
["　　　　介護_非正規_10年以上_20歳未満",{"$f":"調査票!R382","v":0},null,"追加"]
["　　　　　介護_非正規_10年以上_20代",{"$f":"調査票!R383","v":0},null,"追加"]
["　　　　　介護_非正規_10年以上_30代",{"$f":"調査票!R384","v":0},null,"追加"]
["　　　　　介護_非正規_10年以上_40代",{"$f":"調査票!R385","v":0},null,"追加"]
["　　　　　介護_非正規_10年以上_50代",{"$f":"調査票!R386","v":0},null,"追加"]
["　　　　　介護_非正規_10年以上_60代",{"$f":"調査票!R387","v":0},null,"追加"]
[" 　介護_非正規_10年以上_合計",{"$f":"調査票!R388","v":""},null,"追加"]
["２７．初任給　高卒_あり_基本給",{"$f":"調査票!$I406","v":0}]
["　　　　　　　　 高卒_あり_手当",{"$f":"調査票!$M406","v":0}]
["　　　　　　　　 高卒_なし_基本給",{"$f":"調査票!$I407","v":0}]
["　　　　　　　　 高卒_なし_手当",{"$f":"調査票!$M407","v":0}]
["　　　　　　　　 短大・専門学校卒_あり_基本給",{"$f":"調査票!$I408","v":0}]
["　　　　　　　　 短大・専門学校卒_あり_手当",{"$f":"調査票!$M408","v":0}]
["　　　　　　　　 短大・専門学校卒_なし_基本給",{"$f":"調査票!$I409","v":0}]
["　　　　　　　　 短大・専門学校卒_なし_手当",{"$f":"調査票!$M409","v":0}]
["　　　　　　　　 4年制大学卒_あり_基本給",{"$f":"調査票!$I410","v":0}]
["　　　　　　　　 4年制大学卒_あり_手当",{"$f":"調査票!$M410","v":0}]
["　　　　　　　　 4年制大学卒_なし_基本給",{"$f":"調査票!$I411","v":0}]
["　　　　　　　　 4年制大学卒_なし_手当",{"$f":"調査票!$M411","v":0}]
["　　　　　　　　 一律支給_あり_基本給",{"$f":"調査票!$I412","v":0}]
["　　　　　　　　 一律支給_あり_手当",{"$f":"調査票!$M412","v":0}]
["　　　　　　　　 一律支給_なし_基本給",{"$f":"調査票!$I413","v":0}]
["　　　　　　　　 一律支給_なし_手当",{"$f":"調査票!$M413","v":0}]
["２８．非正規介護職員の時給_あり_介護福祉士     ",{"$f":"調査票!L427","v":0}]
["　　　　　　　　　　　　　　 あり_実務者研修修了者（旧ヘルパー1級相当）",{"$f":"調査票!L428","v":0},null,"追加"]
["　　　　　　　　　　　　　　 あり_介護職員初任者研修課程修了",{"$f":"調査票!L429","v":0}]
["                             なし",{"$f":"調査票!L430","v":0}]
["夜勤形態",{"$f":"調査票!B437","v":0},null,"追加"]
["金額",{"$f":"調査票!H437","v":0},null,"追加"]
["年間休日日数",{"$f":"調査票!N437","v":0},null,"追加"]
["２９．介護職給与_①H27_性別",{"$f":"調査票!D486","v":0}]
["①H27_年齢",{"$f":"調査票!I486","v":0}]
["①H27_管理職",{"$f":"調査票!P486","v":0}]
["①H27_本給",{"$f":"調査票!E488","v":0}]
["①H27_諸手当（合計）",{"$f":"調査票!E489","v":0}]
["①H27_手当_夜勤手当_金額",{"$f":"調査票!E490","v":0}]
["①H27_手当_夜勤手当_回数",{"$f":"調査票!E491","v":0}]
["①H27_手当_時間外手当_金額",{"$f":"調査票!E493","v":0}]
["①H27_手当_時間外手当_時間",{"$f":"調査票!E494","v":0}]
["①H27_手当_資格手当_金額",{"$f":"調査票!E496","v":0}]
["①H27_手当_資格手当_資格名",{"$f":"調査票!E497","v":0}]
["①H27_手当_処遇改善加算相当額",{"$f":"調査票!E498","v":0}]
["①H27_手当_その他",{"$f":"調査票!E499","v":0}]
["①H27_一時金（年間総額）",{"$f":"調査票!E500","v":0}]
["①H28_本給",{"$f":"調査票!N488","v":0}]
["①H28_諸手当（合計）",{"$f":"調査票!N489","v":0}]
["①H28_手当_夜勤手当_金額",{"$f":"調査票!N490","v":0}]
["①H28_手当_夜勤手当_回数",{"$f":"調査票!N491","v":0}]
["①H28_手当_時間外手当_金額",{"$f":"調査票!N493","v":0}]
["①H28_手当_時間外手当_時間",{"$f":"調査票!N494","v":0}]
["①H28_手当_資格手当_金額",{"$f":"調査票!N496","v":0}]
["①H28_手当_資格手当_資格名",{"$f":"調査票!N497","v":0}]
["①H28_手当_処遇改善加算相当額",{"$f":"調査票!N498","v":0}]
["①H28_手当_その他",{"$f":"調査票!N499","v":0}]
["②H27_性別",{"$f":"調査票!D508","v":0}]
["②H27_年齢",{"$f":"調査票!I508","v":0}]
["②H27_管理職",{"$f":"調査票!P508","v":0}]
["②H27_本給",{"$f":"調査票!E510","v":0}]
["②H27_諸手当（合計）",{"$f":"調査票!E511","v":0}]
["②H27_手当_夜勤手当_金額",{"$f":"調査票!E512","v":0}]
["②H27_手当_夜勤手当_回数",{"$f":"調査票!E513","v":0}]
["②H27_手当_時間外手当_金額",{"$f":"調査票!E515","v":0}]
["②H27_手当_時間外手当_時間",{"$f":"調査票!E516","v":0}]
["②H27_手当_資格手当_金額",{"$f":"調査票!E518","v":0}]
["②H27_手当_資格手当_資格名",{"$f":"調査票!E519","v":0}]
["②H27_手当_処遇改善加算相当額",{"$f":"調査票!E520","v":0}]
["②H27_手当_その他",{"$f":"調査票!E521","v":0}]
["②H27_一時金（年間総額）",{"$f":"調査票!E522","v":0}]
["②H28_本給",{"$f":"調査票!N510","v":0}]
["②H28_諸手当（合計）",{"$f":"調査票!N511","v":0}]
["②H28_手当_夜勤手当_金額",{"$f":"調査票!N512","v":0}]
["②H28_手当_夜勤手当_回数",{"$f":"調査票!N513","v":0}]
["②H28_手当_時間外手当_金額",{"$f":"調査票!N515","v":0}]
["②H28_手当_時間外手当_時間",{"$f":"調査票!N516","v":0}]
["②H28_手当_資格手当_金額",{"$f":"調査票!N518","v":0}]
["②H28_手当_資格手当_資格名",{"$f":"調査票!N519","v":0}]
["②H28_手当_処遇改善加算相当額",{"$f":"調査票!N520","v":0}]
["②H28_手当_その他",{"$f":"調査票!N521","v":0}]
["③H27_性別",{"$f":"調査票!D526","v":0}]
["③H27_年齢",{"$f":"調査票!I526","v":0}]
["③H27_管理職",{"$f":"調査票!P526","v":0}]
["③H27_本給",{"$f":"調査票!E528","v":0}]
["③H27_諸手当（合計）",{"$f":"調査票!E529","v":0}]
["③H27_手当_夜勤手当_金額",{"$f":"調査票!E530","v":0}]
["③H27_手当_夜勤手当_回数",{"$f":"調査票!E531","v":0}]
["③H27_手当_時間外手当_金額",{"$f":"調査票!E533","v":0}]
["③H27_手当_時間外手当_時間",{"$f":"調査票!E534","v":0}]
["③H27_手当_資格手当_金額",{"$f":"調査票!E536","v":0}]
["③H27_手当_資格手当_資格名",{"$f":"調査票!E537","v":0}]
["③H27_手当_処遇改善加算相当額",{"$f":"調査票!E538","v":0}]
["③H27_手当_その他",{"$f":"調査票!E539","v":0}]
["③H27_一時金（年間総額）",{"$f":"調査票!E540","v":0}]
["③H28_本給",{"$f":"調査票!N528","v":0}]
["③H28_諸手当（合計）",{"$f":"調査票!N529","v":0}]
["③H28_手当_夜勤手当_金額",{"$f":"調査票!N530","v":0}]
["③H28_手当_夜勤手当_回数",{"$f":"調査票!N531","v":0}]
["③H28_手当_時間外手当_金額",{"$f":"調査票!N533","v":0}]
["③H28_手当_時間外手当_時間",{"$f":"調査票!N534","v":0}]
["③H28_手当_資格手当_金額",{"$f":"調査票!N536","v":0}]
["③H28_手当_資格手当_資格名",{"$f":"調査票!N537","v":0}]
["③H28_手当_処遇改善加算相当額",{"$f":"調査票!N538","v":0}]
["③H28_手当_その他",{"$f":"調査票!N539","v":0}]
["④H27_性別",{"$f":"調査票!D548","v":0}]
["④H27_年齢",{"$f":"調査票!I548","v":0}]
["④H27_管理職",{"$f":"調査票!P548","v":0}]
["④H27_本給",{"$f":"調査票!E550","v":0}]
["④H27_諸手当（合計）",{"$f":"調査票!E551","v":0}]
["④H27_手当_夜勤手当_金額",{"$f":"調査票!E552","v":0}]
["④H27_手当_夜勤手当_回数",{"$f":"調査票!E553","v":0}]
["④H27_手当_時間外手当_金額",{"$f":"調査票!E555","v":0}]
["④H27_手当_時間外手当_時間",{"$f":"調査票!E556","v":0}]
["④H27_手当_資格手当_金額",{"$f":"調査票!E558","v":0}]
["④H27_手当_資格手当_資格名",{"$f":"調査票!E559","v":0}]
["④H27_手当_処遇改善加算相当額",{"$f":"調査票!E560","v":0}]
["④H27_手当_その他",{"$f":"調査票!E561","v":0}]
["④H27_一時金（年間総額）",{"$f":"調査票!E562","v":0}]
["④H28_本給",{"$f":"調査票!N550","v":0}]
["④H28_諸手当（合計）",{"$f":"調査票!N551","v":0}]
["④H28_手当_夜勤手当_金額",{"$f":"調査票!N552","v":0}]
["④H28_手当_夜勤手当_回数",{"$f":"調査票!N553","v":0}]
["④H28_手当_時間外手当_金額",{"$f":"調査票!N555","v":0}]
["④H28_手当_時間外手当_時間",{"$f":"調査票!N556","v":0}]
["④H28_手当_資格手当_金額",{"$f":"調査票!N558","v":0}]
["④H28_手当_資格手当_資格名",{"$f":"調査票!N559","v":0}]
["④H28_手当_処遇改善加算相当額",{"$f":"調査票!N560","v":0}]
["④H28_手当_その他",{"$f":"調査票!N561","v":0}]
["⑤H27_性別",{"$f":"調査票!D566","v":0}]
["⑤H27_年齢",{"$f":"調査票!I566","v":0}]
["⑤H27_管理職",{"$f":"調査票!P566","v":0}]
["⑤H27_本給",{"$f":"調査票!E568","v":0}]
["⑤H27_諸手当（合計）",{"$f":"調査票!E569","v":0}]
["⑤H27_手当_夜勤手当_金額",{"$f":"調査票!E570","v":0}]
["⑤H27_手当_夜勤手当_回数",{"$f":"調査票!E571","v":0}]
["⑤H27_手当_時間外手当_金額",{"$f":"調査票!E573","v":0}]
["⑤H27_手当_時間外手当_時間",{"$f":"調査票!E574","v":0}]
["⑤H27_手当_資格手当_金額",{"$f":"調査票!E576","v":0}]
["⑤H27_手当_資格手当_資格名",{"$f":"調査票!E577","v":0}]
["⑤H27_手当_処遇改善加算相当額",{"$f":"調査票!E578","v":0}]
["⑤H27_手当_その他",{"$f":"調査票!E579","v":0}]
["⑤H27_一時金（年間総額）",{"$f":"調査票!E580","v":0}]
["⑤H28_本給",{"$f":"調査票!N568","v":0}]
["⑤H28_諸手当（合計）",{"$f":"調査票!N569","v":0}]
["⑤H28_手当_夜勤手当_金額",{"$f":"調査票!N570","v":0}]
["⑤H28_手当_夜勤手当_回数",{"$f":"調査票!N571","v":0}]
["⑤H28_手当_時間外手当_金額",{"$f":"調査票!N573","v":0}]
["⑤H28_手当_時間外手当_時間",{"$f":"調査票!N574","v":0}]
["⑤H28_手当_資格手当_金額",{"$f":"調査票!N576","v":0}]
["⑤H28_手当_資格手当_資格名",{"$f":"調査票!N577","v":0}]
["⑤H28_手当_処遇改善加算相当額",{"$f":"調査票!N578","v":0}]
["⑤H28_手当_その他",{"$f":"調査票!N579","v":0}]
["⑥H27_性別",{"$f":"調査票!D588","v":0}]
["⑥H27_年齢",{"$f":"調査票!I588","v":0}]
["⑥H27_管理職",{"$f":"調査票!P588","v":0}]
["⑥H27_本給",{"$f":"調査票!E590","v":0}]
["⑥H27_諸手当（合計）",{"$f":"調査票!E591","v":0}]
["⑥H27_手当_夜勤手当_金額",{"$f":"調査票!E592","v":0}]
["⑥H27_手当_夜勤手当_回数",{"$f":"調査票!E593","v":0}]
["⑥H27_手当_時間外手当_金額",{"$f":"調査票!E595","v":0}]
["⑥H27_手当_時間外手当_時間",{"$f":"調査票!E596","v":0}]
["⑥H27_手当_資格手当_金額",{"$f":"調査票!E598","v":0}]
["⑥H27_手当_資格手当_資格名",{"$f":"調査票!E599","v":0}]
["⑥H27_手当_処遇改善加算相当額",{"$f":"調査票!E600","v":0}]
["⑥H27_手当_その他",{"$f":"調査票!E601","v":0}]
["⑥H27_一時金（年間総額）",{"$f":"調査票!E602","v":0}]
["⑥H28_本給",{"$f":"調査票!N590","v":0}]
["⑥H28_諸手当（合計）",{"$f":"調査票!N591","v":0}]
["⑥H28_手当_夜勤手当_金額",{"$f":"調査票!N592","v":0}]
["⑥H28_手当_夜勤手当_回数",{"$f":"調査票!N593","v":0}]
["⑥H28_手当_時間外手当_金額",{"$f":"調査票!N595","v":0}]
["⑥H28_手当_時間外手当_時間",{"$f":"調査票!N596","v":0}]
["⑥H28_手当_資格手当_金額",{"$f":"調査票!N598","v":0}]
["⑥H28_手当_資格手当_資格名",{"$f":"調査票!N599","v":0}]
["⑥H28_手当_処遇改善加算相当額",{"$f":"調査票!N600","v":0}]
["⑥H28_手当_その他",{"$f":"調査票!N601","v":0}]
["⑦H27_性別",{"$f":"調査票!D606","v":0}]
["⑦H27_年齢",{"$f":"調査票!I606","v":0}]
["⑦H27_管理職",{"$f":"調査票!P606","v":0}]
["⑦H27_本給",{"$f":"調査票!E608","v":0}]
["⑦H27_諸手当（合計）",{"$f":"調査票!E609","v":0}]
["⑦H27_手当_夜勤手当_金額",{"$f":"調査票!E610","v":0}]
["⑦H27_手当_夜勤手当_回数",{"$f":"調査票!E611","v":0}]
["⑦H27_手当_時間外手当_金額",{"$f":"調査票!E613","v":0}]
["⑦H27_手当_時間外手当_時間",{"$f":"調査票!E614","v":0}]
["⑦H27_手当_資格手当_金額",{"$f":"調査票!E616","v":0}]
["⑦H27_手当_資格手当_資格名",{"$f":"調査票!E617","v":0}]
["⑦H27_手当_処遇改善加算相当額",{"$f":"調査票!E618","v":0}]
["⑦H27_手当_その他",{"$f":"調査票!E619","v":0}]
["⑦H27_一時金（年間総額）",{"$f":"調査票!E620","v":0}]
["⑦H28_本給",{"$f":"調査票!N608","v":0}]
["⑦H28_諸手当（合計）",{"$f":"調査票!N609","v":0}]
["⑦H28_手当_夜勤手当_金額",{"$f":"調査票!N610","v":0}]
["⑦H28_手当_夜勤手当_回数",{"$f":"調査票!N611","v":0}]
["⑦H28_手当_時間外手当_金額",{"$f":"調査票!N613","v":0}]
["⑦H28_手当_時間外手当_時間",{"$f":"調査票!N614","v":0}]
["⑦H28_手当_資格手当_金額",{"$f":"調査票!N616","v":0}]
["⑦H28_手当_資格手当_資格名",{"$f":"調査票!N617","v":0}]
["⑦H28_手当_処遇改善加算相当額",{"$f":"調査票!N618","v":0}]
["⑦H28_手当_その他",{"$f":"調査票!N619","v":0}]
["３０．職員実人数　  看護_正規_1年未満_20歳未満",{"$f":"調査票!$F$629","v":0},null,"設問無"]
["　　　　　看護_正規_1年未満_20代",{"$f":"調査票!$F$630","v":0},null,"設問無"]
["　　　　　看護_正規_1年未満_30代",{"$f":"調査票!$F$631","v":0},null,"設問無"]
["　　　　　看護_正規_1年未満_40代",{"$f":"調査票!$F$632","v":0},null,"設問無"]
["　　　　　看護_正規_1年未満_50代",{"$f":"調査票!$F$633","v":0},null,"設問無"]
["　　　　　看護_正規_1年未満_60代",{"$f":"調査票!$F$634","v":0},null,"設問無"]
[" 　看護_正規_1年未満_合計",{"$f":"調査票!$F$635","v":""},null,"設問無"]
["　　　　　看護_正規_2年未満_20歳未満",{"$f":"調査票!$H$629","v":0},null,"設問無"]
["　　　　　看護_正規_2年未満_20代",{"$f":"調査票!$H$630","v":0},null,"設問無"]
["　　　　　看護_正規_2年未満_30代",{"$f":"調査票!$H$631","v":0},null,"設問無"]
["　　　　　看護_正規_2年未満_40代",{"$f":"調査票!$H$632","v":0},null,"設問無"]
["　　　　　看護_正規_2年未満_50代",{"$f":"調査票!$H$633","v":0},null,"設問無"]
["　　　　　看護_正規_2年未満_60代",{"$f":"調査票!$H$634","v":0},null,"設問無"]
[" 　看護_正規_2年未満_合計",{"$f":"調査票!$H$635","v":""},null,"設問無"]
["　　　　　看護_正規_3年未満_20歳未満",{"$f":"調査票!$J$629","v":0},null,"設問無"]
["　　　　　看護_正規_3年未満_20代",{"$f":"調査票!$J$630","v":0},null,"設問無"]
["　　　　　看護_正規_3年未満_30代",{"$f":"調査票!$J$631","v":0},null,"設問無"]
["　　　　　看護_正規_3年未満_40代",{"$f":"調査票!$J$632","v":0},null,"設問無"]
["　　　　　看護_正規_3年未満_50代",{"$f":"調査票!$J$633","v":0},null,"設問無"]
["　　　　　看護_正規_3年未満_60代",{"$f":"調査票!$J$634","v":0},null,"設問無"]
[" 　看護_正規_3年未満_合計",{"$f":"調査票!$J$635","v":""},null,"設問無"]
["　　　　　看護_正規_4年未満_20歳未満",{"$f":"調査票!$L$629","v":0},null,"設問無"]
["　　　　　看護_正規_4年未満_20代",{"$f":"調査票!$L$630","v":0},null,"設問無"]
["　　　　　看護_正規_4年未満_30代",{"$f":"調査票!$L$631","v":0},null,"設問無"]
["　　　　　看護_正規_4年未満_40代",{"$f":"調査票!$L$632","v":0},null,"設問無"]
["　　　　　看護_正規_4年未満_50代",{"$f":"調査票!$L$633","v":0},null,"設問無"]
["　　　　　看護_正規_4年未満_60代",{"$f":"調査票!$L$634","v":0},null,"設問無"]
[" 　看護_正規_4年未満_合計",{"$f":"調査票!$L$635","v":""},null,"設問無"]
["　　　　　看護_正規_5年未満_20歳未満",{"$f":"調査票!$N$629","v":0},null,"設問無"]
["　　　　　看護_正規_5年未満_20代",{"$f":"調査票!$N$630","v":0},null,"設問無"]
["　　　　　看護_正規_5年未満_30代",{"$f":"調査票!$N$631","v":0},null,"設問無"]
["　　　　　看護_正規_5年未満_40代",{"$f":"調査票!$N$632","v":0},null,"設問無"]
["　　　　　看護_正規_5年未満_50代",{"$f":"調査票!$N$633","v":0},null,"設問無"]
["　　　　　看護_正規_5年未満_60代",{"$f":"調査票!$N$634","v":0},null,"設問無"]
[" 　看護_正規_5年未満_合計",{"$f":"調査票!$N$635","v":""},null,"設問無"]
["　　　　　看護_正規_5～9年未満_20歳未満",{"$f":"調査票!$P$629","v":0},null,"設問無"]
["　　　　　看護_正規_5～9年未満_20代",{"$f":"調査票!$P$630","v":0},null,"設問無"]
["　　　　　看護_正規_5～9年未満_30代",{"$f":"調査票!$P$631","v":0},null,"設問無"]
["　　　　　看護_正規_5～9年未満_40代",{"$f":"調査票!$P$632","v":0},null,"設問無"]
["　　　　　看護_正規_5～9年未満_50代",{"$f":"調査票!$P$633","v":0},null,"設問無"]
["　　　　　看護_正規_5～9年未満_60代",{"$f":"調査票!$P$634","v":0},null,"設問無"]
[" 　看護_正規_5～9年未満_合計",{"$f":"調査票!$P$635","v":""},null,"設問無"]
["　　　　　看護_正規_10年以上_20歳未満",{"$f":"調査票!$R$629","v":0},null,"設問無"]
["　　　　　看護_正規_10年以上_20代",{"$f":"調査票!$R$630","v":0},null,"設問無"]
["　　　　　看護_正規_10年以上_30代",{"$f":"調査票!$R$631","v":0},null,"設問無"]
["　　　　　看護_正規_10年以上_40代",{"$f":"調査票!$R$632","v":0},null,"設問無"]
["　　　　　看護_正規_10年以上_50代",{"$f":"調査票!$R$633","v":0},null,"設問無"]
["　　　　　看護_正規_10年以上_60代",{"$f":"調査票!$R$634","v":0},null,"設問無"]
[" 　看護_正規_10年以上_合計",{"$f":"調査票!$R$635","v":""},null,"設問無"]
["　　　　　看護_非正規_1年未満_20歳未満",{"$f":"調査票!$F$637","v":0},null,"設問無"]
["　　　　　看護_非正規_1年未満_20代",{"$f":"調査票!$F$638","v":0},null,"設問無"]
["　　　　　看護_非正規_1年未満_30代",{"$f":"調査票!$F$639","v":0},null,"設問無"]
["　　　　　看護_非正規_1年未満_40代",{"$f":"調査票!$F$640","v":0},null,"設問無"]
["　　　　　看護_非正規_1年未満_50代",{"$f":"調査票!$F$641","v":0},null,"設問無"]
["　　　　　看護_非正規_1年未満_60代",{"$f":"調査票!$F$642","v":0},null,"設問無"]
[" 　看護_非正規_1年未満_合計",{"$f":"調査票!$F$643","v":""},null,"設問無"]
["　　　　　看護_非正規_2年未満_20歳未満",{"$f":"調査票!$H$637","v":0},null,"設問無"]
["　　　　　看護_非正規_2年未満_20代",{"$f":"調査票!$H$638","v":0},null,"設問無"]
["　　　　　看護_非正規_2年未満_30代",{"$f":"調査票!$H$639","v":0},null,"設問無"]
["　　　　　看護_非正規_2年未満_40代",{"$f":"調査票!$H$640","v":0},null,"設問無"]
["　　　　　看護_非正規_2年未満_50代",{"$f":"調査票!$H$641","v":0},null,"設問無"]
["　　　　　看護_非正規_2年未満_60代",{"$f":"調査票!$H$642","v":0},null,"設問無"]
[" 　看護_非正規_2年未満_合計",{"$f":"調査票!$H$643","v":""},null,"設問無"]
["　　　　　看護_非正規_3年未満_20歳未満",{"$f":"調査票!$J$637","v":0},null,"設問無"]
["　　　　　看護_非正規_3年未満_20代",{"$f":"調査票!$J$638","v":0},null,"設問無"]
["　　　　　看護_非正規_3年未満_30代",{"$f":"調査票!$J$639","v":0},null,"設問無"]
["　　　　　看護_非正規_3年未満_40代",{"$f":"調査票!$J$640","v":0},null,"設問無"]
["　　　　　看護_非正規_3年未満_50代",{"$f":"調査票!$J$641","v":0},null,"設問無"]
["　　　　　看護_非正規_3年未満_60代",{"$f":"調査票!$J$642","v":0},null,"設問無"]
[" 　看護_非正規_3年未満_合計",{"$f":"調査票!$J$643","v":""},null,"設問無"]
["　　　　　看護_非正規_4年未満_20歳未満",{"$f":"調査票!$L$637","v":0},null,"設問無"]
["　　　　　看護_非正規_4年未満_20代",{"$f":"調査票!$L$638","v":0},null,"設問無"]
["　　　　　看護_非正規_4年未満_30代",{"$f":"調査票!$L$639","v":0},null,"設問無"]
["　　　　　看護_非正規_4年未満_40代",{"$f":"調査票!$L$640","v":0},null,"設問無"]
["　　　　　看護_非正規_4年未満_50代",{"$f":"調査票!$L$641","v":0},null,"設問無"]
["　　　　　看護_非正規_4年未満_60代",{"$f":"調査票!$L$642","v":0},null,"設問無"]
[" 　看護_非正規_4年未満_合計",{"$f":"調査票!$L$643","v":""},null,"設問無"]
["　　　　　看護_非正規_5年未満_20歳未満",{"$f":"調査票!$N$637","v":0},null,"設問無"]
["　　　　　看護_非正規_5年未満_20代",{"$f":"調査票!$N$638","v":0},null,"設問無"]
["　　　　　看護_非正規_5年未満_30代",{"$f":"調査票!$N$639","v":0},null,"設問無"]
["　　　　　看護_非正規_5年未満_40代",{"$f":"調査票!$N$640","v":0},null,"設問無"]
["　　　　　看護_非正規_5年未満_50代",{"$f":"調査票!$N$641","v":0},null,"設問無"]
["　　　　　看護_非正規_5年未満_60代",{"$f":"調査票!$N$642","v":0},null,"設問無"]
[" 　看護_非正規_5年未満_合計",{"$f":"調査票!$N$643","v":""},null,"設問無"]
["　　　　　看護_非正規_5～9年未満_20歳未満",{"$f":"調査票!$P$637","v":0},null,"設問無"]
["　　　　　看護_非正規_5～9年未満_20代",{"$f":"調査票!$P$638","v":0},null,"設問無"]
["　　　　　看護_非正規_5～9年未満_30代",{"$f":"調査票!$P$639","v":0},null,"設問無"]
["　　　　　看護_非正規_5～9年未満_40代",{"$f":"調査票!$P$640","v":0},null,"設問無"]
["　　　　　看護_非正規_5～9年未満_50代",{"$f":"調査票!$P$641","v":0},null,"設問無"]
["　　　　　看護_非正規_5～9年未満_60代",{"$f":"調査票!$P$642","v":0},null,"設問無"]
[" 　看護_非正規_5～9年未満_合計",{"$f":"調査票!$P$643","v":""},null,"設問無"]
["　　　　　看護_非正規_10年以上_20歳未満",{"$f":"調査票!$R$637","v":0},null,"設問無"]
["　　　　　看護_非正規_10年以上_20代",{"$f":"調査票!$R$638","v":0},null,"設問無"]
["　　　　　看護_非正規_10年以上_30代",{"$f":"調査票!$R$639","v":0},null,"設問無"]
["　　　　　看護_非正規_10年以上_40代",{"$f":"調査票!$R$640","v":0},null,"設問無"]
["　　　　　看護_非正規_10年以上_50代",{"$f":"調査票!$R$641","v":0},null,"設問無"]
["　　　　　看護_非正規_10年以上_60代",{"$f":"調査票!$R$642","v":0},null,"設問無"]
[" 　看護_非正規_10年以上_合計",{"$f":"調査票!$R$643","v":""},null,"設問無"]
["３０・正規看護職の給与_1年未満_年齢",{"$f":"調査票!$D$651","v":0},null,"設問無"]
["1年未満_免許区分",{"$f":"調査票!$F$651","v":0},null,"設問無"]
["1年未満_①本給",{"$f":"調査票!$H$651","v":0},null,"設問無"]
["1年未満_②諸手当合計",{"$f":"調査票!$L$651","v":0},null,"設問無"]
["1年未満_③内、資格手当（職務手当）",{"$f":"調査票!$P$651","v":0},null,"設問無"]
["1年未満_合計",{"$f":"調査票!$S$651","v":0},null,"設問無"]
["1～2年未満未満_年齢",{"$f":"調査票!$D$652","v":0},null,"設問無"]
["1～2年未満未満_免許区分",{"$f":"調査票!$F$652","v":0},null,"設問無"]
["1～2年未満未満_①本給",{"$f":"調査票!$H$652","v":0},null,"設問無"]
["1～2年未満未満_②諸手当合計",{"$f":"調査票!$L$652","v":0},null,"設問無"]
["1～2年未満未満_③内、資格手当（職務手当）",{"$f":"調査票!$P$652","v":0},null,"設問無"]
["1～2年未満未満_合計",{"$f":"調査票!$S$652","v":0},null,"設問無"]
["2～3年未満未満_年齢",{"$f":"調査票!$D$653","v":0},null,"設問無"]
["2～3年未満未満_免許区分",{"$f":"調査票!$F$653","v":0},null,"設問無"]
["2～3年未満未満_①本給",{"$f":"調査票!$H$653","v":0},null,"設問無"]
["2～3年未満未満_②諸手当合計",{"$f":"調査票!$L$653","v":0},null,"設問無"]
["2～3年未満未満_③内、資格手当（職務手当）",{"$f":"調査票!$P$653","v":0},null,"設問無"]
["2～3年未満未満_合計",{"$f":"調査票!$S$653","v":0},null,"設問無"]
["3～4年未満未満_年齢",{"$f":"調査票!$D$654","v":0},null,"設問無"]
["3～4年未満未満_免許区分",{"$f":"調査票!$F$654","v":0},null,"設問無"]
["3～4年未満未満_①本給",{"$f":"調査票!$H$654","v":0},null,"設問無"]
["3～4年未満未満_②諸手当合計",{"$f":"調査票!$L$654","v":0},null,"設問無"]
["3～4年未満未満_③内、資格手当（職務手当）",{"$f":"調査票!$P$654","v":0},null,"設問無"]
["3～4年未満未満_合計",{"$f":"調査票!$S$654","v":0},null,"設問無"]
["4～5年未満未満_年齢",{"$f":"調査票!$D$655","v":0},null,"設問無"]
["4～5年未満未満_免許区分",{"$f":"調査票!$F$655","v":0},null,"設問無"]
["4～5年未満未満_①本給",{"$f":"調査票!$H$655","v":0},null,"設問無"]
["4～5年未満未満_②諸手当合計",{"$f":"調査票!$L$655","v":0},null,"設問無"]
["4～5年未満未満_③内、資格手当（職務手当）",{"$f":"調査票!$P$655","v":0},null,"設問無"]
["4～5年未満未満_合計",{"$f":"調査票!$S$655","v":0},null,"設問無"]
["5～10年未満未満_年齢",{"$f":"調査票!$D$656","v":0},null,"設問無"]
["5～10年未満未満_免許区分",{"$f":"調査票!$F$656","v":0},null,"設問無"]
["5～10年未満未満_①本給",{"$f":"調査票!$H$656","v":0},null,"設問無"]
["5～10年未満未満_②諸手当合計",{"$f":"調査票!$L$656","v":0},null,"設問無"]
["5～10年未満未満_③内、資格手当（職務手当）",{"$f":"調査票!$P$656","v":0},null,"設問無"]
["5～10年未満未満_合計",{"$f":"調査票!$S$656","v":0},null,"設問無"]
["10年以上未満_年齢",{"$f":"調査票!$D$657","v":0},null,"設問無"]
["10年以上未満_免許区分",{"$f":"調査票!$F$657","v":0},null,"設問無"]
["10年以上未満_①本給",{"$f":"調査票!$H$657","v":0},null,"設問無"]
["10年以上未満_②諸手当合計",{"$f":"調査票!$L$657","v":0},null,"設問無"]
["10年以上未満_③内、資格手当（職務手当）",{"$f":"調査票!$P$657","v":0},null,"設問無"]
["10年以上未満_合計",{"$f":"調査票!$S$657","v":0},null,"設問無"]
["３２・医師の配置状況",{"$f":"調査票!F662","v":0},null,"設問無"]
["年間給与",{"$f":"調査票!F663","v":0},null,"設問無"]
["事業活動計算書作成単位",{"$f":"調査票!N669","v":0}]
["介護保険事業収益",{"$f":"調査票!N670","v":0}]
["　施設介護料収益",{"$f":"調査票!N671","v":0}]
["　居宅介護料収益",{"$f":"調査票!N672","v":0}]
["　地域密着型介護料収益",{"$f":"調査票!N673","v":0},null,"設問無"]
["　居宅介護支援介護料収益",{"$f":"調査票!N674","v":0},null,"設問無"]
["　利用者等利用料収益",{"$f":"調査票!N675","v":0}]
["　その他の事業収益",{"$f":"調査票!N676","v":0}]
["　　補助金事業収益",{"$f":"調査票!N677","v":0}]
["　　市町村特別事業収益",{"$f":"調査票!N678","v":0}]
["　　受託事業収益",{"$f":"調査票!N679","v":0}]
["　　その他の事業収益",{"$f":"調査票!N680","v":0}]
["経常経費寄付金収益",{"$f":"調査票!N681","v":0}]
["その他の収益",{"$f":"調査票!N682","v":0}]
["サービス活動収益計",{"$f":"調査票!N683","v":0}]
["人件費",{"$f":"調査票!N684","v":0}]
["　派遣職員費",{"$f":"調査票!N685","v":0}]
["事業費",{"$f":"調査票!N686","v":0}]
["　給食費",{"$f":"調査票!N687","v":0}]
["　水道光熱費",{"$f":"調査票!N688","v":0}]
["事務費",{"$f":"調査票!N689","v":0}]
["　福利厚生費",{"$f":"調査票!N690","v":0}]
["　研修研究費",{"$f":"調査票!N691","v":0},null,"追加"]
["　修繕費",{"$f":"調査票!N692","v":0},null,"追加"]
["　業務委託費",{"$f":"調査票!N693","v":0}]
["　保守料",{"$f":"調査票!N694","v":0}]
["減価償却費",{"$f":"調査票!N695","v":0}]
["国庫補助金等特別積立金取崩額（マイナス入力しない）",{"$f":"調査票!N696","v":0}]
["サービス活動費用計",{"$f":"調査票!N697","v":0}]
["サービス活動増減差額",{"$f":"調査票!N698","v":0}]
["借入金利息補助金収益",{"$f":"調査票!N699","v":0}]
["サービス活動外収益計",{"$f":"調査票!N700","v":0}]
["支払利息",{"$f":"調査票!N701","v":0}]
["サービス活動外費用計",{"$f":"調査票!N702","v":0}]
["サービス活動外増減差額",{"$f":"調査票!N703","v":0}]
["特別収益計",{"$f":"調査票!N704","v":0}]
["会計区分外繰入金支出（法人本部に帰属する経費）",{"$f":"調査票!N705","v":0}]
["特別費用計",{"$f":"調査票!N706","v":0}]
["特別費用増減差額",{"$f":"調査票!N707","v":0}]
["貸借作成単位",{"$f":"調査票!L713","v":0}]
["　　流動資産",{"$f":"調査票!L714","v":0}]
["　　　現金預金",{"$f":"調査票!L715","v":0}]
["　　　有価証券",{"$f":"調査票!L716","v":0}]
["　　　未収金",{"$f":"調査票!L717","v":0}]
["　　　他会計区分貸付金",{"$f":"調査票!L718","v":0}]
["　　　会計区分外貸付金",{"$f":"調査票!L719","v":0}]
["　　　その他の流動資産",{"$f":"調査票!L720","v":0}]
["　　固定資産",{"$f":"調査票!L721","v":0}]
["　　　基本財産",{"$f":"調査票!L722","v":0}]
["　　　その他の固定資産",{"$f":"調査票!L723","v":0}]
["　　　　　　うち投資有価証券",{"$f":"調査票!L724","v":0}]
["　　　　　　うち他会計区分長期貸付金",{"$f":"調査票!L725","v":0}]
["　　　　　　うち移行時特別積立金",{"$f":"調査票!L726","v":0}]
["　　　　　　うち移行時減価償却特別積立預金",{"$f":"調査票!L727","v":0}]
["　　　　　　うちその他の積立預金",{"$f":"調査票!L728","v":0}]
["　　流動負債",{"$f":"調査票!L729","v":0}]
["　　　短期運営資金借入金",{"$f":"調査票!L730","v":0}]
["　　固定負債",{"$f":"調査票!L731","v":0}]
["　　　設備資金借入金",{"$f":"調査票!L732","v":0}]
["　　　長期運営資金借入金",{"$f":"調査票!L733","v":0}]
["　　　退職給与引当金",{"$f":"調査票!L734","v":0}]
["　　純資産",{"$f":"調査票!L735","v":0}]
["　　　基本金",{"$f":"調査票!L736","v":0}]
["　　　国庫補助金等特別積立金",{"$f":"調査票!L737","v":0}]
["　　　その他の積立金",{"$f":"調査票!L738","v":0}]
["　　　次期繰越活動収支差額",{"$f":"調査票!L739","v":0}]
["資金収支計算書作成単位",{"$f":"調査票!N745","v":0}]
["介護保険事業収入",{"$f":"調査票!N746","v":0}]
["借入金利息補助金収入",{"$f":"調査票!N747","v":0}]
["経常経費寄付金収入",{"$f":"調査票!N748","v":0}]
["受取利息配当金収入",{"$f":"調査票!N749","v":0}]
["その他の収入",{"$f":"調査票!N750","v":0}]
["流動資産評価益等による資金増加額",{"$f":"調査票!N751","v":0}]
["事業活動収入計",{"$f":"調査票!N752","v":0}]
["人件費支出",{"$f":"調査票!N753","v":0}]
["事業費支出",{"$f":"調査票!N754","v":0}]
["事務費支出",{"$f":"調査票!N755","v":0}]
["利用者負担軽減額",{"$f":"調査票!N756","v":0}]
["支払利息支出",{"$f":"調査票!N757","v":0}]
["その他の支出",{"$f":"調査票!N758","v":0}]
["流動資産評価損等による資金減少額",{"$f":"調査票!N759","v":0}]
["事業活動支出計",{"$f":"調査票!N760","v":0}]
["事業活動資金収支差額",{"$f":"調査票!N761","v":0}]
["施設整備等収入計",{"$f":"調査票!N762","v":0}]
["設備資金借入金元金償還支出",{"$f":"調査票!N763","v":0}]
["施設整備等支出計",{"$f":"調査票!N764","v":0}]
["施設整備等資金収支差額",{"$f":"調査票!N765","v":0}]
["その他の活動収入計",{"$f":"調査票!N766","v":0}]
["長期運営資金借入金元金償還支出",{"$f":"調査票!N767","v":0}]
["その他の活動支出計",{"$f":"調査票!N768","v":0}]
["その他の活動資金収支差額",{"$f":"調査票!N769","v":0}]
["当期資金収支差額合計",{"$f":"調査票!N770","v":0}]
["前期未支払資金残高",{"$f":"調査票!N771","v":0}]
["当期未支払資金残高",{"$f":"調査票!N772","v":0}]
["１９．H30_処遇改善加算",{"$f":"加算の取得状況!Q7","v":0}]
["H30_日常生活継続支援                                          ",{"$f":"加算の取得状況!Q8","v":0}]
["H30_サービス提供体制強化",{"$f":"加算の取得状況!Q9","v":0}]
["H30_看護体制Ⅰ",{"$f":"加算の取得状況!Q10","v":0}]
["H30_看護体制Ⅱ",{"$f":"加算の取得状況!Q11","v":0}]
["H30_夜勤職員配置Ⅰ",{"$f":"加算の取得状況!Q12","v":0}]
["H30_夜勤職員配置Ⅱ",{"$f":"加算の取得状況!Q13","v":0}]
["H30_夜勤職員配置Ⅲ",{"$f":"加算の取得状況!Q14","v":0}]
["H30_夜勤職員配置Ⅳ",{"$f":"加算の取得状況!Q15","v":0}]
["H30_排せつ支援加算",{"$f":"加算の取得状況!Q16","v":0}]
["H30_褥瘡マネジメント加算",{"$f":"加算の取得状況!Q17","v":0}]
["H30_精神科医療養指導                                           ",{"$f":"加算の取得状況!Q18","v":0}]
["H30_認知症専門ケア   ",{"$f":"加算の取得状況!Q19","v":0}]
["H30_認知症行動・心理症状緊急対応加算",{"$f":"加算の取得状況!Q20","v":0}]
["H30_個別機能訓練加算                                          ",{"$f":"加算の取得状況!Q21","v":0}]
["H30_生活機能向上連携加算",{"$f":"加算の取得状況!Q22","v":0}]
["H30_栄養マネジメント                                          ",{"$f":"加算の取得状況!Q23","v":0}]
["H30_低栄養リスク改善加算",{"$f":"加算の取得状況!Q24","v":0}]
["H30_再入所時栄養連携加算",{"$f":"加算の取得状況!Q25","v":0}]
["H30_経口移行加算                                           ",{"$f":"加算の取得状況!Q26","v":0}]
["H30_経口維持加算   ",{"$f":"加算の取得状況!Q27","v":0}]
["H30_口腔衛生管理体制_有無                                       ",{"$f":"加算の取得状況!Q28","v":0}]
["H30_口腔衛生管理_有無                                       ",{"$f":"加算の取得状況!Q29","v":0}]
["H30_療養食_有無                                            ",{"$f":"加算の取得状況!Q30","v":0}]
["H30_看取り介護加算_有無 ",{"$f":"加算の取得状況!Q31","v":0}]
["H30_準ユニットケア加算",{"$f":"加算の取得状況!Q32","v":0}]
["H30_常勤医師配置加算",{"$f":"加算の取得状況!Q33","v":0}]
["H30_配置医師緊急時対応加算",{"$f":"加算の取得状況!Q34","v":0}]
["H30_障害者生活支援体制加算",{"$f":"加算の取得状況!Q35","v":0}]
["H30_外泊時費用",{"$f":"加算の取得状況!Q36","v":0}]
["H30_在宅サービスを利用した時の費用",{"$f":"加算の取得状況!Q37","v":0}]
["H30_初期加算",{"$f":"加算の取得状況!Q38","v":0}]
["H30_退所前訪問相談援助加算",{"$f":"加算の取得状況!Q39","v":0}]
["H30_退所後訪問相談援助加算",{"$f":"加算の取得状況!Q40","v":0}]
["H30_退所時相談援助加算",{"$f":"加算の取得状況!Q41","v":0}]
["H30_退所前連携加算",{"$f":"加算の取得状況!Q42","v":0}]
["H30_在宅復帰支援機能加算",{"$f":"加算の取得状況!Q43","v":0}]
["H30_在宅・入所相互利用加算",{"$f":"加算の取得状況!Q44","v":0}]
["H30_若年性認知症入所者受入加算",{"$f":"加算の取得状況!Q45","v":0}]

{"sheet":"会員名簿","index":8,"n_rows":46,"n_cols":2,"rows_kept":46,"cut":false,"hidden":true,"merged":[]}
["施　設　名","施設コード"]
["東橋本ひまわりホーム","SA001"]
["ボーナビール二本松","SA002"]
["中の郷（従来型）","SA003"]
["ケアプラザさがみはら","SA004"]
["ライフホーム城山","SA005"]
["旭ヶ丘老人ホーム","SA006"]
["さがみ湖桂寿苑","SA007"]
["相模湖みどりの丘","SA008"]
["銀の館","SA009"]
["青根苑（従来型）","SA010"]
["みたけ","SA011"]
["はあとぴあ","SA012"]
["泰政園","SA013"]
["リバーサイド田名ホーム","SA014"]
["柴胡苑","SA015"]
["縁JOY","SA016"]
["塩田ホーム（従来型）","SA017"]
["コスモスセンター","SA018"]
["ずっと我が家上溝本町","SA019"]
["マナーハウス横山台","SA020"]
["大野北誠心園","SA021"]
["こもれび","SA022"]
["シルバータウン相模原（従来型）","SA023"]
["大野台幸園","SA024"]
["グレープの里","SA025"]
["相模原すみれ園（従来型）","SA026"]
["モモ","SA027"]
["コミュニティホームピノ","SA028"]
["幸園","SA029"]
["あさみぞホーム","SA030"]
["相陽台ホーム","SA031"]
["東林間シニアクラブ","SA032"]
["清菊園","SA033"]
["よもぎの里愛の丘","SA034"]
["ラペ相模原","SA035"]
["りんどう麻溝","SA036"]
["はなさか","SA037"]
["相模原敬寿園","SA038"]
["中の郷（ユニット型個室）","SA039"]
["青根苑（ユニット型個室）","SA040"]
["塩田ホーム（ユニット型個室）","SA041"]
["シルバータウン相模原（ユニット型個室）","SA042"]
["相模原すみれ園（ユニット型個室）","SA043"]
["マナーハウス麻溝台","SA044"]
["銀座8丁目苑","SA999"]