{"text_format":"1","workbook":"xlsx","n_sheets":8,"sheets":["調査票","集計アシストシート","経営指標算出シート","経営指標の計算式","提出方法","設問解説","集計シート","会員名簿"],"not_rendered":{"charts":0,"images":1,"macros":1,"external_links":1,"defined_names":5,"comments":0,"pivot_tables":0},"unopened":[],"bounds":{"document_bytes":16777216,"sheet_cells":100000,"rows_first":2000,"rows_last":500,"rows_between":2000,"halvings":0,"cell_chars":16384,"cell_head_chars":4096},"cells_cut":0,"cells_raw":0,"read":"whole","date_system":"1900"}

{"sheet":"調査票","index":0,"n_rows":427,"n_cols":45,"rows_kept":427,"cut":false,"hidden":false,"merged":[[391,1,392,20],[352,18,352,20],[387,0,387,3],[387,4,387,6],[387,9,387,12],[387,13,387,15],[387,18,387,20],[388,0,388,3],[388,4,388,6],[388,9,388,12],[388,13,388,15],[388,18,388,20],[385,0,385,3],[385,4,385,6],[385,9,385,12],[385,13,385,15],[385,18,385,20],[386,0,386,3],[386,4,386,7],[386,9,386,12],[386,13,386,16],[386,18,386,21],[383,0,383,3],[383,4,383,6],[383,9,383,12],[383,13,383,15],[383,18,383,20],[384,0,384,3],[384,4,384,6],[384,9,384,12],[384,13,384,15],[384,18,384,21],[382,0,382,3],[382,4,382,6],[382,9,382,12],[382,13,382,15],[382,18,382,20],[379,0,379,7],[379,8,389,8],[379,9,379,16],[379,17,389,17],[379,18,379,21],[380,0,380,3],[380,4,380,6],[380,9,380,12],[380,13,380,15],[380,18,380,20],[381,0,381,3],[381,4,381,6],[381,9,381,12],[381,13,381,15],[381,18,381,20],[389,0,389,3],[389,4,389,6],[389,9,389,16],[368,9,368,12],[368,13,368,15],[368,18,368,20],[369,0,369,3],[369,4,369,6],[369,9,369,12],[369,13,369,15],[369,18,369,21],[374,0,374,3],[374,4,374,6],[374,9,374,16],[378,0,378,2],[378,3,378,4],[378,5,378,7],[378,8,378,9],[378,10,378,11],[378,12,378,14],[378,15,378,16],[372,0,372,3],[372,4,372,6],[372,9,372,12],[372,13,372,15],[372,18,372,20],[373,0,373,3],[373,4,373,6],[373,9,373,12],[373,13,373,15],[373,18,373,20],[367,0,367,3],[367,4,367,6],[367,9,367,12],[367,13,367,15],[367,18,367,20],[364,0,364,7],[364,8,374,8],[364,9,364,16],[364,17,374,17],[364,18,364,21],[365,0,365,3],[365,4,365,6],[365,9,365,12],[365,13,365,15],[365,18,365,20],[366,0,366,3],[366,4,366,6],[366,9,366,12],[366,13,366,15],[366,18,366,20],[370,0,370,3],[370,4,370,6],[370,9,370,12],[370,13,370,15],[370,18,370,20],[371,0,371,3],[371,4,371,7],[371,9,371,12],[371,13,371,16],[371,18,371,21],[368,0,368,3],[368,4,368,6],[350,13,350,15],[350,18,350,20],[351,0,351,3],[351,4,351,6],[351,9,351,12],[351,13,351,15],[351,18,351,21],[356,0,356,3],[356,4,356,6],[356,9,356,16],[358,1,359,20],[361,1,361,7],[363,0,363,2],[363,3,363,4],[363,5,363,7],[363,8,363,9],[363,10,363,11],[363,12,363,14],[363,15,363,16],[354,0,354,3],[354,4,354,6],[354,9,354,12],[354,13,354,15],[354,18,354,20],[355,0,355,3],[355,4,355,6],[355,9,355,12],[355,13,355,15],[355,18,355,20],[349,0,349,3],[349,4,349,6],[349,9,349,12],[349,13,349,15],[349,18,349,20],[346,0,346,7],[346,8,356,8],[346,9,346,16],[346,17,356,17],[346,18,346,21],[347,0,347,3],[347,4,347,6],[347,9,347,12],[347,13,347,15],[347,18,347,20],[348,0,348,3],[348,4,348,6],[348,9,348,12],[348,13,348,15],[348,18,348,20],[352,0,352,3],[352,4,352,6],[352,9,352,12],[352,13,352,15],[353,0,353,3],[353,4,353,7],[353,9,353,12],[353,13,353,16],[353,18,353,21],[350,0,350,3],[350,4,350,6],[350,9,350,12],[335,9,335,12],[335,13,335,15],[335,18,335,20],[336,0,336,3],[336,4,336,6],[336,9,336,12],[336,13,336,15],[336,18,336,21],[341,0,341,3],[341,4,341,6],[341,9,341,16],[343,1,343,6],[345,0,345,2],[345,3,345,4],[345,5,345,7],[345,8,345,9],[345,10,345,11],[345,12,345,14],[345,15,345,16],[339,0,339,3],[339,4,339,6],[339,9,339,12],[339,13,339,15],[339,18,339,20],[340,0,340,3],[340,4,340,6],[340,9,340,12],[340,13,340,15],[340,18,340,20],[334,0,334,3],[334,4,334,6],[334,9,334,12],[334,13,334,15],[334,18,334,20],[331,0,331,7],[331,8,341,8],[331,9,331,16],[331,17,341,17],[331,18,331,21],[332,0,332,3],[332,4,332,6],[332,9,332,12],[332,13,332,15],[332,18,332,20],[333,0,333,3],[333,4,333,6],[333,9,333,12],[333,13,333,15],[333,18,333,20],[337,0,337,3],[337,4,337,6],[337,9,337,12],[337,13,337,15],[337,18,337,20],[338,0,338,3],[338,4,338,7],[338,9,338,12],[338,13,338,16],[338,18,338,21],[335,0,335,3],[335,4,335,6],[317,9,317,12],[317,13,317,15],[317,18,317,20],[318,0,318,3],[318,4,318,6],[318,9,318,12],[318,13,318,15],[318,18,318,21],[323,0,323,3],[323,4,323,6],[323,9,323,16],[325,1,326,20],[328,1,328,6],[330,0,330,2],[330,3,330,4],[330,5,330,7],[330,8,330,9],[330,10,330,11],[330,12,330,14],[330,15,330,16],[321,0,321,3],[321,4,321,6],[321,9,321,12],[321,13,321,15],[321,18,321,20],[322,0,322,3],[322,4,322,6],[322,9,322,12],[322,13,322,15],[322,18,322,20],[316,0,316,3],[316,4,316,6],[316,9,316,12],[316,13,316,15],[316,18,316,20],[313,0,313,7],[313,8,323,8],[313,9,313,16],[313,17,323,17],[313,18,313,21],[314,0,314,3],[314,4,314,6],[314,9,314,12],[314,13,314,15],[314,18,314,20],[315,0,315,3],[315,4,315,6],[315,9,315,12],[315,13,315,15],[315,18,315,20],[319,0,319,3],[319,4,319,6],[319,9,319,12],[319,13,319,15],[319,18,319,20],[320,0,320,3],[320,4,320,7],[320,9,320,12],[320,13,320,16],[320,18,320,21],[317,0,317,3],[317,4,317,6],[302,9,302,12],[302,13,302,15],[302,18,302,20],[303,0,303,3],[303,4,303,6],[303,9,303,12],[303,13,303,15],[303,18,303,21],[308,0,308,3],[308,4,308,6],[308,9,308,16],[310,1,310,6],[312,0,312,2],[312,3,312,4],[312,5,312,7],[312,8,312,9],[312,10,312,11],[312,12,312,14],[312,15,312,16],[306,0,306,3],[306,4,306,6],[306,9,306,12],[306,13,306,15],[306,18,306,20],[307,0,307,3],[307,4,307,6],[307,9,307,12],[307,13,307,15],[307,18,307,20],[301,0,301,3],[301,4,301,6],[301,9,301,12],[301,13,301,15],[301,18,301,20],[298,0,298,7],[298,8,308,8],[298,9,298,16],[298,17,308,17],[298,18,298,21],[299,0,299,3],[299,4,299,6],[299,9,299,12],[299,13,299,15],[299,18,299,20],[300,0,300,3],[300,4,300,6],[300,9,300,12],[300,13,300,15],[300,18,300,20],[304,0,304,3],[304,4,304,6],[304,9,304,12],[304,13,304,15],[304,18,304,20],[305,0,305,3],[305,4,305,7],[305,9,305,12],[305,13,305,16],[305,18,305,21],[302,0,302,3],[302,4,302,6],[283,9,283,12],[283,13,283,15],[283,18,283,20],[284,0,284,3],[284,4,284,6],[284,9,284,12],[284,13,284,15],[284,18,284,21],[289,0,289,3],[289,4,289,6],[289,9,289,16],[291,1,292,20],[295,1,295,6],[297,0,297,2],[297,3,297,4],[297,5,297,7],[297,8,297,9],[297,10,297,11],[297,12,297,14],[297,15,297,16],[287,0,287,3],[287,4,287,6],[287,9,287,12],[287,13,287,15],[287,18,287,20],[288,0,288,3],[288,4,288,6],[288,9,288,12],[288,13,288,15],[288,18,288,20],[282,0,282,3],[282,4,282,6],[282,9,282,12],[282,13,282,15],[282,18,282,20],[279,0,279,7],[279,8,289,8],[279,9,279,16],[279,17,289,17],[279,18,279,21],[280,0,280,3],[280,4,280,6],[280,9,280,12],[280,13,280,15],[280,18,280,20],[281,0,281,3],[281,4,281,6],[281,9,281,12],[281,13,281,15],[281,18,281,20],[285,0,285,3],[285,4,285,6],[285,9,285,12],[285,13,285,15],[285,18,285,20],[286,0,286,3],[286,4,286,7],[286,9,286,12],[286,13,286,16],[286,18,286,21],[283,0,283,3],[283,4,283,6],[273,0,273,3],[273,4,273,6],[273,9,273,16],[276,1,276,6],[276,7,276,21],[278,0,278,2],[278,3,278,4],[278,5,278,7],[278,8,278,9],[278,10,278,11],[278,12,278,14],[278,15,278,16],[271,0,271,3],[271,4,271,6],[271,9,271,12],[271,13,271,15],[271,18,271,20],[272,0,272,3],[272,4,272,6],[272,9,272,12],[272,13,272,15],[272,18,272,20],[265,13,265,15],[265,18,265,20],[269,0,269,3],[269,4,269,6],[269,9,269,12],[269,13,269,15],[269,18,269,20],[270,0,270,3],[270,4,270,7],[270,9,270,12],[270,13,270,16],[270,18,270,21],[267,0,267,3],[267,4,267,6],[267,9,267,12],[267,13,267,15],[267,18,267,20],[268,0,268,3],[268,4,268,6],[268,9,268,12],[268,13,268,15],[268,18,268,21],[262,0,262,2],[262,3,262,4],[262,5,262,7],[262,8,262,9],[262,10,262,11],[262,12,262,14],[262,15,262,16],[251,1,251,4],[253,1,253,3],[253,4,253,20],[254,1,254,3],[254,4,254,20],[255,1,255,3],[255,4,255,20],[266,0,266,3],[266,4,266,6],[266,9,266,12],[266,13,266,15],[266,18,266,20],[263,0,263,7],[263,8,273,8],[263,9,263,16],[263,17,273,17],[263,18,263,21],[264,0,264,3],[264,4,264,6],[264,9,264,12],[264,13,264,15],[264,18,264,20],[265,0,265,3],[265,4,265,6],[265,9,265,12],[256,4,256,20],[257,1,257,3],[257,4,257,20],[258,1,258,3],[258,4,258,20],[260,1,260,7],[241,11,241,15],[241,1,241,10],[211,1,211,3],[211,4,211,5],[211,7,211,8],[211,10,211,11],[211,13,211,14],[211,17,211,20],[211,24,211,26],[211,27,211,28],[214,1,214,3],[214,4,214,5],[214,7,214,8],[224,25,224,27],[217,17,217,18],[217,19,217,20],[217,24,224,24],[217,25,217,27],[217,28,217,29],[232,25,232,27],[225,24,232,24],[225,25,225,27],[225,28,225,29],[226,25,226,27],[227,25,227,27],[217,15,217,16],[190,1,197,1],[190,2,190,4],[190,5,190,6],[190,7,190,8],[190,9,190,10],[190,11,190,12],[190,13,190,14],[190,15,190,16],[190,17,190,18],[190,19,190,20],[190,25,197,25],[190,26,190,28],[192,2,192,4],[192,26,192,28],[197,26,197,28],[245,1,245,10],[242,1,244,1],[242,2,242,10],[242,11,242,14],[243,2,243,10],[243,11,243,14],[244,2,244,10],[244,11,244,14],[238,1,239,20],[199,0,199,8],[199,23,199,31],[182,0,197,0],[182,1,189,1],[182,15,182,16],[182,17,182,18],[182,19,182,20],[182,24,197,24],[182,35,182,36],[182,37,182,38],[182,39,182,40],[182,41,182,42],[182,43,182,44],[183,2,183,4],[183,26,183,28],[179,26,179,28],[180,2,180,4],[180,26,180,28],[190,29,190,30],[190,31,190,32],[190,33,190,34],[190,35,190,36],[190,37,190,38],[190,39,190,40],[190,41,190,42],[190,43,190,44],[187,26,187,28],[188,2,188,4],[188,26,188,28],[189,2,189,4],[189,26,189,28],[182,2,182,4],[182,5,182,6],[182,7,182,8],[182,9,182,10],[182,11,182,12],[182,13,182,14],[184,26,184,28],[185,2,185,4],[185,26,185,28],[186,2,186,4],[186,26,186,28],[187,2,187,4],[193,2,193,4],[193,26,193,28],[194,2,194,4],[194,26,194,28],[195,2,195,4],[191,2,191,4],[191,26,191,28],[195,26,195,28],[182,29,182,30],[182,31,182,32],[182,33,182,34],[196,2,196,4],[196,26,196,28],[197,2,197,4],[182,25,189,25],[182,26,182,28],[184,2,184,4],[173,41,173,42],[173,43,173,44],[174,2,174,4],[174,26,174,28],[171,26,171,28],[172,2,172,4],[172,26,172,28],[173,1,180,1],[173,2,173,4],[173,5,173,6],[173,7,173,8],[173,9,173,10],[173,11,173,12],[173,13,173,14],[173,15,173,16],[173,17,173,18],[173,19,173,20],[173,25,180,25],[173,26,173,28],[175,2,175,4],[175,26,175,28],[176,2,176,4],[176,26,176,28],[177,2,177,4],[177,26,177,28],[178,2,178,4],[165,41,165,42],[165,43,165,44],[166,2,166,4],[166,26,166,28],[167,2,167,4],[167,26,167,28],[162,24,162,34],[165,0,180,0],[165,1,172,1],[165,2,165,4],[165,5,165,6],[165,7,165,8],[165,9,165,10],[165,11,165,12],[165,13,165,14],[165,15,165,16],[165,17,165,18],[165,19,165,20],[165,24,180,24],[165,25,172,25],[165,26,165,28],[165,29,165,30],[165,31,165,32],[165,33,165,34],[168,2,168,4],[168,26,168,28],[169,2,169,4],[173,29,173,30],[173,31,173,32],[173,33,173,34],[173,35,173,36],[173,37,173,38],[89,0,97,0],[79,0,87,0],[96,3,96,4],[96,5,96,6],[96,7,96,8],[96,9,96,10],[96,11,96,12],[96,13,96,14],[97,3,97,4],[97,5,97,6],[96,19,96,20],[97,19,97,20],[178,26,178,28],[179,2,179,4],[165,35,165,36],[165,37,165,38],[165,39,165,40],[173,39,173,40],[90,9,90,10],[90,11,90,12],[90,13,90,14],[91,3,91,4],[91,5,91,6],[91,7,91,8],[91,9,91,10],[91,11,91,12],[91,13,91,14],[92,3,92,4],[92,5,92,6],[92,7,92,8],[92,9,92,10],[92,11,92,12],[169,26,169,28],[170,2,170,4],[170,26,170,28],[116,1,116,7],[116,8,116,15],[116,16,116,18],[115,1,115,7],[115,8,115,15],[115,16,115,18],[121,1,121,7],[121,8,121,15],[121,16,121,18],[84,19,84,20],[83,19,83,20],[80,15,80,18],[80,11,80,14],[96,1,96,2],[97,1,97,2],[89,5,89,6],[89,3,89,4],[89,7,89,8],[89,9,89,10],[89,11,89,12],[89,13,89,14],[93,3,93,4],[93,5,93,6],[93,7,93,8],[93,9,93,10],[93,11,93,12],[93,13,93,14],[94,3,94,4],[94,5,94,6],[94,7,94,8],[94,9,94,10],[94,11,94,12],[94,13,94,14],[95,3,95,4],[97,7,97,8],[97,9,97,10],[97,11,97,12],[97,13,97,14],[90,3,90,4],[90,5,90,6],[90,7,90,8],[85,3,85,6],[85,7,85,10],[85,11,85,14],[85,15,85,18],[92,13,92,14],[82,19,82,20],[81,19,81,20],[80,19,80,20],[90,1,90,2],[91,1,91,2],[92,1,92,2],[93,1,93,2],[94,1,94,2],[95,1,95,2],[89,19,89,20],[90,19,90,20],[91,19,91,20],[92,19,92,20],[93,19,93,20],[94,19,94,20],[95,19,95,20],[95,5,95,6],[95,7,95,8],[95,9,95,10],[95,11,95,12],[95,13,95,14],[87,3,87,6],[87,7,87,10],[87,11,87,14],[87,15,87,18],[87,19,87,20],[86,19,86,20],[85,19,85,20],[86,1,86,2],[85,1,85,2],[84,1,84,2],[83,1,83,2],[82,1,82,2],[81,1,81,2],[87,1,87,2],[70,5,70,7],[72,5,72,7],[73,0,73,2],[70,12,70,14],[72,12,72,14],[67,4,67,10],[67,11,67,17],[80,7,80,10],[80,3,80,6],[82,3,82,6],[82,7,82,10],[82,11,82,14],[82,15,82,18],[83,3,83,6],[83,7,83,10],[83,11,83,14],[83,15,83,18],[84,3,84,6],[84,7,84,10],[84,11,84,14],[84,15,84,18],[79,1,79,2],[86,3,86,6],[86,7,86,10],[79,15,79,18],[81,15,81,18],[81,11,81,14],[81,7,81,10],[81,3,81,6],[79,19,79,20],[0,20,1,21],[112,16,112,18],[36,6,36,15],[44,3,45,19],[76,4,76,5],[102,5,102,6],[102,7,102,8],[104,5,104,6],[104,7,104,8],[20,2,20,20],[104,17,104,18],[104,13,104,14],[3,6,3,9],[3,14,3,17],[148,6,148,7],[143,1,143,20],[2,0,2,21],[102,13,102,14],[104,2,104,4],[38,2,38,18],[41,2,41,18],[112,1,112,7],[106,0,106,13],[40,2,40,19],[52,7,52,21],[102,9,102,10],[102,2,102,4],[109,0,110,0],[70,0,70,2],[4,14,4,17],[147,12,148,13],[124,16,124,18],[52,0,52,2],[148,17,148,18],[148,15,148,16],[156,2,158,20],[236,1,237,20],[245,11,245,14],[155,12,155,13],[152,20,152,21],[74,5,74,7],[74,12,74,14],[394,0,394,8],[234,0,234,5],[159,2,159,19],[153,12,153,13],[153,0,153,5],[152,0,152,5],[151,0,151,5],[150,0,150,5],[149,0,149,5],[152,12,152,13],[151,12,151,13],[150,12,150,13],[149,12,149,13],[152,17,152,18],[151,17,151,18],[152,6,152,7],[162,0,162,10],[171,2,171,4],[247,0,247,15],[80,1,80,2],[72,0,72,2],[119,8,119,15],[113,8,113,15],[149,10,149,11],[149,6,149,7],[155,0,155,5],[154,0,154,5],[153,6,153,7],[135,16,135,18],[122,1,122,7],[132,8,132,15],[119,1,119,7],[147,6,147,7],[146,0,146,5],[134,1,134,7],[111,0,122,0],[123,0,136,0],[146,15,147,18],[122,16,122,18],[134,16,134,18],[135,1,135,7],[149,8,149,9],[114,1,114,7],[123,1,123,7],[147,8,147,11],[140,1,142,20],[126,8,126,15],[147,0,147,5],[152,15,152,16],[151,15,151,16],[152,8,152,9],[152,10,152,11],[154,12,154,13],[104,0,104,1],[103,0,103,1],[102,0,102,1],[113,16,113,18],[133,8,133,15],[3,11,3,13],[3,3,3,5],[102,17,102,18],[120,1,120,7],[52,3,52,6],[102,11,102,12],[104,11,104,12],[104,9,104,10],[4,11,4,13],[5,6,5,17],[5,3,5,5],[4,3,4,5],[15,2,15,20],[13,2,13,20],[54,3,54,9],[55,3,55,9],[9,3,9,20],[54,10,54,21],[74,0,74,2],[63,8,63,9],[61,4,61,5],[4,6,4,9],[42,2,42,18],[55,0,55,2],[54,0,54,2],[109,16,110,18],[68,0,68,2],[151,6,151,7],[125,8,125,15],[126,1,126,7],[125,16,125,18],[133,16,133,18],[150,10,150,11],[154,10,154,11],[154,17,154,18],[153,17,153,18],[133,1,133,7],[128,1,128,7],[128,8,128,15],[132,1,132,7],[131,1,131,7],[131,8,131,15],[131,16,131,18],[129,1,129,7],[129,8,129,15],[129,16,129,18],[127,1,127,7],[127,8,127,15],[150,15,150,16],[149,15,149,16],[146,6,146,13],[6,3,7,17],[48,0,48,21],[49,0,49,21],[16,2,17,20],[19,2,19,20],[18,2,18,20],[120,8,120,15],[61,0,61,2],[57,0,57,2],[14,2,14,20],[111,1,111,7],[43,2,43,18],[39,2,39,18],[99,0,99,4],[109,1,110,7],[111,8,111,15],[130,8,130,15],[63,0,63,2],[76,0,76,2],[123,16,123,18],[124,8,124,15],[118,1,118,7],[118,8,118,15],[118,16,118,18],[123,8,123,15],[119,16,119,18],[122,8,122,15],[120,16,120,18],[65,0,65,21],[86,11,86,14],[86,15,86,18]],"merged_total":1297,"flags":["merged_cut"]}
[null,null,null,null,null,null,null,null,null,null,null,null,null,null,null,null,null,null,null,null,{"$f":"D53","v":""}]
["相模原市高齢者福祉施設協議会"]
["「第2回 相模原市 デイサービス実態調査」\n～基本項目調査票　[決算書の自動転記なし]～"]
[null,null,null,"記入者名",null,null,null,null,null,null,null,"記入者役職"]
[null,null,null,"TEL",null,null,null,null,null,null,null,"FAX"]
[null,null,null,"E-mail※"]
[null,null,"※","調査票に不備等があった場合、確認のために連絡をする場合がございます。\nご回答いただくご担当者様と連絡が取れるアドレスをご記載ください。"]
[]
[null,null,"●","調査票および決算書の提出方法"]
[null,null,null,"「基本項目調査票（本調査票）」の提出方法については、各データを添付ファイルにして、\nsagamihara-day@kawahara-group.co.jpまで送信してください。"]
[]
[]
[null,null,"Ⅰ.入力方法"]
[null,null,"①「調査票」シートには保護がかかっています。"]
[null,null,"②入力していただく必要のあるセルには、緑系統の着色がされています。\n   それ以外のセルには入力できません。"]
[null,null,"③入力すると、セルが白くなります。数値が「０（ゼロ）」の場合は、「０（ゼロ））」を入力してください。"]
[null,null,"④選択していただく必要のあるセルには、ピンク系統の着色がされています。\n　 選択式ですので、該当する項目をお選びください。"]
[]
[null,null,"⑤設問の中には自動的に計算される箇所がございます。"]
[null,null,"⑥削除する場合は、該当セルを選択して、「Delete」または「Backspace」キーを押してください。"]
[null,null,"⑦回答内容に補足が必要な場合は、備考欄に記載してください。"]
[]
[]
[]
[]
[]
[]
[]
[]
[]
[]
[]
[null,null,"Ⅱ.提出方法[決算書の自動転記なし]"]
[null,null,"「施設基本項目調査票（本調査票）」を添付して、sagamihara-day@kawahara-group.co.jpまで送信してください。\nまた、「事業活動計算書（事業明細）」「貸借対照表（貸借（四様式））」「資金収支計算書（資金明細）」のPDF版を添付して調査票と一緒に提出してください。"]
[]
[]
[null,null,null,null,null,null,"提出期限 ： 2019年 7月31日（水）必着"]
[]
[null,null,"○送付先・お問合せ先　　"]
[null,null,"㈱川原経営総合センター 　経営コンサルティング部門"]
[null,null,"デイサービス実態調査チーム　担当者：香山、水田　　　"]
[null,null,"〒140－0001　東京都品川区北品川4－7－35　御殿山トラストタワー9階"]
[null,null,"ＴＥＬ　０３－５４２２－７５４８　ＦＡＸ　０３－５４２２－７９９６"]
[null,null,"Eメールアドレス：sagamihara-day@kawahara-group.co.jp"]
[null,null,"※","お問合せ先電話番号が通話中でつながらない場合、誠にお手数ではありますが、 お掛け直し頂けますようお願い申し上げます。"]
[]
[]
["●","本調査における事業所の経営における特殊事情に関する備考欄（2018年4月1日～2019年3月31日）"]
["例：定員規模を年度途中から変更した、営業単位が2単位以上で「7.定員数」がそれぞれで異なる場合　等"]
[]
[]
["下記項目について必要事項をご記載、該当項目をご選択ください。　"]
["施設コード",null,null,{"$f":"IF(D56=\"\",\"\",VLOOKUP(D56,会員名簿!B2:C200,2,0))","v":""},null,null,null,"「事業所コード」は自動で入力されます。\n「#N/A」とエラー表示になる場合は、そのままで結構です。"]
[]
["1.法人名",null,null,null,null,null,null,null,null,null,"※「社会福祉法人（社福）」を除いた法人名を入力してください。"]
["2.施設名"]
[]
["3.運営形態",null,null,"事業所形態のうち、単独または併設を選択してください。"]
[null,null,null,"あじさい住宅の管理委託の有無を選択してください。"]
[null,null,null,"あじさい住宅の管理委託金額を回答してください",null,null,null,null,null,null,null,null,null,null,null,null,"（円）"]
[]
["4.開設年度",null,null,"西暦",null,null,"年"]
[]
["5.地域区分",null,null,"4級地",null,"相模原市",null,null,null,null,"区"]
[]
["※「6．営業日数」から「10．登録者数」までの設問は、2017年度（平成29年度）と2018年度（平成30年度）の2か年の状況を回答してください。なお、2か年で変更がない場合でも、必ず回答してください。"]
[]
[null,null,null,null,"2017年度（平成29年度）\n（H29年4月1日～H30年3月31日）",null,null,null,null,null,null,"2018年度（平成30年度）\n（H30年4月1日～H31年3月31日）"]
["6.営業日数",null,null,null,null,null,null,null,null,"日",null,null,null,null,null,null,"日"]
[]
["7.定員数",null,null,null,null,null,null,null,null,"名／日",null,null,null,null,null,null,"名／日"]
[]
["8.営業単位",null,null,null,null,null,null,null,null,"単位",null,null,null,null,null,null,"単位"]
[]
["9.事業所区分"]
[null,null,null,null,null,"【選択肢：地域密着型、通常規模、大規模Ⅰ、大規模Ⅱ】"]
["10.登録者数"]
["●","年度ごとのサービス提供時間別の登録者数を記入してください。"]
[null,"サービス提供時間が複数ある利用者がいる場合、利用回数の多い主たる利用時間で回答してください。"]
["2017年度\n（平成30年3月末時点）","要介護度",null,"3～5時間未満",null,null,null,"5～7時間未満",null,null,null,"7～9時間未満",null,null,null,"それ以外の時間枠",null,null,null,"合計"]
[null,"要支援1",null,null,null,null,null,null,null,null,null,null,null,null,null,null,null,null,null,{"$f":"SUM(D81:S81)","v":0}]
[null,"要支援2",null,null,null,null,null,null,null,null,null,null,null,null,null,null,null,null,null,{"$f":"SUM(D82:S82)","v":0}]
[null,"要介護1",null,null,null,null,null,null,null,null,null,null,null,null,null,null,null,null,null,0]
[null,"要介護2",null,null,null,null,null,null,null,null,null,null,null,null,null,null,null,null,null,0]
[null,"要介護3",null,null,null,null,null,null,null,null,null,null,null,null,null,null,null,null,null,0]
[null,"要介護4",null,null,null,null,null,null,null,null,null,null,null,null,null,null,null,null,null,0]
[null,"要介護5",null,null,null,null,null,null,null,null,null,null,null,null,null,null,null,null,null,0]
[null,"合計",null,{"$f":"SUM(D81:G87)","v":0},null,null,null,{"$f":"SUM(H81:K87)","v":0},null,null,null,{"$f":"SUM(L81:O87)","v":0},null,null,null,{"$f":"SUM(P81:S87)","v":0},null,null,null,{"$f":"SUM(D88:S88)","v":0},null,"(名）"]
[]
["2018年度\n（平成31年3月末時点）","要介護度",null,"3～4時間\n未満",null,"4～5時間\n未満",null,"5～6時間\n未満",null,"6～7時間\n未満",null,"7～8時間\n未満",null,"8～9時間\n未満",null,"それ以外の時間枠",null,null,null,"合計"]
[null,"要支援1",null,null,null,null,null,null,null,null,null,null,null,null,null,null,null,null,null,{"$f":"SUM(D91:S91)","v":0}]
[null,"要支援2",null,null,null,null,null,null,null,null,null,null,null,null,null,null,null,null,null,0]
[null,"要介護1",null,null,null,null,null,null,null,null,null,null,null,null,null,null,null,null,null,0]
[null,"要介護2",null,null,null,null,null,null,null,null,null,null,null,null,null,null,null,null,null,0]
[null,"要介護3",null,null,null,null,null,null,null,null,null,null,null,null,null,null,null,null,null,0]
[null,"要介護4",null,null,null,null,null,null,null,null,null,null,null,null,null,null,null,null,null,0]
[null,"要介護5",null,null,null,null,null,null,null,null,null,null,null,null,null,null,null,null,null,0]
[null,"合計",null,{"$f":"SUM(D91:E97)","v":0},null,{"$f":"SUM(F91:G97)","v":0},null,{"$f":"SUM(H91:I97)","v":0},null,{"$f":"SUM(J91:K97)","v":0},null,{"$f":"SUM(L91:M97)","v":0},null,{"$f":"SUM(N91:O97)","v":0},null,{"$f":"SUM(R91:S97)","v":0},null,null,null,0,null,"(名）"]
[]
["11.年間利用者延べ人数　"]
["●","要支援・介護度別に年間利用者延べ人数を2017年度（2017年4月1日～2018年3月31日）および\n2018年度（2018年4月1日～2019年3月31日の間）を記入してください。"]
[]
["年度",null,"合計人数",null,null,"要支援1",null,"要支援2",null,"要介護1",null,"要介護2",null,"要介護3",null,"要介護4",null,"要介護5",null,"平均要介護度"]
["2017年度",null,{"$f":"IF(F104+H104+J104+L104+N104+P104+R104=0,\"\",F104+H104+J104+L104+N104+P104+R104)","v":""},null,null,null,null,null,null,null,null,null,null,null,null,null,null,null,null,{"$f":"IF(C104=\"\",\"\",((F104*0.375)+(H104*0.375)+(J104*1)+(L104*2)+(N104*3)+(P104*4)+(R104*5))/C104)","v":""},null,"(名）"]
["2018年度",null,{"$f":"IF(F105+H105+J105+L105+N105+P105+R105=0,\"\",F105+H105+J105+L105+N105+P105+R105)","v":""},null,null,null,null,null,null,null,null,null,null,null,null,null,null,null,null,{"$f":"IF(C105=\"\",\"\",((F105*0.375)+(H105*0.375)+(J105*1)+(L105*2)+(N105*3)+(P105*4)+(R105*5))/C105)","v":""},null,"(名）"]
[]
["12.デイにおける加算の状況（2019年3月末時点）"]
["●","2018年度については、申請の有無ではなく、実際に請求を行った項目を回答してください。"]
[]
[null,"項　　目",null,null,null,null,null,null,"該当する番号を回答欄に入力してください。",null,null,null,null,null,null,null,"回答欄"]
[]
["通所介護","介護職員処遇改善加算",null,null,null,null,null,null,"①加算Ⅰ ②加算Ⅱ ③加算Ⅲ ④加算Ⅳ ⑤加算Ⅴ ⑥無"]
[null,"入浴介助加算",null,null,null,null,null,null,"①有　　　　②無"]
[null,"サービス提供体制強化加算",null,null,null,null,null,null,"①加算Ⅰイ ②加算Ⅰロ ③加算Ⅱ ④無"]
[null,"個別機能訓練加算",null,null,null,null,null,null,"①加算Ⅰ  　②加算Ⅱ　 　③無"]
[null,"生活機能向上連携加算",null,null,null,null,null,null,"①有　　　　②無"]
[null,"ADL維持等加算",null,null,null,null,null,null,"①加算Ⅰ  　②加算Ⅱ　 　③無"]
[null,"中重度者ケア体制加算",null,null,null,null,null,null,"①有　　　　②無"]
[null,"認知症加算",null,null,null,null,null,null,"①有　　　　②無"]
[null,"若年性認知症利用者受入加算",null,null,null,null,null,null,"①有　　　　②無"]
[null,"口腔機能向上加算",null,null,null,null,null,null,"①有　　　　②無"]
[null,"栄養改善加算",null,null,null,null,null,null,"①有　　　　②無"]
[null,"栄養スクリーニング加算",null,null,null,null,null,null,"①有　　　　②無"]
["介護予防通所介護","介護職員処遇改善加算",null,null,null,null,null,null,"①加算Ⅰ ②加算Ⅱ ③加算Ⅲ ④加算Ⅳ ⑤加算Ⅴ ⑥無"]
[null,"サービス提供体制強化加算",null,null,null,null,null,null,"①加算Ⅰイ ②加算Ⅰロ ③加算Ⅱ ④無"]
[null,"生活機能向上グループ活動加算",null,null,null,null,null,null,"①有　　　　②無"]
[null,"運動器機能向上加算",null,null,null,null,null,null,"①有　　　　②無"]
[null,"生活機能向上連携加算",null,null,null,null,null,null,"①有　　　　②無"]
[null,"栄養改善加算",null,null,null,null,null,null,"①有　　　　②無"]
[null,"栄養スクリーニング加算",null,null,null,null,null,null,"①有　　　　②無"]
[null,"口腔機能向上加算",null,null,null,null,null,null,"①有　　　　②無"]
[null,"若年性認知症利用者受入加算",null,null,null,null,null,null,"①有　　　　②無"]
[null,"選択的サービス複数実施加算Ⅰ（運動+栄養)",null,null,null,null,null,null,"①有　　　　②無"]
[null,"選択的サービス複数実施加算Ⅰ（運動+口腔)",null,null,null,null,null,null,"①有　　　　②無"]
[null,"選択的サービス複数実施加算Ⅰ（口腔+栄養)",null,null,null,null,null,null,"①有　　　　②無"]
[null,"選択的サービス複数実施加算Ⅱ",null,null,null,null,null,null,"①有　　　　②無"]
[null,"事業所評価加算",null,null,null,null,null,null,"①有　　　　②無"]
[]
[]
["13.職員の実人数と常勤換算職員数",null,null,null,null,null,null,"※「職員の雇用区分」「常勤換算」算出方法はシート「設問解説」を参照してください。\n"]
["●","「年間平均（1ヶ月当り）」の職員の実人数および常勤換算職員数をご記入ください。\nまた、各月の常勤換算職員数の把握が難しく「年間平均（1ヶ月当り）」の人数がわからない場合は、「2019年3月末時点」の職員の実人数および常勤換算職員数をご記入ください。"]
[]
[]
["●","回答するに当たり、「職員配置の回答基準」は「年間平均（1ヶ月当り）」で回答してください。"]
["●","派遣調理職員（給食委託）を含む場合は、「派遣委託職員」の「その他（事務職員等）」欄にご記入ください。"]
[]
["職員配置の回答基準",null,null,null,null,null,"事業所雇用職員",null,null,null,null,null,null,null,null,"派遣委託職員\n（年間延べ人数）",null,null,null,null,"職員合計\n（④+⑥）"]
[null,null,null,null,null,null,"正規",null,"非正規",null,null,null,"④合計\n（①+③）"]
["職種",null,null,null,null,null,"①実数",null,"②実数",null,"③常勤換算",null,null,null,null,"⑤実数",null,"⑥常勤換算"]
["1.管理者",null,null,null,null,null,null,null,null,null,null,null,{"$f":"SUM(G150,K150)","v":0},null,"+",null,null,null,null,"=",{"$f":"SUM(M150,R150)","v":0}]
["2.生活相談員",null,null,null,null,null,null,null,null,null,null,null,{"$f":"SUM(G151,K151)","v":0},null,"+",null,null,null,null,"=",0]
["3.介護職員",null,null,null,null,null,null,null,null,null,null,null,0,null,"+",null,null,null,null,"=",0]
["4.看護職員",null,null,null,null,null,null,null,null,null,null,null,0,null,"+",null,null,null,null,"=",0]
["5.機能訓練指導員",null,null,null,null,null,null,null,null,null,null,null,0,null,"+",null,null,null,null,"=",0]
["6.その他（事務職員等）※1",null,null,null,null,null,null,null,null,null,null,null,0,null,"+",null,null,9,null,"=",9]
["調査対象者合計\n（上記1.～6.の合計）",null,null,null,null,null,{"$f":"IF(G$150+G$152+G$153+G$155+G$154=0,\"\",G$150+G$152+G$153+G$155+G$154)","v":""},null,{"$f":"IF(I$150+I$152+I$153+I$155+I$154=0,\"\",I$150+I$152+I$153+I$155+I$154)","v":""},null,{"$f":"IF(K$150+K$152+K$153+K$155+K$154=0,\"\",K$150+K$152+K$153+K$155+K$154)","v":""},null,{"$f":"SUM(G156,K156)","v":0},null,"+",{"$f":"IF(P$150+P$152+P$153+P$155+P$154=0,\"\",P$150+P$152+P$153+P$155+P$154)","v":""},null,{"$f":"IF(R$150+R$152+R$153+R$155+R$154=0,\"\",R$150+R$152+R$153+R$155+R$154)","v":9},null,"=",9]
[null,"※1","「その他（事務職員等）」は、事業所の運営に関わる職員のうち、「管理者」「生活相談員」「介護職員」「看護職員」「機能訓練指導員」を除く職員（事務職員・調理職員・送迎専属職員・清掃員・警備員等）の常勤換算職員数をご記入ください。"]
[]
[]
[null,"※2","別紙．2でいう短時間正規職員がいる場合、「正規」（実数）欄に常勤換算職員数をご記入ください。"]
[]
[null,null,null,null,null,null,null,null,null,null,null,null,null,null,null,null,null,null,null,null,null,null,null,null,"「集計アシストシート」から自動的に数値が集計されます"]
["14.介護職員の実人数（性別・年齢別・勤続年数別）",null,null,null,null,null,null,null,null,null,null,"※2019年3月末時点の実数",null,null,null,null,null,null,null,null,null,null,null,null,"14.介護職員の実人数（性別・年齢別・勤続年数別）",null,null,null,null,null,null,null,null,null,null,"※2019年3月末時点の実数"]
["●","「集計アシストシート」がありますので、ご活用ください。"]
[null,"※「名」には保護が掛かっています。右側から数字のみコピーして貼り付けてください。",null,null,null,null,null,null,null,null,null,null,null,null,null,null,null,null,null,null,null,null,null,null,"※人数の内、数字のみコピーして、左側に「値」で貼り付けしてください。"]
["男性職員","正規（常勤）","勤続年数",null,null,"1年未満",null,"2年未満",null,"3年未満",null,"4年未満",null,"5年未満",null,"5～10年未満",null,"10年以上",null,"合計",null,null,null,"←","男性職員","正規（常勤）","勤続年数",null,null,"1年未満",null,"2年未満",null,"3年未満",null,"4年未満",null,"5年未満",null,"5～10年未満",null,"10年以上",null,"合計"]
[null,null,"20歳未満",null,null,null,"名",null,"名",null,"名",null,"名",null,"名",null,"名",null,"名",{"$f":"SUM(F167,H167,J167,L167,N167,P167,R167)","v":0},"名",null,null,"←",null,null,"20歳未満",null,null,{"$f":"COUNTIFS(集計アシストシート!$D$7:$D$206,\"正規\",集計アシストシート!$E$7:$E$206,\"男\",集計アシストシート!$G$7:$G$206,\"<20\",集計アシストシート!$J$7:$J$206,\"<12\",集計アシストシート!$I$7:$I$206,\"\")","v":0},"名",{"$f":"COUNTIFS(集計アシストシート!$D$7:$D$206,\"正規\",集計アシストシート!$E$7:$E$206,\"男\",集計アシストシート!$G$7:$G$206,\"<20\",集計アシストシート!$J$7:$J$206,\">=12\",集計アシストシート!$J$7:$J$206,\"<24\",集計アシストシート!$I$7:$I$206,\"\")","v":0},"名",{"$f":"COUNTIFS(集計アシストシート!$D$7:$D$206,\"正規\",集計アシストシート!$E$7:$E$206,\"男\",集計アシストシート!$G$7:$G$206,\"<20\",集計アシストシート!$J$7:$J$206,\">=24\",集計アシストシート!$J$7:$J$206,\"<36\",集計アシストシート!$I$7:$I$206,\"\")","v":0},"名",{"$f":"COUNTIFS(集計アシストシート!$D$7:$D$206,\"正規\",集計アシストシート!$E$7:$E$206,\"男\",集計アシストシート!$G$7:$G$206,\"<20\",集計アシストシート!$J$7:$J$206,\">=36\",集計アシストシート!$J$7:$J$206,\"<48\",集計アシストシート!$I$7:$I$206,\"\")","v":0},"名",{"$f":"COUNTIFS(集計アシストシート!$D$7:$D$206,\"正規\",集計アシストシート!$E$7:$E$206,\"男\",集計アシストシート!$G$7:$G$206,\"<20\",集計アシストシート!$J$7:$J$206,\">=48\",集計アシストシート!$J$7:$J$206,\"<60\",集計アシストシート!$I$7:$I$206,\"\")","v":0},"名",{"$f":"COUNTIFS(集計アシストシート!$D$7:$D$206,\"正規\",集計アシストシート!$E$7:$E$206,\"男\",集計アシストシート!$G$7:$G$206,\"<20\",集計アシストシート!$J$7:$J$206,\">=60\",集計アシストシート!$J$7:$J$206,\"<120\",集計アシストシート!$I$7:$I$206,\"\")","v":0},"名",{"$f":"COUNTIFS(集計アシストシート!$D$7:$D$206,\"正規\",集計アシストシート!$E$7:$E$206,\"男\",集計アシストシート!$G$7:$G$206,\"<20\",集計アシストシート!$J$7:$J$206,\">=120\",集計アシストシート!$I$7:$I$206,\"\")","v":0},"名",{"$f":"SUM(AD167,AF167,AH167,AJ167,AL167,AN167,AP167)","v":0},"名"]
[null,null,"20歳代",null,null,null,"名",null,"名",null,"名",null,"名",null,"名",null,"名",null,"名",{"$f":"SUM(F168,H168,J168,L168,N168,P168,R168)","v":0},"名",null,null,"←",null,null,"20歳代",null,null,{"$f":"COUNTIFS(集計アシストシート!$D$7:$D$206,\"正規\",集計アシストシート!$E$7:$E$206,\"男\",集計アシストシート!$G$7:$G$206,\">=20\",集計アシストシート!$G$7:$G$206,\"<30\",集計アシストシート!$J$7:$J$206,\"<12\",集計アシストシート!$I$7:$I$206,\"\")","v":0},"名",{"$f":"COUNTIFS(集計アシストシート!$D$7:$D$206,\"正規\",集計アシストシート!$E$7:$E$206,\"男\",集計アシストシート!$G$7:$G$206,\">=20\",集計アシストシート!$G$7:$G$206,\"<30\",集計アシストシート!$J$7:$J$206,\">=12\",集計アシストシート!$J$7:$J$206,\"<24\",集計アシストシート!$I$7:$I$206,\"\")","v":0},"名",{"$f":"COUNTIFS(集計アシストシート!$D$7:$D$206,\"正規\",集計アシストシート!$E$7:$E$206,\"男\",集計アシストシート!$G$7:$G$206,\">=20\",集計アシストシート!$G$7:$G$206,\"<30\",集計アシストシート!$J$7:$J$206,\">=24\",集計アシストシート!$J$7:$J$206,\"<36\",集計アシストシート!$I$7:$I$206,\"\")","v":0},"名",{"$f":"COUNTIFS(集計アシストシート!$D$7:$D$206,\"正規\",集計アシストシート!$E$7:$E$206,\"男\",集計アシストシート!$G$7:$G$206,\">=20\",集計アシストシート!$G$7:$G$206,\"<30\",集計アシストシート!$J$7:$J$206,\">=36\",集計アシストシート!$J$7:$J$206,\"<48\",集計アシストシート!$I$7:$I$206,\"\")","v":0},"名",{"$f":"COUNTIFS(集計アシストシート!$D$7:$D$206,\"正規\",集計アシストシート!$E$7:$E$206,\"男\",集計アシストシート!$G$7:$G$206,\">=20\",集計アシストシート!$G$7:$G$206,\"<30\",集計アシストシート!$J$7:$J$206,\">=48\",集計アシストシート!$J$7:$J$206,\"<60\",集計アシストシート!$I$7:$I$206,\"\")","v":0},"名",{"$f":"COUNTIFS(集計アシストシート!$D$7:$D$206,\"正規\",集計アシストシート!$E$7:$E$206,\"男\",集計アシストシート!$G$7:$G$206,\">=20\",集計アシストシート!$G$7:$G$206,\"<30\",集計アシストシート!$J$7:$J$206,\">=60\",集計アシストシート!$J$7:$J$206,\"<120\",集計アシストシート!$I$7:$I$206,\"\")","v":0},"名",{"$f":"COUNTIFS(集計アシストシート!$D$7:$D$206,\"正規\",集計アシストシート!$E$7:$E$206,\"男\",集計アシストシート!$G$7:$G$206,\">=20\",集計アシストシート!$G$7:$G$206,\"<30\",集計アシストシート!$J$7:$J$206,\">=120\",集計アシストシート!$I$7:$I$206,\"\")","v":0},"名",{"$f":"SUM(AD168,AF168,AH168,AJ168,AL168,AN168,AP168)","v":0},"名"]
[null,null,"30歳代",null,null,null,"名",null,"名",null,"名",null,"名",null,"名",null,"名",null,"名",0,"名",null,null,"←",null,null,"30歳代",null,null,{"$f":"COUNTIFS(集計アシストシート!$D$7:$D$206,\"正規\",集計アシストシート!$E$7:$E$206,\"男\",集計アシストシート!$G$7:$G$206,\">=30\",集計アシストシート!$G$7:$G$206,\"<40\",集計アシストシート!$J$7:$J$206,\"<12\",集計アシストシート!$I$7:$I$206,\"\")","v":0},"名",{"$f":"COUNTIFS(集計アシストシート!$D$7:$D$206,\"正規\",集計アシストシート!$E$7:$E$206,\"男\",集計アシストシート!$G$7:$G$206,\">=30\",集計アシストシート!$G$7:$G$206,\"<40\",集計アシストシート!$J$7:$J$206,\">=12\",集計アシストシート!$J$7:$J$206,\"<24\",集計アシストシート!$I$7:$I$206,\"\")","v":0},"名",{"$f":"COUNTIFS(集計アシストシート!$D$7:$D$206,\"正規\",集計アシストシート!$E$7:$E$206,\"男\",集計アシストシート!$G$7:$G$206,\">=30\",集計アシストシート!$G$7:$G$206,\"<40\",集計アシストシート!$J$7:$J$206,\">=24\",集計アシストシート!$J$7:$J$206,\"<36\",集計アシストシート!$I$7:$I$206,\"\")","v":0},"名",{"$f":"COUNTIFS(集計アシストシート!$D$7:$D$206,\"正規\",集計アシストシート!$E$7:$E$206,\"男\",集計アシストシート!$G$7:$G$206,\">=30\",集計アシストシート!$G$7:$G$206,\"<40\",集計アシストシート!$J$7:$J$206,\">=36\",集計アシストシート!$J$7:$J$206,\"<48\",集計アシストシート!$I$7:$I$206,\"\")","v":0},"名",{"$f":"COUNTIFS(集計アシストシート!$D$7:$D$206,\"正規\",集計アシストシート!$E$7:$E$206,\"男\",集計アシストシート!$G$7:$G$206,\">=30\",集計アシストシート!$G$7:$G$206,\"<40\",集計アシストシート!$J$7:$J$206,\">=48\",集計アシストシート!$J$7:$J$206,\"<60\",集計アシストシート!$I$7:$I$206,\"\")","v":0},"名",{"$f":"COUNTIFS(集計アシストシート!$D$7:$D$206,\"正規\",集計アシストシート!$E$7:$E$206,\"男\",集計アシストシート!$G$7:$G$206,\">=30\",集計アシストシート!$G$7:$G$206,\"<40\",集計アシストシート!$J$7:$J$206,\">=60\",集計アシストシート!$J$7:$J$206,\"<120\",集計アシストシート!$I$7:$I$206,\"\")","v":0},"名",{"$f":"COUNTIFS(集計アシストシート!$D$7:$D$206,\"正規\",集計アシストシート!$E$7:$E$206,\"男\",集計アシストシート!$G$7:$G$206,\">=30\",集計アシストシート!$G$7:$G$206,\"<40\",集計アシストシート!$J$7:$J$206,\">=120\",集計アシストシート!$I$7:$I$206,\"\")","v":0},"名",0,"名"]
[null,null,"40歳代",null,null,null,"名",null,"名",null,"名",null,"名",null,"名",null,"名",null,"名",0,"名",null,null,"←",null,null,"40歳代",null,null,{"$f":"COUNTIFS(集計アシストシート!$D$7:$D$206,\"正規\",集計アシストシート!$E$7:$E$206,\"男\",集計アシストシート!$G$7:$G$206,\">=40\",集計アシストシート!$G$7:$G$206,\"<50\",集計アシストシート!$J$7:$J$206,\"<12\",集計アシストシート!$I$7:$I$206,\"\")","v":0},"名",{"$f":"COUNTIFS(集計アシストシート!$D$7:$D$206,\"正規\",集計アシストシート!$E$7:$E$206,\"男\",集計アシストシート!$G$7:$G$206,\">=40\",集計アシストシート!$G$7:$G$206,\"<50\",集計アシストシート!$J$7:$J$206,\">=12\",集計アシストシート!$J$7:$J$206,\"<24\",集計アシストシート!$I$7:$I$206,\"\")","v":0},"名",{"$f":"COUNTIFS(集計アシストシート!$D$7:$D$206,\"正規\",集計アシストシート!$E$7:$E$206,\"男\",集計アシストシート!$G$7:$G$206,\">=40\",集計アシストシート!$G$7:$G$206,\"<50\",集計アシストシート!$J$7:$J$206,\">=24\",集計アシストシート!$J$7:$J$206,\"<36\",集計アシストシート!$I$7:$I$206,\"\")","v":0},"名",{"$f":"COUNTIFS(集計アシストシート!$D$7:$D$206,\"正規\",集計アシストシート!$E$7:$E$206,\"男\",集計アシストシート!$G$7:$G$206,\">=40\",集計アシストシート!$G$7:$G$206,\"<50\",集計アシストシート!$J$7:$J$206,\">=36\",集計アシストシート!$J$7:$J$206,\"<48\",集計アシストシート!$I$7:$I$206,\"\")","v":0},"名",{"$f":"COUNTIFS(集計アシストシート!$D$7:$D$206,\"正規\",集計アシストシート!$E$7:$E$206,\"男\",集計アシストシート!$G$7:$G$206,\">=40\",集計アシストシート!$G$7:$G$206,\"<50\",集計アシストシート!$J$7:$J$206,\">=48\",集計アシストシート!$J$7:$J$206,\"<60\",集計アシストシート!$I$7:$I$206,\"\")","v":0},"名",{"$f":"COUNTIFS(集計アシストシート!$D$7:$D$206,\"正規\",集計アシストシート!$E$7:$E$206,\"男\",集計アシストシート!$G$7:$G$206,\">=40\",集計アシストシート!$G$7:$G$206,\"<50\",集計アシストシート!$J$7:$J$206,\">=60\",集計アシストシート!$J$7:$J$206,\"<120\",集計アシストシート!$I$7:$I$206,\"\")","v":0},"名",{"$f":"COUNTIFS(集計アシストシート!$D$7:$D$206,\"正規\",集計アシストシート!$E$7:$E$206,\"男\",集計アシストシート!$G$7:$G$206,\">=40\",集計アシストシート!$G$7:$G$206,\"<50\",集計アシストシート!$J$7:$J$206,\">=120\",集計アシストシート!$I$7:$I$206,\"\")","v":0},"名",0,"名"]
[null,null,"50歳代",null,null,null,"名",null,"名",null,"名",null,"名",null,"名",null,"名",null,"名",0,"名",null,null,"←",null,null,"50歳代",null,null,{"$f":"COUNTIFS(集計アシストシート!$D$7:$D$206,\"正規\",集計アシストシート!$E$7:$E$206,\"男\",集計アシストシート!$G$7:$G$206,\">=50\",集計アシストシート!$G$7:$G$206,\"<60\",集計アシストシート!$J$7:$J$206,\"<12\",集計アシストシート!$I$7:$I$206,\"\")","v":0},"名",{"$f":"COUNTIFS(集計アシストシート!$D$7:$D$206,\"正規\",集計アシストシート!$E$7:$E$206,\"男\",集計アシストシート!$G$7:$G$206,\">=50\",集計アシストシート!$G$7:$G$206,\"<60\",集計アシストシート!$J$7:$J$206,\">=12\",集計アシストシート!$J$7:$J$206,\"<24\",集計アシストシート!$I$7:$I$206,\"\")","v":0},"名",{"$f":"COUNTIFS(集計アシストシート!$D$7:$D$206,\"正規\",集計アシストシート!$E$7:$E$206,\"男\",集計アシストシート!$G$7:$G$206,\">=50\",集計アシストシート!$G$7:$G$206,\"<60\",集計アシストシート!$J$7:$J$206,\">=24\",集計アシストシート!$J$7:$J$206,\"<36\",集計アシストシート!$I$7:$I$206,\"\")","v":0},"名",{"$f":"COUNTIFS(集計アシストシート!$D$7:$D$206,\"正規\",集計アシストシート!$E$7:$E$206,\"男\",集計アシストシート!$G$7:$G$206,\">=50\",集計アシストシート!$G$7:$G$206,\"<60\",集計アシストシート!$J$7:$J$206,\">=36\",集計アシストシート!$J$7:$J$206,\"<48\",集計アシストシート!$I$7:$I$206,\"\")","v":0},"名",{"$f":"COUNTIFS(集計アシストシート!$D$7:$D$206,\"正規\",集計アシストシート!$E$7:$E$206,\"男\",集計アシストシート!$G$7:$G$206,\">=50\",集計アシストシート!$G$7:$G$206,\"<60\",集計アシストシート!$J$7:$J$206,\">=48\",集計アシストシート!$J$7:$J$206,\"<60\",集計アシストシート!$I$7:$I$206,\"\")","v":0},"名",{"$f":"COUNTIFS(集計アシストシート!$D$7:$D$206,\"正規\",集計アシストシート!$E$7:$E$206,\"男\",集計アシストシート!$G$7:$G$206,\">=50\",集計アシストシート!$G$7:$G$206,\"<60\",集計アシストシート!$J$7:$J$206,\">=60\",集計アシストシート!$J$7:$J$206,\"<120\",集計アシストシート!$I$7:$I$206,\"\")","v":0},"名",{"$f":"COUNTIFS(集計アシストシート!$D$7:$D$206,\"正規\",集計アシストシート!$E$7:$E$206,\"男\",集計アシストシート!$G$7:$G$206,\">=50\",集計アシストシート!$G$7:$G$206,\"<60\",集計アシストシート!$G$7:$G$206,\"<60\",集計アシストシート!$J$7:$J$206,\">=120\",集計アシストシート!$I$7:$I$206,\"\")","v":0},"名",0,"名"]
[null,null,"60歳以上",null,null,null,"名",null,"名",null,"名",null,"名",null,"名",null,"名",null,"名",0,"名",null,null,"←",null,null,"60歳以上",null,null,{"$f":"COUNTIFS(集計アシストシート!$D$7:$D$206,\"正規\",集計アシストシート!$E$7:$E$206,\"男\",集計アシストシート!$G$7:$G$206,\">=60\",集計アシストシート!$J$7:$J$206,\"<12\",集計アシストシート!$I$7:$I$206,\"\")","v":0},"名",{"$f":"COUNTIFS(集計アシストシート!$D$7:$D$206,\"正規\",集計アシストシート!$E$7:$E$206,\"男\",集計アシストシート!$G$7:$G$206,\">=60\",集計アシストシート!$J$7:$J$206,\">=12\",集計アシストシート!$J$7:$J$206,\"<24\",集計アシストシート!$I$7:$I$206,\"\")","v":0},"名",{"$f":"COUNTIFS(集計アシストシート!$D$7:$D$206,\"正規\",集計アシストシート!$E$7:$E$206,\"男\",集計アシストシート!$G$7:$G$206,\">=60\",集計アシストシート!$J$7:$J$206,\">=24\",集計アシストシート!$J$7:$J$206,\"<36\",集計アシストシート!$I$7:$I$206,\"\")","v":0},"名",{"$f":"COUNTIFS(集計アシストシート!$D$7:$D$206,\"正規\",集計アシストシート!$E$7:$E$206,\"男\",集計アシストシート!$G$7:$G$206,\">=60\",集計アシストシート!$J$7:$J$206,\">=36\",集計アシストシート!$J$7:$J$206,\"<48\",集計アシストシート!$I$7:$I$206,\"\")","v":0},"名",{"$f":"COUNTIFS(集計アシストシート!$D$7:$D$206,\"正規\",集計アシストシート!$E$7:$E$206,\"男\",集計アシストシート!$G$7:$G$206,\">=60\",集計アシストシート!$J$7:$J$206,\">=48\",集計アシストシート!$J$7:$J$206,\"<60\",集計アシストシート!$I$7:$I$206,\"\")","v":0},"名",{"$f":"COUNTIFS(集計アシストシート!$D$7:$D$206,\"正規\",集計アシストシート!$E$7:$E$206,\"男\",集計アシストシート!$G$7:$G$206,\">=60\",集計アシストシート!$J$7:$J$206,\">=60\",集計アシストシート!$J$7:$J$206,\"<120\",集計アシストシート!$I$7:$I$206,\"\")","v":0},"名",{"$f":"COUNTIFS(集計アシストシート!$D$7:$D$206,\"正規\",集計アシストシート!$E$7:$E$206,\"男\",集計アシストシート!$G$7:$G$206,\">=60\",集計アシストシート!$J$7:$J$206,\">=120\",集計アシストシート!$I$7:$I$206,\"\")","v":0},"名",0,"名"]
[null,null,"合計",null,null,"","名","","名","","名","","名","","名","","名","","名",0,"名",null,null,"←",null,null,"合計",null,null,{"$f":"IF(AD167+AD168+AD169+AD170+AD171+AD172=0,\"\",AD167+AD168+AD169+AD170+AD171+AD172)","v":""},"名",{"$f":"IF(AF167+AF168+AF169+AF170+AF171+AF172=0,\"\",AF167+AF168+AF169+AF170+AF171+AF172)","v":""},"名",{"$f":"IF(AH167+AH168+AH169+AH170+AH171+AH172=0,\"\",AH167+AH168+AH169+AH170+AH171+AH172)","v":""},"名",{"$f":"IF(AJ167+AJ168+AJ169+AJ170+AJ171+AJ172=0,\"\",AJ167+AJ168+AJ169+AJ170+AJ171+AJ172)","v":""},"名",{"$f":"IF(AL167+AL168+AL169+AL170+AL171+AL172=0,\"\",AL167+AL168+AL169+AL170+AL171+AL172)","v":""},"名",{"$f":"IF(AN167+AN168+AN169+AN170+AN171+AN172=0,\"\",AN167+AN168+AN169+AN170+AN171+AN172)","v":""},"名",{"$f":"IF(AP167+AP168+AP169+AP170+AP171+AP172=0,\"\",AP167+AP168+AP169+AP170+AP171+AP172)","v":""},"名",0,"名"]
[null,"非正規（非常勤）","勤続年数",null,null,"1年未満",null,"2年未満",null,"3年未満",null,"4年未満",null,"5年未満",null,"5～10年未満",null,"10年以上",null,"合計",null,null,null,"←",null,"非正規（非常勤）","勤続年数",null,null,"1年未満",null,"2年未満",null,"3年未満",null,"4年未満",null,"5年未満",null,"5～10年未満",null,"10年以上",null,"合計"]
[null,null,"20歳未満",null,null,null,"名",null,"名",null,"名",null,"名",null,"名",null,"名",null,"名",{"$f":"SUM(F175,H175,J175,L175,N175,P175,R175)","v":0},"名",null,null,"←",null,null,"20歳未満",null,null,{"$f":"COUNTIFS(集計アシストシート!$D$7:$D$206,\"非正規\",集計アシストシート!$E$7:$E$206,\"男\",集計アシストシート!$G$7:$G$206,\"<20\",集計アシストシート!$J$7:$J$206,\"<12\",集計アシストシート!$I$7:$I$206,\"\")","v":0},"名",{"$f":"COUNTIFS(集計アシストシート!$D$7:$D$206,\"非正規\",集計アシストシート!$E$7:$E$206,\"男\",集計アシストシート!$G$7:$G$206,\"<20\",集計アシストシート!$J$7:$J$206,\">=12\",集計アシストシート!$J$7:$J$206,\"<24\",集計アシストシート!$I$7:$I$206,\"\")","v":0},"名",{"$f":"COUNTIFS(集計アシストシート!$D$7:$D$206,\"非正規\",集計アシストシート!$E$7:$E$206,\"男\",集計アシストシート!$G$7:$G$206,\"<20\",集計アシストシート!$J$7:$J$206,\">=24\",集計アシストシート!$J$7:$J$206,\"<36\",集計アシストシート!$I$7:$I$206,\"\")","v":0},"名",{"$f":"COUNTIFS(集計アシストシート!$D$7:$D$206,\"非正規\",集計アシストシート!$E$7:$E$206,\"男\",集計アシストシート!$G$7:$G$206,\"<20\",集計アシストシート!$J$7:$J$206,\">=36\",集計アシストシート!$J$7:$J$206,\"<48\",集計アシストシート!$I$7:$I$206,\"\")","v":0},"名",{"$f":"COUNTIFS(集計アシストシート!$D$7:$D$206,\"非正規\",集計アシストシート!$E$7:$E$206,\"男\",集計アシストシート!$G$7:$G$206,\"<20\",集計アシストシート!$J$7:$J$206,\">=48\",集計アシストシート!$J$7:$J$206,\"<60\",集計アシストシート!$I$7:$I$206,\"\")","v":0},"名",{"$f":"COUNTIFS(集計アシストシート!$D$7:$D$206,\"非正規\",集計アシストシート!$E$7:$E$206,\"男\",集計アシストシート!$G$7:$G$206,\"<20\",集計アシストシート!$J$7:$J$206,\">=60\",集計アシストシート!$J$7:$J$206,\"<120\",集計アシストシート!$I$7:$I$206,\"\")","v":0},"名",{"$f":"COUNTIFS(集計アシストシート!$D$7:$D$206,\"非正規\",集計アシストシート!$E$7:$E$206,\"男\",集計アシストシート!$G$7:$G$206,\"<20\",集計アシストシート!$J$7:$J$206,\">=120\",集計アシストシート!$I$7:$I$206,\"\")","v":0},"名",{"$f":"SUM(AD175,AF175,AH175,AJ175,AL175,AN175,AP175)","v":0},"名"]
[null,null,"20歳代",null,null,null,"名",null,"名",null,"名",null,"名",null,"名",null,"名",null,"名",{"$f":"SUM(F176,H176,J176,L176,N176,P176,R176)","v":0},"名",null,null,"←",null,null,"20歳代",null,null,{"$f":"COUNTIFS(集計アシストシート!$D$7:$D$206,\"非正規\",集計アシストシート!$E$7:$E$206,\"男\",集計アシストシート!$G$7:$G$206,\">=20\",集計アシストシート!$G$7:$G$206,\"<30\",集計アシストシート!$J$7:$J$206,\"<12\",集計アシストシート!$I$7:$I$206,\"\")","v":0},"名",{"$f":"COUNTIFS(集計アシストシート!$D$7:$D$206,\"非正規\",集計アシストシート!$E$7:$E$206,\"男\",集計アシストシート!$G$7:$G$206,\">=20\",集計アシストシート!$G$7:$G$206,\"<30\",集計アシストシート!$J$7:$J$206,\">=12\",集計アシストシート!$J$7:$J$206,\"<24\",集計アシストシート!$I$7:$I$206,\"\")","v":0},"名",{"$f":"COUNTIFS(集計アシストシート!$D$7:$D$206,\"非正規\",集計アシストシート!$E$7:$E$206,\"男\",集計アシストシート!$G$7:$G$206,\">=20\",集計アシストシート!$G$7:$G$206,\"<30\",集計アシストシート!$J$7:$J$206,\">=24\",集計アシストシート!$J$7:$J$206,\"<36\",集計アシストシート!$I$7:$I$206,\"\")","v":0},"名",{"$f":"COUNTIFS(集計アシストシート!$D$7:$D$206,\"非正規\",集計アシストシート!$E$7:$E$206,\"男\",集計アシストシート!$G$7:$G$206,\">=20\",集計アシストシート!$G$7:$G$206,\"<30\",集計アシストシート!$J$7:$J$206,\">=36\",集計アシストシート!$J$7:$J$206,\"<48\",集計アシストシート!$I$7:$I$206,\"\")","v":0},"名",{"$f":"COUNTIFS(集計アシストシート!$D$7:$D$206,\"非正規\",集計アシストシート!$E$7:$E$206,\"男\",集計アシストシート!$G$7:$G$206,\">=20\",集計アシストシート!$G$7:$G$206,\"<30\",集計アシストシート!$J$7:$J$206,\">=48\",集計アシストシート!$J$7:$J$206,\"<60\",集計アシストシート!$I$7:$I$206,\"\")","v":0},"名",{"$f":"COUNTIFS(集計アシストシート!$D$7:$D$206,\"非正規\",集計アシストシート!$E$7:$E$206,\"男\",集計アシストシート!$G$7:$G$206,\">=20\",集計アシストシート!$G$7:$G$206,\"<30\",集計アシストシート!$J$7:$J$206,\">=60\",集計アシストシート!$J$7:$J$206,\"<120\",集計アシストシート!$I$7:$I$206,\"\")","v":0},"名",{"$f":"COUNTIFS(集計アシストシート!$D$7:$D$206,\"非正規\",集計アシストシート!$E$7:$E$206,\"男\",集計アシストシート!$G$7:$G$206,\">=20\",集計アシストシート!$G$7:$G$206,\"<30\",集計アシストシート!$J$7:$J$206,\">=120\",集計アシストシート!$I$7:$I$206,\"\")","v":0},"名",{"$f":"SUM(AD176,AF176,AH176,AJ176,AL176,AN176,AP176)","v":0},"名"]
[null,null,"30歳代",null,null,null,"名",null,"名",null,"名",null,"名",null,"名",null,"名",null,"名",0,"名",null,null,"←",null,null,"30歳代",null,null,{"$f":"COUNTIFS(集計アシストシート!$D$7:$D$206,\"非正規\",集計アシストシート!$E$7:$E$206,\"男\",集計アシストシート!$G$7:$G$206,\">=30\",集計アシストシート!$G$7:$G$206,\"<40\",集計アシストシート!$J$7:$J$206,\"<12\",集計アシストシート!$I$7:$I$206,\"\")","v":0},"名",{"$f":"COUNTIFS(集計アシストシート!$D$7:$D$206,\"非正規\",集計アシストシート!$E$7:$E$206,\"男\",集計アシストシート!$G$7:$G$206,\">=30\",集計アシストシート!$G$7:$G$206,\"<40\",集計アシストシート!$J$7:$J$206,\">=12\",集計アシストシート!$J$7:$J$206,\"<24\",集計アシストシート!$I$7:$I$206,\"\")","v":0},"名",{"$f":"COUNTIFS(集計アシストシート!$D$7:$D$206,\"非正規\",集計アシストシート!$E$7:$E$206,\"男\",集計アシストシート!$G$7:$G$206,\">=30\",集計アシストシート!$G$7:$G$206,\"<40\",集計アシストシート!$J$7:$J$206,\">=24\",集計アシストシート!$J$7:$J$206,\"<36\",集計アシストシート!$I$7:$I$206,\"\")","v":0},"名",{"$f":"COUNTIFS(集計アシストシート!$D$7:$D$206,\"非正規\",集計アシストシート!$E$7:$E$206,\"男\",集計アシストシート!$G$7:$G$206,\">=30\",集計アシストシート!$G$7:$G$206,\"<40\",集計アシストシート!$J$7:$J$206,\">=36\",集計アシストシート!$J$7:$J$206,\"<48\",集計アシストシート!$I$7:$I$206,\"\")","v":0},"名",{"$f":"COUNTIFS(集計アシストシート!$D$7:$D$206,\"非正規\",集計アシストシート!$E$7:$E$206,\"男\",集計アシストシート!$G$7:$G$206,\">=30\",集計アシストシート!$G$7:$G$206,\"<40\",集計アシストシート!$J$7:$J$206,\">=48\",集計アシストシート!$J$7:$J$206,\"<60\",集計アシストシート!$I$7:$I$206,\"\")","v":0},"名",{"$f":"COUNTIFS(集計アシストシート!$D$7:$D$206,\"非正規\",集計アシストシート!$E$7:$E$206,\"男\",集計アシストシート!$G$7:$G$206,\">=30\",集計アシストシート!$G$7:$G$206,\"<40\",集計アシストシート!$J$7:$J$206,\">=60\",集計アシストシート!$J$7:$J$206,\"<120\",集計アシストシート!$I$7:$I$206,\"\")","v":0},"名",{"$f":"COUNTIFS(集計アシストシート!$D$7:$D$206,\"非正規\",集計アシストシート!$E$7:$E$206,\"男\",集計アシストシート!$G$7:$G$206,\">=30\",集計アシストシート!$G$7:$G$206,\"<40\",集計アシストシート!$J$7:$J$206,\">=120\",集計アシストシート!$I$7:$I$206,\"\")","v":0},"名",0,"名"]
[null,null,"40歳代",null,null,null,"名",null,"名",null,"名",null,"名",null,"名",null,"名",null,"名",0,"名",null,null,"←",null,null,"40歳代",null,null,{"$f":"COUNTIFS(集計アシストシート!$D$7:$D$206,\"非正規\",集計アシストシート!$E$7:$E$206,\"男\",集計アシストシート!$G$7:$G$206,\">=40\",集計アシストシート!$G$7:$G$206,\"<50\",集計アシストシート!$J$7:$J$206,\"<12\",集計アシストシート!$I$7:$I$206,\"\")","v":0},"名",{"$f":"COUNTIFS(集計アシストシート!$D$7:$D$206,\"非正規\",集計アシストシート!$E$7:$E$206,\"男\",集計アシストシート!$G$7:$G$206,\">=40\",集計アシストシート!$G$7:$G$206,\"<50\",集計アシストシート!$J$7:$J$206,\">=12\",集計アシストシート!$J$7:$J$206,\"<24\",集計アシストシート!$I$7:$I$206,\"\")","v":0},"名",{"$f":"COUNTIFS(集計アシストシート!$D$7:$D$206,\"非正規\",集計アシストシート!$E$7:$E$206,\"男\",集計アシストシート!$G$7:$G$206,\">=40\",集計アシストシート!$G$7:$G$206,\"<50\",集計アシストシート!$J$7:$J$206,\">=24\",集計アシストシート!$J$7:$J$206,\"<36\",集計アシストシート!$I$7:$I$206,\"\")","v":0},"名",{"$f":"COUNTIFS(集計アシストシート!$D$7:$D$206,\"非正規\",集計アシストシート!$E$7:$E$206,\"男\",集計アシストシート!$G$7:$G$206,\">=40\",集計アシストシート!$G$7:$G$206,\"<50\",集計アシストシート!$J$7:$J$206,\">=36\",集計アシストシート!$J$7:$J$206,\"<48\",集計アシストシート!$I$7:$I$206,\"\")","v":0},"名",{"$f":"COUNTIFS(集計アシストシート!$D$7:$D$206,\"非正規\",集計アシストシート!$E$7:$E$206,\"男\",集計アシストシート!$G$7:$G$206,\">=40\",集計アシストシート!$G$7:$G$206,\"<50\",集計アシストシート!$J$7:$J$206,\">=48\",集計アシストシート!$J$7:$J$206,\"<60\",集計アシストシート!$I$7:$I$206,\"\")","v":0},"名",{"$f":"COUNTIFS(集計アシストシート!$D$7:$D$206,\"非正規\",集計アシストシート!$E$7:$E$206,\"男\",集計アシストシート!$G$7:$G$206,\">=40\",集計アシストシート!$G$7:$G$206,\"<50\",集計アシストシート!$J$7:$J$206,\">=60\",集計アシストシート!$J$7:$J$206,\"<120\",集計アシストシート!$I$7:$I$206,\"\")","v":0},"名",{"$f":"COUNTIFS(集計アシストシート!$D$7:$D$206,\"非正規\",集計アシストシート!$E$7:$E$206,\"男\",集計アシストシート!$G$7:$G$206,\">=40\",集計アシストシート!$G$7:$G$206,\"<50\",集計アシストシート!$J$7:$J$206,\">=120\",集計アシストシート!$I$7:$I$206,\"\")","v":0},"名",0,"名"]
[null,null,"50歳代",null,null,null,"名",null,"名",null,"名",null,"名",null,"名",null,"名",null,"名",0,"名",null,null,"←",null,null,"50歳代",null,null,{"$f":"COUNTIFS(集計アシストシート!$D$7:$D$206,\"非正規\",集計アシストシート!$E$7:$E$206,\"男\",集計アシストシート!$G$7:$G$206,\">=50\",集計アシストシート!$G$7:$G$206,\"<60\",集計アシストシート!$J$7:$J$206,\"<12\",集計アシストシート!$I$7:$I$206,\"\")","v":0},"名",{"$f":"COUNTIFS(集計アシストシート!$D$7:$D$206,\"非正規\",集計アシストシート!$E$7:$E$206,\"男\",集計アシストシート!$G$7:$G$206,\">=50\",集計アシストシート!$G$7:$G$206,\"<60\",集計アシストシート!$J$7:$J$206,\">=12\",集計アシストシート!$J$7:$J$206,\"<24\",集計アシストシート!$I$7:$I$206,\"\")","v":0},"名",{"$f":"COUNTIFS(集計アシストシート!$D$7:$D$206,\"非正規\",集計アシストシート!$E$7:$E$206,\"男\",集計アシストシート!$G$7:$G$206,\">=50\",集計アシストシート!$G$7:$G$206,\"<60\",集計アシストシート!$J$7:$J$206,\">=24\",集計アシストシート!$J$7:$J$206,\"<36\",集計アシストシート!$I$7:$I$206,\"\")","v":0},"名",{"$f":"COUNTIFS(集計アシストシート!$D$7:$D$206,\"非正規\",集計アシストシート!$E$7:$E$206,\"男\",集計アシストシート!$G$7:$G$206,\">=50\",集計アシストシート!$G$7:$G$206,\"<60\",集計アシストシート!$J$7:$J$206,\">=36\",集計アシストシート!$J$7:$J$206,\"<48\",集計アシストシート!$I$7:$I$206,\"\")","v":0},"名",{"$f":"COUNTIFS(集計アシストシート!$D$7:$D$206,\"非正規\",集計アシストシート!$E$7:$E$206,\"男\",集計アシストシート!$G$7:$G$206,\">=50\",集計アシストシート!$G$7:$G$206,\"<60\",集計アシストシート!$J$7:$J$206,\">=48\",集計アシストシート!$J$7:$J$206,\"<60\",集計アシストシート!$I$7:$I$206,\"\")","v":0},"名",{"$f":"COUNTIFS(集計アシストシート!$D$7:$D$206,\"非正規\",集計アシストシート!$E$7:$E$206,\"男\",集計アシストシート!$G$7:$G$206,\">=50\",集計アシストシート!$G$7:$G$206,\"<60\",集計アシストシート!$J$7:$J$206,\">=60\",集計アシストシート!$J$7:$J$206,\"<120\",集計アシストシート!$I$7:$I$206,\"\")","v":0},"名",{"$f":"COUNTIFS(集計アシストシート!$D$7:$D$206,\"非正規\",集計アシストシート!$E$7:$E$206,\"男\",集計アシストシート!$G$7:$G$206,\">=50\",集計アシストシート!$G$7:$G$206,\"<60\",集計アシストシート!$G$7:$G$206,\"<60\",集計アシストシート!$J$7:$J$206,\">=120\",集計アシストシート!$I$7:$I$206,\"\")","v":0},"名",0,"名"]
[null,null,"60歳以上",null,null,null,"名",null,"名",null,"名",null,"名",null,"名",null,"名",null,"名",0,"名",null,null,"←",null,null,"60歳以上",null,null,{"$f":"COUNTIFS(集計アシストシート!$D$7:$D$206,\"非正規\",集計アシストシート!$E$7:$E$206,\"男\",集計アシストシート!$G$7:$G$206,\">=60\",集計アシストシート!$J$7:$J$206,\"<12\",集計アシストシート!$I$7:$I$206,\"\")","v":0},"名",{"$f":"COUNTIFS(集計アシストシート!$D$7:$D$206,\"非正規\",集計アシストシート!$E$7:$E$206,\"男\",集計アシストシート!$G$7:$G$206,\">=60\",集計アシストシート!$J$7:$J$206,\">=12\",集計アシストシート!$J$7:$J$206,\"<24\",集計アシストシート!$I$7:$I$206,\"\")","v":0},"名",{"$f":"COUNTIFS(集計アシストシート!$D$7:$D$206,\"非正規\",集計アシストシート!$E$7:$E$206,\"男\",集計アシストシート!$G$7:$G$206,\">=60\",集計アシストシート!$J$7:$J$206,\">=24\",集計アシストシート!$J$7:$J$206,\"<36\",集計アシストシート!$I$7:$I$206,\"\")","v":0},"名",{"$f":"COUNTIFS(集計アシストシート!$D$7:$D$206,\"非正規\",集計アシストシート!$E$7:$E$206,\"男\",集計アシストシート!$G$7:$G$206,\">=60\",集計アシストシート!$J$7:$J$206,\">=36\",集計アシストシート!$J$7:$J$206,\"<48\",集計アシストシート!$I$7:$I$206,\"\")","v":0},"名",{"$f":"COUNTIFS(集計アシストシート!$D$7:$D$206,\"非正規\",集計アシストシート!$E$7:$E$206,\"男\",集計アシストシート!$G$7:$G$206,\">=60\",集計アシストシート!$J$7:$J$206,\">=48\",集計アシストシート!$J$7:$J$206,\"<60\",集計アシストシート!$I$7:$I$206,\"\")","v":0},"名",{"$f":"COUNTIFS(集計アシストシート!$D$7:$D$206,\"非正規\",集計アシストシート!$E$7:$E$206,\"男\",集計アシストシート!$G$7:$G$206,\">=60\",集計アシストシート!$J$7:$J$206,\">=60\",集計アシストシート!$J$7:$J$206,\"<120\",集計アシストシート!$I$7:$I$206,\"\")","v":0},"名",{"$f":"COUNTIFS(集計アシストシート!$D$7:$D$206,\"非正規\",集計アシストシート!$E$7:$E$206,\"男\",集計アシストシート!$G$7:$G$206,\">=60\",集計アシストシート!$J$7:$J$206,\">=120\",集計アシストシート!$I$7:$I$206,\"\")","v":0},"名",0,"名"]
[null,null,"合計",null,null,"","名","","名","","名","","名","","名","","名","","名",0,"名",null,null,"←",null,null,"合計",null,null,{"$f":"IF(AD175+AD176+AD177+AD178+AD179+AD180=0,\"\",AD175+AD176+AD177+AD178+AD179+AD180)","v":""},"名",{"$f":"IF(AF175+AF176+AF177+AF178+AF179+AF180=0,\"\",AF175+AF176+AF177+AF178+AF179+AF180)","v":""},"名",{"$f":"IF(AH175+AH176+AH177+AH178+AH179+AH180=0,\"\",AH175+AH176+AH177+AH178+AH179+AH180)","v":""},"名",{"$f":"IF(AJ175+AJ176+AJ177+AJ178+AJ179+AJ180=0,\"\",AJ175+AJ176+AJ177+AJ178+AJ179+AJ180)","v":""},"名",{"$f":"IF(AL175+AL176+AL177+AL178+AL179+AL180=0,\"\",AL175+AL176+AL177+AL178+AL179+AL180)","v":""},"名",{"$f":"IF(AN175+AN176+AN177+AN178+AN179+AN180=0,\"\",AN175+AN176+AN177+AN178+AN179+AN180)","v":""},"名",{"$f":"IF(AP175+AP176+AP177+AP178+AP179+AP180=0,\"\",AP175+AP176+AP177+AP178+AP179+AP180)","v":""},"名",0,"名"]
[]
["女性職員","正規（常勤）","勤続年数",null,null,"1年未満",null,"2年未満",null,"3年未満",null,"4年未満",null,"5年未満",null,"5～10年未満",null,"10年以上",null,"合計",null,null,null,"←","女性職員","正規（常勤）","勤続年数",null,null,"1年未満",null,"2年未満",null,"3年未満",null,"4年未満",null,"5年未満",null,"5～10年未満",null,"10年以上",null,"合計"]
[null,null,"20歳未満",null,null,null,"名",null,"名",null,"名",null,"名",null,"名",null,"名",null,"名",{"$f":"SUM(F184,H184,J184,L184,N184,P184,R184)","v":0},"名",null,null,"←",null,null,"20歳未満",null,null,{"$f":"COUNTIFS(集計アシストシート!$D$7:$D$206,\"正規\",集計アシストシート!$E$7:$E$206,\"女\",集計アシストシート!$G$7:$G$206,\"<20\",集計アシストシート!$J$7:$J$206,\"<12\",集計アシストシート!$I$7:$I$206,\"\")","v":0},"名",{"$f":"COUNTIFS(集計アシストシート!$D$7:$D$206,\"正規\",集計アシストシート!$E$7:$E$206,\"女\",集計アシストシート!$G$7:$G$206,\"<20\",集計アシストシート!$J$7:$J$206,\">=12\",集計アシストシート!$J$7:$J$206,\"<24\",集計アシストシート!$I$7:$I$206,\"\")","v":0},"名",{"$f":"COUNTIFS(集計アシストシート!$D$7:$D$206,\"正規\",集計アシストシート!$E$7:$E$206,\"女\",集計アシストシート!$G$7:$G$206,\"<20\",集計アシストシート!$J$7:$J$206,\">=24\",集計アシストシート!$J$7:$J$206,\"<36\",集計アシストシート!$I$7:$I$206,\"\")","v":0},"名",{"$f":"COUNTIFS(集計アシストシート!$D$7:$D$206,\"正規\",集計アシストシート!$E$7:$E$206,\"女\",集計アシストシート!$G$7:$G$206,\"<20\",集計アシストシート!$J$7:$J$206,\">=36\",集計アシストシート!$J$7:$J$206,\"<48\",集計アシストシート!$I$7:$I$206,\"\")","v":0},"名",{"$f":"COUNTIFS(集計アシストシート!$D$7:$D$206,\"正規\",集計アシストシート!$E$7:$E$206,\"女\",集計アシストシート!$G$7:$G$206,\"<20\",集計アシストシート!$J$7:$J$206,\">=48\",集計アシストシート!$J$7:$J$206,\"<60\",集計アシストシート!$I$7:$I$206,\"\")","v":0},"名",{"$f":"COUNTIFS(集計アシストシート!$D$7:$D$206,\"正規\",集計アシストシート!$E$7:$E$206,\"女\",集計アシストシート!$G$7:$G$206,\"<20\",集計アシストシート!$J$7:$J$206,\">=60\",集計アシストシート!$J$7:$J$206,\"<120\",集計アシストシート!$I$7:$I$206,\"\")","v":0},"名",{"$f":"COUNTIFS(集計アシストシート!$D$7:$D$206,\"正規\",集計アシストシート!$E$7:$E$206,\"女\",集計アシストシート!$G$7:$G$206,\"<20\",集計アシストシート!$J$7:$J$206,\">=120\",集計アシストシート!$I$7:$I$206,\"\")","v":0},"名",{"$f":"SUM(AD184,AF184,AH184,AJ184,AL184,AN184,AP184)","v":0},"名"]
[null,null,"20歳代",null,null,null,"名",null,"名",null,"名",null,"名",null,"名",null,"名",null,"名",{"$f":"SUM(F185,H185,J185,L185,N185,P185,R185)","v":0},"名",null,null,"←",null,null,"20歳代",null,null,{"$f":"COUNTIFS(集計アシストシート!$D$7:$D$206,\"正規\",集計アシストシート!$E$7:$E$206,\"女\",集計アシストシート!$G$7:$G$206,\">=20\",集計アシストシート!$G$7:$G$206,\"<30\",集計アシストシート!$J$7:$J$206,\"<12\",集計アシストシート!$I$7:$I$206,\"\")","v":0},"名",{"$f":"COUNTIFS(集計アシストシート!$D$7:$D$206,\"正規\",集計アシストシート!$E$7:$E$206,\"女\",集計アシストシート!$G$7:$G$206,\">=20\",集計アシストシート!$G$7:$G$206,\"<30\",集計アシストシート!$J$7:$J$206,\">=12\",集計アシストシート!$J$7:$J$206,\"<24\",集計アシストシート!$I$7:$I$206,\"\")","v":0},"名",{"$f":"COUNTIFS(集計アシストシート!$D$7:$D$206,\"正規\",集計アシストシート!$E$7:$E$206,\"女\",集計アシストシート!$G$7:$G$206,\">=20\",集計アシストシート!$G$7:$G$206,\"<30\",集計アシストシート!$J$7:$J$206,\">=24\",集計アシストシート!$J$7:$J$206,\"<36\",集計アシストシート!$I$7:$I$206,\"\")","v":0},"名",{"$f":"COUNTIFS(集計アシストシート!$D$7:$D$206,\"正規\",集計アシストシート!$E$7:$E$206,\"女\",集計アシストシート!$G$7:$G$206,\">=20\",集計アシストシート!$G$7:$G$206,\"<30\",集計アシストシート!$J$7:$J$206,\">=36\",集計アシストシート!$J$7:$J$206,\"<48\",集計アシストシート!$I$7:$I$206,\"\")","v":0},"名",{"$f":"COUNTIFS(集計アシストシート!$D$7:$D$206,\"正規\",集計アシストシート!$E$7:$E$206,\"女\",集計アシストシート!$G$7:$G$206,\">=20\",集計アシストシート!$G$7:$G$206,\"<30\",集計アシストシート!$J$7:$J$206,\">=48\",集計アシストシート!$J$7:$J$206,\"<60\",集計アシストシート!$I$7:$I$206,\"\")","v":0},"名",{"$f":"COUNTIFS(集計アシストシート!$D$7:$D$206,\"正規\",集計アシストシート!$E$7:$E$206,\"女\",集計アシストシート!$G$7:$G$206,\">=20\",集計アシストシート!$G$7:$G$206,\"<30\",集計アシストシート!$J$7:$J$206,\">=60\",集計アシストシート!$J$7:$J$206,\"<120\",集計アシストシート!$I$7:$I$206,\"\")","v":0},"名",{"$f":"COUNTIFS(集計アシストシート!$D$7:$D$206,\"正規\",集計アシストシート!$E$7:$E$206,\"女\",集計アシストシート!$G$7:$G$206,\">=20\",集計アシストシート!$G$7:$G$206,\"<30\",集計アシストシート!$J$7:$J$206,\">=120\",集計アシストシート!$I$7:$I$206,\"\")","v":0},"名",{"$f":"SUM(AD185,AF185,AH185,AJ185,AL185,AN185,AP185)","v":0},"名"]
[null,null,"30歳代",null,null,null,"名",null,"名",null,"名",null,"名",null,"名",null,"名",null,"名",0,"名",null,null,"←",null,null,"30歳代",null,null,{"$f":"COUNTIFS(集計アシストシート!$D$7:$D$206,\"正規\",集計アシストシート!$E$7:$E$206,\"女\",集計アシストシート!$G$7:$G$206,\">=30\",集計アシストシート!$G$7:$G$206,\"<40\",集計アシストシート!$J$7:$J$206,\"<12\",集計アシストシート!$I$7:$I$206,\"\")","v":0},"名",{"$f":"COUNTIFS(集計アシストシート!$D$7:$D$206,\"正規\",集計アシストシート!$E$7:$E$206,\"女\",集計アシストシート!$G$7:$G$206,\">=30\",集計アシストシート!$G$7:$G$206,\"<40\",集計アシストシート!$J$7:$J$206,\">=12\",集計アシストシート!$J$7:$J$206,\"<24\",集計アシストシート!$I$7:$I$206,\"\")","v":0},"名",{"$f":"COUNTIFS(集計アシストシート!$D$7:$D$206,\"正規\",集計アシストシート!$E$7:$E$206,\"女\",集計アシストシート!$G$7:$G$206,\">=30\",集計アシストシート!$G$7:$G$206,\"<40\",集計アシストシート!$J$7:$J$206,\">=24\",集計アシストシート!$J$7:$J$206,\"<36\",集計アシストシート!$I$7:$I$206,\"\")","v":0},"名",{"$f":"COUNTIFS(集計アシストシート!$D$7:$D$206,\"正規\",集計アシストシート!$E$7:$E$206,\"女\",集計アシストシート!$G$7:$G$206,\">=30\",集計アシストシート!$G$7:$G$206,\"<40\",集計アシストシート!$J$7:$J$206,\">=36\",集計アシストシート!$J$7:$J$206,\"<48\",集計アシストシート!$I$7:$I$206,\"\")","v":0},"名",{"$f":"COUNTIFS(集計アシストシート!$D$7:$D$206,\"正規\",集計アシストシート!$E$7:$E$206,\"女\",集計アシストシート!$G$7:$G$206,\">=30\",集計アシストシート!$G$7:$G$206,\"<40\",集計アシストシート!$J$7:$J$206,\">=48\",集計アシストシート!$J$7:$J$206,\"<60\",集計アシストシート!$I$7:$I$206,\"\")","v":0},"名",{"$f":"COUNTIFS(集計アシストシート!$D$7:$D$206,\"正規\",集計アシストシート!$E$7:$E$206,\"女\",集計アシストシート!$G$7:$G$206,\">=30\",集計アシストシート!$G$7:$G$206,\"<40\",集計アシストシート!$J$7:$J$206,\">=60\",集計アシストシート!$J$7:$J$206,\"<120\",集計アシストシート!$I$7:$I$206,\"\")","v":0},"名",{"$f":"COUNTIFS(集計アシストシート!$D$7:$D$206,\"正規\",集計アシストシート!$E$7:$E$206,\"女\",集計アシストシート!$G$7:$G$206,\">=30\",集計アシストシート!$G$7:$G$206,\"<40\",集計アシストシート!$J$7:$J$206,\">=120\",集計アシストシート!$I$7:$I$206,\"\")","v":0},"名",0,"名"]
[null,null,"40歳代",null,null,null,"名",null,"名",null,"名",null,"名",null,"名",null,"名",null,"名",0,"名",null,null,"←",null,null,"40歳代",null,null,{"$f":"COUNTIFS(集計アシストシート!$D$7:$D$206,\"正規\",集計アシストシート!$E$7:$E$206,\"女\",集計アシストシート!$G$7:$G$206,\">=40\",集計アシストシート!$G$7:$G$206,\"<50\",集計アシストシート!$J$7:$J$206,\"<12\",集計アシストシート!$I$7:$I$206,\"\")","v":0},"名",{"$f":"COUNTIFS(集計アシストシート!$D$7:$D$206,\"正規\",集計アシストシート!$E$7:$E$206,\"女\",集計アシストシート!$G$7:$G$206,\">=40\",集計アシストシート!$G$7:$G$206,\"<50\",集計アシストシート!$J$7:$J$206,\">=12\",集計アシストシート!$J$7:$J$206,\"<24\",集計アシストシート!$I$7:$I$206,\"\")","v":0},"名",{"$f":"COUNTIFS(集計アシストシート!$D$7:$D$206,\"正規\",集計アシストシート!$E$7:$E$206,\"女\",集計アシストシート!$G$7:$G$206,\">=40\",集計アシストシート!$G$7:$G$206,\"<50\",集計アシストシート!$J$7:$J$206,\">=24\",集計アシストシート!$J$7:$J$206,\"<36\",集計アシストシート!$I$7:$I$206,\"\")","v":0},"名",{"$f":"COUNTIFS(集計アシストシート!$D$7:$D$206,\"正規\",集計アシストシート!$E$7:$E$206,\"女\",集計アシストシート!$G$7:$G$206,\">=40\",集計アシストシート!$G$7:$G$206,\"<50\",集計アシストシート!$J$7:$J$206,\">=36\",集計アシストシート!$J$7:$J$206,\"<48\",集計アシストシート!$I$7:$I$206,\"\")","v":0},"名",{"$f":"COUNTIFS(集計アシストシート!$D$7:$D$206,\"正規\",集計アシストシート!$E$7:$E$206,\"女\",集計アシストシート!$G$7:$G$206,\">=40\",集計アシストシート!$G$7:$G$206,\"<50\",集計アシストシート!$J$7:$J$206,\">=48\",集計アシストシート!$J$7:$J$206,\"<60\",集計アシストシート!$I$7:$I$206,\"\")","v":0},"名",{"$f":"COUNTIFS(集計アシストシート!$D$7:$D$206,\"正規\",集計アシストシート!$E$7:$E$206,\"女\",集計アシストシート!$G$7:$G$206,\">=40\",集計アシストシート!$G$7:$G$206,\"<50\",集計アシストシート!$J$7:$J$206,\">=60\",集計アシストシート!$J$7:$J$206,\"<120\",集計アシストシート!$I$7:$I$206,\"\")","v":0},"名",{"$f":"COUNTIFS(集計アシストシート!$D$7:$D$206,\"正規\",集計アシストシート!$E$7:$E$206,\"女\",集計アシストシート!$G$7:$G$206,\">=40\",集計アシストシート!$G$7:$G$206,\"<50\",集計アシストシート!$J$7:$J$206,\">=120\",集計アシストシート!$I$7:$I$206,\"\")","v":0},"名",0,"名"]
[null,null,"50歳代",null,null,null,"名",null,"名",null,"名",null,"名",null,"名",null,"名",null,"名",0,"名",null,null,"←",null,null,"50歳代",null,null,{"$f":"COUNTIFS(集計アシストシート!$D$7:$D$206,\"正規\",集計アシストシート!$E$7:$E$206,\"女\",集計アシストシート!$G$7:$G$206,\">=50\",集計アシストシート!$G$7:$G$206,\"<60\",集計アシストシート!$J$7:$J$206,\"<12\",集計アシストシート!$I$7:$I$206,\"\")","v":0},"名",{"$f":"COUNTIFS(集計アシストシート!$D$7:$D$206,\"正規\",集計アシストシート!$E$7:$E$206,\"女\",集計アシストシート!$G$7:$G$206,\">=50\",集計アシストシート!$G$7:$G$206,\"<60\",集計アシストシート!$J$7:$J$206,\">=12\",集計アシストシート!$J$7:$J$206,\"<24\",集計アシストシート!$I$7:$I$206,\"\")","v":0},"名",{"$f":"COUNTIFS(集計アシストシート!$D$7:$D$206,\"正規\",集計アシストシート!$E$7:$E$206,\"女\",集計アシストシート!$G$7:$G$206,\">=50\",集計アシストシート!$G$7:$G$206,\"<60\",集計アシストシート!$J$7:$J$206,\">=24\",集計アシストシート!$J$7:$J$206,\"<36\",集計アシストシート!$I$7:$I$206,\"\")","v":0},"名",{"$f":"COUNTIFS(集計アシストシート!$D$7:$D$206,\"正規\",集計アシストシート!$E$7:$E$206,\"女\",集計アシストシート!$G$7:$G$206,\">=50\",集計アシストシート!$G$7:$G$206,\"<60\",集計アシストシート!$J$7:$J$206,\">=36\",集計アシストシート!$J$7:$J$206,\"<48\",集計アシストシート!$I$7:$I$206,\"\")","v":0},"名",{"$f":"COUNTIFS(集計アシストシート!$D$7:$D$206,\"正規\",集計アシストシート!$E$7:$E$206,\"女\",集計アシストシート!$G$7:$G$206,\">=50\",集計アシストシート!$G$7:$G$206,\"<60\",集計アシストシート!$J$7:$J$206,\">=48\",集計アシストシート!$J$7:$J$206,\"<60\",集計アシストシート!$I$7:$I$206,\"\")","v":0},"名",{"$f":"COUNTIFS(集計アシストシート!$D$7:$D$206,\"正規\",集計アシストシート!$E$7:$E$206,\"女\",集計アシストシート!$G$7:$G$206,\">=50\",集計アシストシート!$G$7:$G$206,\"<60\",集計アシストシート!$J$7:$J$206,\">=60\",集計アシストシート!$J$7:$J$206,\"<120\",集計アシストシート!$I$7:$I$206,\"\")","v":0},"名",{"$f":"COUNTIFS(集計アシストシート!$D$7:$D$206,\"正規\",集計アシストシート!$E$7:$E$206,\"女\",集計アシストシート!$G$7:$G$206,\">=50\",集計アシストシート!$G$7:$G$206,\"<60\",集計アシストシート!$G$7:$G$206,\"<60\",集計アシストシート!$J$7:$J$206,\">=120\",集計アシストシート!$I$7:$I$206,\"\")","v":0},"名",0,"名"]
[null,null,"60歳以上",null,null,null,"名",null,"名",null,"名",null,"名",null,"名",null,"名",null,"名",0,"名",null,null,"←",null,null,"60歳以上",null,null,{"$f":"COUNTIFS(集計アシストシート!$D$7:$D$206,\"正規\",集計アシストシート!$E$7:$E$206,\"女\",集計アシストシート!$G$7:$G$206,\">=60\",集計アシストシート!$J$7:$J$206,\"<12\",集計アシストシート!$I$7:$I$206,\"\")","v":0},"名",{"$f":"COUNTIFS(集計アシストシート!$D$7:$D$206,\"正規\",集計アシストシート!$E$7:$E$206,\"女\",集計アシストシート!$G$7:$G$206,\">=60\",集計アシストシート!$J$7:$J$206,\">=12\",集計アシストシート!$J$7:$J$206,\"<24\",集計アシストシート!$I$7:$I$206,\"\")","v":0},"名",{"$f":"COUNTIFS(集計アシストシート!$D$7:$D$206,\"正規\",集計アシストシート!$E$7:$E$206,\"女\",集計アシストシート!$G$7:$G$206,\">=60\",集計アシストシート!$J$7:$J$206,\">=24\",集計アシストシート!$J$7:$J$206,\"<36\",集計アシストシート!$I$7:$I$206,\"\")","v":0},"名",{"$f":"COUNTIFS(集計アシストシート!$D$7:$D$206,\"正規\",集計アシストシート!$E$7:$E$206,\"女\",集計アシストシート!$G$7:$G$206,\">=60\",集計アシストシート!$J$7:$J$206,\">=36\",集計アシストシート!$J$7:$J$206,\"<48\",集計アシストシート!$I$7:$I$206,\"\")","v":0},"名",{"$f":"COUNTIFS(集計アシストシート!$D$7:$D$206,\"正規\",集計アシストシート!$E$7:$E$206,\"女\",集計アシストシート!$G$7:$G$206,\">=60\",集計アシストシート!$J$7:$J$206,\">=48\",集計アシストシート!$J$7:$J$206,\"<60\",集計アシストシート!$I$7:$I$206,\"\")","v":0},"名",{"$f":"COUNTIFS(集計アシストシート!$D$7:$D$206,\"正規\",集計アシストシート!$E$7:$E$206,\"女\",集計アシストシート!$G$7:$G$206,\">=60\",集計アシストシート!$J$7:$J$206,\">=60\",集計アシストシート!$J$7:$J$206,\"<120\",集計アシストシート!$I$7:$I$206,\"\")","v":0},"名",{"$f":"COUNTIFS(集計アシストシート!$D$7:$D$206,\"正規\",集計アシストシート!$E$7:$E$206,\"女\",集計アシストシート!$G$7:$G$206,\">=60\",集計アシストシート!$J$7:$J$206,\">=120\",集計アシストシート!$I$7:$I$206,\"\")","v":0},"名",0,"名"]
[null,null,"合計",null,null,"","名","","名","","名","","名","","名","","名","","名",0,"名",null,null,"←",null,null,"合計",null,null,{"$f":"IF(AD184+AD185+AD186+AD187+AD188+AD189=0,\"\",AD184+AD185+AD186+AD187+AD188+AD189)","v":""},"名",{"$f":"IF(AF184+AF185+AF186+AF187+AF188+AF189=0,\"\",AF184+AF185+AF186+AF187+AF188+AF189)","v":""},"名",{"$f":"IF(AH184+AH185+AH186+AH187+AH188+AH189=0,\"\",AH184+AH185+AH186+AH187+AH188+AH189)","v":""},"名",{"$f":"IF(AJ184+AJ185+AJ186+AJ187+AJ188+AJ189=0,\"\",AJ184+AJ185+AJ186+AJ187+AJ188+AJ189)","v":""},"名",{"$f":"IF(AL184+AL185+AL186+AL187+AL188+AL189=0,\"\",AL184+AL185+AL186+AL187+AL188+AL189)","v":""},"名",{"$f":"IF(AN184+AN185+AN186+AN187+AN188+AN189=0,\"\",AN184+AN185+AN186+AN187+AN188+AN189)","v":""},"名",{"$f":"IF(AP184+AP185+AP186+AP187+AP188+AP189=0,\"\",AP184+AP185+AP186+AP187+AP188+AP189)","v":""},"名",0,"名"]
[null,"非正規（非常勤）","勤続年数",null,null,"1年未満",null,"2年未満",null,"3年未満",null,"4年未満",null,"5年未満",null,"5～10年未満",null,"10年以上",null,"合計",null,null,null,"←",null,"非正規（非常勤）","勤続年数",null,null,"1年未満",null,"2年未満",null,"3年未満",null,"4年未満",null,"5年未満",null,"5～10年未満",null,"10年以上",null,"合計"]
[null,null,"20歳未満",null,null,null,"名",null,"名",null,"名",null,"名",null,"名",null,"名",null,"名",{"$f":"SUM(F192,H192,J192,L192,N192,P192,R192)","v":0},"名",null,null,"←",null,null,"20歳未満",null,null,{"$f":"COUNTIFS(集計アシストシート!$D$7:$D$206,\"非正規\",集計アシストシート!$E$7:$E$206,\"女\",集計アシストシート!$G$7:$G$206,\"<20\",集計アシストシート!$J$7:$J$206,\"<12\",集計アシストシート!$I$7:$I$206,\"\")","v":0},"名",{"$f":"COUNTIFS(集計アシストシート!$D$7:$D$206,\"非正規\",集計アシストシート!$E$7:$E$206,\"女\",集計アシストシート!$G$7:$G$206,\"<20\",集計アシストシート!$J$7:$J$206,\">=12\",集計アシストシート!$J$7:$J$206,\"<24\",集計アシストシート!$I$7:$I$206,\"\")","v":0},"名",{"$f":"COUNTIFS(集計アシストシート!$D$7:$D$206,\"非正規\",集計アシストシート!$E$7:$E$206,\"女\",集計アシストシート!$G$7:$G$206,\"<20\",集計アシストシート!$J$7:$J$206,\">=24\",集計アシストシート!$J$7:$J$206,\"<36\",集計アシストシート!$I$7:$I$206,\"\")","v":0},"名",{"$f":"COUNTIFS(集計アシストシート!$D$7:$D$206,\"非正規\",集計アシストシート!$E$7:$E$206,\"女\",集計アシストシート!$G$7:$G$206,\"<20\",集計アシストシート!$J$7:$J$206,\">=36\",集計アシストシート!$J$7:$J$206,\"<48\",集計アシストシート!$I$7:$I$206,\"\")","v":0},"名",{"$f":"COUNTIFS(集計アシストシート!$D$7:$D$206,\"非正規\",集計アシストシート!$E$7:$E$206,\"女\",集計アシストシート!$G$7:$G$206,\"<20\",集計アシストシート!$J$7:$J$206,\">=48\",集計アシストシート!$J$7:$J$206,\"<60\",集計アシストシート!$I$7:$I$206,\"\")","v":0},"名",{"$f":"COUNTIFS(集計アシストシート!$D$7:$D$206,\"非正規\",集計アシストシート!$E$7:$E$206,\"女\",集計アシストシート!$G$7:$G$206,\"<20\",集計アシストシート!$J$7:$J$206,\">=60\",集計アシストシート!$J$7:$J$206,\"<120\",集計アシストシート!$I$7:$I$206,\"\")","v":0},"名",{"$f":"COUNTIFS(集計アシストシート!$D$7:$D$206,\"非正規\",集計アシストシート!$E$7:$E$206,\"女\",集計アシストシート!$G$7:$G$206,\"<20\",集計アシストシート!$J$7:$J$206,\">=120\",集計アシストシート!$I$7:$I$206,\"\")","v":0},"名",{"$f":"SUM(AD192,AF192,AH192,AJ192,AL192,AN192,AP192)","v":0},"名"]
[null,null,"20歳代",null,null,null,"名",null,"名",null,"名",null,"名",null,"名",null,"名",null,"名",{"$f":"SUM(F193,H193,J193,L193,N193,P193,R193)","v":0},"名",null,null,"←",null,null,"20歳代",null,null,{"$f":"COUNTIFS(集計アシストシート!$D$7:$D$206,\"非正規\",集計アシストシート!$E$7:$E$206,\"女\",集計アシストシート!$G$7:$G$206,\">=20\",集計アシストシート!$G$7:$G$206,\"<30\",集計アシストシート!$J$7:$J$206,\"<12\",集計アシストシート!$I$7:$I$206,\"\")","v":0},"名",{"$f":"COUNTIFS(集計アシストシート!$D$7:$D$206,\"非正規\",集計アシストシート!$E$7:$E$206,\"女\",集計アシストシート!$G$7:$G$206,\">=20\",集計アシストシート!$G$7:$G$206,\"<30\",集計アシストシート!$J$7:$J$206,\">=12\",集計アシストシート!$J$7:$J$206,\"<24\",集計アシストシート!$I$7:$I$206,\"\")","v":0},"名",{"$f":"COUNTIFS(集計アシストシート!$D$7:$D$206,\"非正規\",集計アシストシート!$E$7:$E$206,\"女\",集計アシストシート!$G$7:$G$206,\">=20\",集計アシストシート!$G$7:$G$206,\"<30\",集計アシストシート!$J$7:$J$206,\">=24\",集計アシストシート!$J$7:$J$206,\"<36\",集計アシストシート!$I$7:$I$206,\"\")","v":0},"名",{"$f":"COUNTIFS(集計アシストシート!$D$7:$D$206,\"非正規\",集計アシストシート!$E$7:$E$206,\"女\",集計アシストシート!$G$7:$G$206,\">=20\",集計アシストシート!$G$7:$G$206,\"<30\",集計アシストシート!$J$7:$J$206,\">=36\",集計アシストシート!$J$7:$J$206,\"<48\",集計アシストシート!$I$7:$I$206,\"\")","v":0},"名",{"$f":"COUNTIFS(集計アシストシート!$D$7:$D$206,\"非正規\",集計アシストシート!$E$7:$E$206,\"女\",集計アシストシート!$G$7:$G$206,\">=20\",集計アシストシート!$G$7:$G$206,\"<30\",集計アシストシート!$J$7:$J$206,\">=48\",集計アシストシート!$J$7:$J$206,\"<60\",集計アシストシート!$I$7:$I$206,\"\")","v":0},"名",{"$f":"COUNTIFS(集計アシストシート!$D$7:$D$206,\"非正規\",集計アシストシート!$E$7:$E$206,\"女\",集計アシストシート!$G$7:$G$206,\">=20\",集計アシストシート!$G$7:$G$206,\"<30\",集計アシストシート!$J$7:$J$206,\">=60\",集計アシストシート!$J$7:$J$206,\"<120\",集計アシストシート!$I$7:$I$206,\"\")","v":0},"名",{"$f":"COUNTIFS(集計アシストシート!$D$7:$D$206,\"非正規\",集計アシストシート!$E$7:$E$206,\"女\",集計アシストシート!$G$7:$G$206,\">=20\",集計アシストシート!$G$7:$G$206,\"<30\",集計アシストシート!$J$7:$J$206,\">=120\",集計アシストシート!$I$7:$I$206,\"\")","v":0},"名",{"$f":"SUM(AD193,AF193,AH193,AJ193,AL193,AN193,AP193)","v":0},"名"]
[null,null,"30歳代",null,null,null,"名",null,"名",null,"名",null,"名",null,"名",null,"名",null,"名",0,"名",null,null,"←",null,null,"30歳代",null,null,{"$f":"COUNTIFS(集計アシストシート!$D$7:$D$206,\"非正規\",集計アシストシート!$E$7:$E$206,\"女\",集計アシストシート!$G$7:$G$206,\">=30\",集計アシストシート!$G$7:$G$206,\"<40\",集計アシストシート!$J$7:$J$206,\"<12\",集計アシストシート!$I$7:$I$206,\"\")","v":0},"名",{"$f":"COUNTIFS(集計アシストシート!$D$7:$D$206,\"非正規\",集計アシストシート!$E$7:$E$206,\"女\",集計アシストシート!$G$7:$G$206,\">=30\",集計アシストシート!$G$7:$G$206,\"<40\",集計アシストシート!$J$7:$J$206,\">=12\",集計アシストシート!$J$7:$J$206,\"<24\",集計アシストシート!$I$7:$I$206,\"\")","v":0},"名",{"$f":"COUNTIFS(集計アシストシート!$D$7:$D$206,\"非正規\",集計アシストシート!$E$7:$E$206,\"女\",集計アシストシート!$G$7:$G$206,\">=30\",集計アシストシート!$G$7:$G$206,\"<40\",集計アシストシート!$J$7:$J$206,\">=24\",集計アシストシート!$J$7:$J$206,\"<36\",集計アシストシート!$I$7:$I$206,\"\")","v":0},"名",{"$f":"COUNTIFS(集計アシストシート!$D$7:$D$206,\"非正規\",集計アシストシート!$E$7:$E$206,\"女\",集計アシストシート!$G$7:$G$206,\">=30\",集計アシストシート!$G$7:$G$206,\"<40\",集計アシストシート!$J$7:$J$206,\">=36\",集計アシストシート!$J$7:$J$206,\"<48\",集計アシストシート!$I$7:$I$206,\"\")","v":0},"名",{"$f":"COUNTIFS(集計アシストシート!$D$7:$D$206,\"非正規\",集計アシストシート!$E$7:$E$206,\"女\",集計アシストシート!$G$7:$G$206,\">=30\",集計アシストシート!$G$7:$G$206,\"<40\",集計アシストシート!$J$7:$J$206,\">=48\",集計アシストシート!$J$7:$J$206,\"<60\",集計アシストシート!$I$7:$I$206,\"\")","v":0},"名",{"$f":"COUNTIFS(集計アシストシート!$D$7:$D$206,\"非正規\",集計アシストシート!$E$7:$E$206,\"女\",集計アシストシート!$G$7:$G$206,\">=30\",集計アシストシート!$G$7:$G$206,\"<40\",集計アシストシート!$J$7:$J$206,\">=60\",集計アシストシート!$J$7:$J$206,\"<120\",集計アシストシート!$I$7:$I$206,\"\")","v":0},"名",{"$f":"COUNTIFS(集計アシストシート!$D$7:$D$206,\"非正規\",集計アシストシート!$E$7:$E$206,\"女\",集計アシストシート!$G$7:$G$206,\">=30\",集計アシストシート!$G$7:$G$206,\"<40\",集計アシストシート!$J$7:$J$206,\">=120\",集計アシストシート!$I$7:$I$206,\"\")","v":0},"名",0,"名"]
[null,null,"40歳代",null,null,null,"名",null,"名",null,"名",null,"名",null,"名",null,"名",null,"名",0,"名",null,null,"←",null,null,"40歳代",null,null,{"$f":"COUNTIFS(集計アシストシート!$D$7:$D$206,\"非正規\",集計アシストシート!$E$7:$E$206,\"女\",集計アシストシート!$G$7:$G$206,\">=40\",集計アシストシート!$G$7:$G$206,\"<50\",集計アシストシート!$J$7:$J$206,\"<12\",集計アシストシート!$I$7:$I$206,\"\")","v":0},"名",{"$f":"COUNTIFS(集計アシストシート!$D$7:$D$206,\"非正規\",集計アシストシート!$E$7:$E$206,\"女\",集計アシストシート!$G$7:$G$206,\">=40\",集計アシストシート!$G$7:$G$206,\"<50\",集計アシストシート!$J$7:$J$206,\">=12\",集計アシストシート!$J$7:$J$206,\"<24\",集計アシストシート!$I$7:$I$206,\"\")","v":0},"名",{"$f":"COUNTIFS(集計アシストシート!$D$7:$D$206,\"非正規\",集計アシストシート!$E$7:$E$206,\"女\",集計アシストシート!$G$7:$G$206,\">=40\",集計アシストシート!$G$7:$G$206,\"<50\",集計アシストシート!$J$7:$J$206,\">=24\",集計アシストシート!$J$7:$J$206,\"<36\",集計アシストシート!$I$7:$I$206,\"\")","v":0},"名",{"$f":"COUNTIFS(集計アシストシート!$D$7:$D$206,\"非正規\",集計アシストシート!$E$7:$E$206,\"女\",集計アシストシート!$G$7:$G$206,\">=40\",集計アシストシート!$G$7:$G$206,\"<50\",集計アシストシート!$J$7:$J$206,\">=36\",集計アシストシート!$J$7:$J$206,\"<48\",集計アシストシート!$I$7:$I$206,\"\")","v":0},"名",{"$f":"COUNTIFS(集計アシストシート!$D$7:$D$206,\"非正規\",集計アシストシート!$E$7:$E$206,\"女\",集計アシストシート!$G$7:$G$206,\">=40\",集計アシストシート!$G$7:$G$206,\"<50\",集計アシストシート!$J$7:$J$206,\">=48\",集計アシストシート!$J$7:$J$206,\"<60\",集計アシストシート!$I$7:$I$206,\"\")","v":0},"名",{"$f":"COUNTIFS(集計アシストシート!$D$7:$D$206,\"非正規\",集計アシストシート!$E$7:$E$206,\"女\",集計アシストシート!$G$7:$G$206,\">=40\",集計アシストシート!$G$7:$G$206,\"<50\",集計アシストシート!$J$7:$J$206,\">=60\",集計アシストシート!$J$7:$J$206,\"<120\",集計アシストシート!$I$7:$I$206,\"\")","v":0},"名",{"$f":"COUNTIFS(集計アシストシート!$D$7:$D$206,\"非正規\",集計アシストシート!$E$7:$E$206,\"女\",集計アシストシート!$G$7:$G$206,\">=40\",集計アシストシート!$G$7:$G$206,\"<50\",集計アシストシート!$J$7:$J$206,\">=120\",集計アシストシート!$I$7:$I$206,\"\")","v":0},"名",0,"名"]
[null,null,"50歳代",null,null,null,"名",null,"名",null,"名",null,"名",null,"名",null,"名",null,"名",0,"名",null,null,"←",null,null,"50歳代",null,null,{"$f":"COUNTIFS(集計アシストシート!$D$7:$D$206,\"非正規\",集計アシストシート!$E$7:$E$206,\"女\",集計アシストシート!$G$7:$G$206,\">=50\",集計アシストシート!$G$7:$G$206,\"<60\",集計アシストシート!$J$7:$J$206,\"<12\",集計アシストシート!$I$7:$I$206,\"\")","v":0},"名",{"$f":"COUNTIFS(集計アシストシート!$D$7:$D$206,\"非正規\",集計アシストシート!$E$7:$E$206,\"女\",集計アシストシート!$G$7:$G$206,\">=50\",集計アシストシート!$G$7:$G$206,\"<60\",集計アシストシート!$J$7:$J$206,\">=12\",集計アシストシート!$J$7:$J$206,\"<24\",集計アシストシート!$I$7:$I$206,\"\")","v":0},"名",{"$f":"COUNTIFS(集計アシストシート!$D$7:$D$206,\"非正規\",集計アシストシート!$E$7:$E$206,\"女\",集計アシストシート!$G$7:$G$206,\">=50\",集計アシストシート!$G$7:$G$206,\"<60\",集計アシストシート!$J$7:$J$206,\">=24\",集計アシストシート!$J$7:$J$206,\"<36\",集計アシストシート!$I$7:$I$206,\"\")","v":0},"名",{"$f":"COUNTIFS(集計アシストシート!$D$7:$D$206,\"非正規\",集計アシストシート!$E$7:$E$206,\"女\",集計アシストシート!$G$7:$G$206,\">=50\",集計アシストシート!$G$7:$G$206,\"<60\",集計アシストシート!$J$7:$J$206,\">=36\",集計アシストシート!$J$7:$J$206,\"<48\",集計アシストシート!$I$7:$I$206,\"\")","v":0},"名",{"$f":"COUNTIFS(集計アシストシート!$D$7:$D$206,\"非正規\",集計アシストシート!$E$7:$E$206,\"女\",集計アシストシート!$G$7:$G$206,\">=50\",集計アシストシート!$G$7:$G$206,\"<60\",集計アシストシート!$J$7:$J$206,\">=48\",集計アシストシート!$J$7:$J$206,\"<60\",集計アシストシート!$I$7:$I$206,\"\")","v":0},"名",{"$f":"COUNTIFS(集計アシストシート!$D$7:$D$206,\"非正規\",集計アシストシート!$E$7:$E$206,\"女\",集計アシストシート!$G$7:$G$206,\">=50\",集計アシストシート!$G$7:$G$206,\"<60\",集計アシストシート!$J$7:$J$206,\">=60\",集計アシストシート!$J$7:$J$206,\"<120\",集計アシストシート!$I$7:$I$206,\"\")","v":0},"名",{"$f":"COUNTIFS(集計アシストシート!$D$7:$D$206,\"非正規\",集計アシストシート!$E$7:$E$206,\"女\",集計アシストシート!$G$7:$G$206,\">=50\",集計アシストシート!$G$7:$G$206,\"<60\",集計アシストシート!$G$7:$G$206,\"<60\",集計アシストシート!$J$7:$J$206,\">=120\",集計アシストシート!$I$7:$I$206,\"\")","v":0},"名",0,"名"]
[null,null,"60歳以上",null,null,null,"名",null,"名",null,"名",null,"名",null,"名",null,"名",null,"名",0,"名",null,null,"←",null,null,"60歳以上",null,null,{"$f":"COUNTIFS(集計アシストシート!$D$7:$D$206,\"非正規\",集計アシストシート!$E$7:$E$206,\"女\",集計アシストシート!$G$7:$G$206,\">=60\",集計アシストシート!$J$7:$J$206,\"<12\",集計アシストシート!$I$7:$I$206,\"\")","v":0},"名",{"$f":"COUNTIFS(集計アシストシート!$D$7:$D$206,\"非正規\",集計アシストシート!$E$7:$E$206,\"女\",集計アシストシート!$G$7:$G$206,\">=60\",集計アシストシート!$J$7:$J$206,\">=12\",集計アシストシート!$J$7:$J$206,\"<24\",集計アシストシート!$I$7:$I$206,\"\")","v":0},"名",{"$f":"COUNTIFS(集計アシストシート!$D$7:$D$206,\"非正規\",集計アシストシート!$E$7:$E$206,\"女\",集計アシストシート!$G$7:$G$206,\">=60\",集計アシストシート!$J$7:$J$206,\">=24\",集計アシストシート!$J$7:$J$206,\"<36\",集計アシストシート!$I$7:$I$206,\"\")","v":0},"名",{"$f":"COUNTIFS(集計アシストシート!$D$7:$D$206,\"非正規\",集計アシストシート!$E$7:$E$206,\"女\",集計アシストシート!$G$7:$G$206,\">=60\",集計アシストシート!$J$7:$J$206,\">=36\",集計アシストシート!$J$7:$J$206,\"<48\",集計アシストシート!$I$7:$I$206,\"\")","v":0},"名",{"$f":"COUNTIFS(集計アシストシート!$D$7:$D$206,\"非正規\",集計アシストシート!$E$7:$E$206,\"女\",集計アシストシート!$G$7:$G$206,\">=60\",集計アシストシート!$J$7:$J$206,\">=48\",集計アシストシート!$J$7:$J$206,\"<60\",集計アシストシート!$I$7:$I$206,\"\")","v":0},"名",{"$f":"COUNTIFS(集計アシストシート!$D$7:$D$206,\"非正規\",集計アシストシート!$E$7:$E$206,\"女\",集計アシストシート!$G$7:$G$206,\">=60\",集計アシストシート!$J$7:$J$206,\">=60\",集計アシストシート!$J$7:$J$206,\"<120\",集計アシストシート!$I$7:$I$206,\"\")","v":0},"名",{"$f":"COUNTIFS(集計アシストシート!$D$7:$D$206,\"非正規\",集計アシストシート!$E$7:$E$206,\"女\",集計アシストシート!$G$7:$G$206,\">=60\",集計アシストシート!$J$7:$J$206,\">=120\",集計アシストシート!$I$7:$I$206,\"\")","v":0},"名",0,"名"]
[null,null,"合計",null,null,"","名","","名","","名","","名","","名","","名","","名",0,"名",null,null,"←",null,null,"合計",null,null,{"$f":"IF(AD192+AD193+AD194+AD195+AD196+AD197=0,\"\",AD192+AD193+AD194+AD195+AD196+AD197)","v":""},"名",{"$f":"IF(AF192+AF193+AF194+AF195+AF196+AF197=0,\"\",AF192+AF193+AF194+AF195+AF196+AF197)","v":""},"名",{"$f":"IF(AH192+AH193+AH194+AH195+AH196+AH197=0,\"\",AH192+AH193+AH194+AH195+AH196+AH197)","v":""},"名",{"$f":"IF(AJ192+AJ193+AJ194+AJ195+AJ196+AJ197=0,\"\",AJ192+AJ193+AJ194+AJ195+AJ196+AJ197)","v":""},"名",{"$f":"IF(AL192+AL193+AL194+AL195+AL196+AL197=0,\"\",AL192+AL193+AL194+AL195+AL196+AL197)","v":""},"名",{"$f":"IF(AN192+AN193+AN194+AN195+AN196+AN197=0,\"\",AN192+AN193+AN194+AN195+AN196+AN197)","v":""},"名",{"$f":"IF(AP192+AP193+AP194+AP195+AP196+AP197=0,\"\",AP192+AP193+AP194+AP195+AP196+AP197)","v":""},"名",0,"名"]
[]
["15.介護職員の年間採用・退職者の状況",null,null,null,null,null,null,null,null,"※2018年4月1日から2019年3月31日まで",null,null,null,null,null,null,null,null,null,null,null,null,null,"15.介護職員の年間採用・退職者の状況",null,null,null,null,null,null,null,null,"※2018年4月1日から2019年3月31日まで"]
["●","「集計アシストシート」がありますので、ご活用ください。",null,null,null,null,null,null,null,null,null,null,null,null,null,null,null,null,null,null,null,null,null,"●","「集計アシストシート」がありますので、ご活用ください。"]
["●","該当する欄に職員の2018年度における採用・退職者数を入力してください。",null,null,null,null,null,null,null,null,null,null,null,null,null,null,null,null,null,null,null,null,null,"●","該当する欄に職員の2018年度における採用・退職者数を入力してください。"]
["●","中途採用者の内、「派遣職員からの雇入れ」は、派遣期間後に正社員や契約社員として働くことを前提にした紹介予定派遣を含みません。",null,null,null,null,null,null,null,null,null,null,null,null,null,null,null,null,null,null,null,null,null,"●","中途採用者の内、「派遣職員からの雇入れ」は、派遣期間後に正社員や契約社員として働くことを前提にした紹介予定派遣を含みません。"]
[]
["●","採用経費については、新卒・中途採用は新聞折り込みチラシ、就職ブースへの出展、ホームページ作成などの採用活動全般に関する費用を指します。紹介予定派遣は紹介手数料を指します。",null,null,null,null,null,null,null,null,null,null,null,null,null,null,null,null,null,null,null,null,null,"●","採用経費については、新卒・中途採用は新聞折り込みチラシ、就職ブースへの出展、ホームページ作成などの採用活動全般に関する費用を指します。紹介予定派遣は紹介手数料を指します。"]
[]
["●","退職者については、同一法人内異動を含む勤続年数区分ごとに回答してください。",null,null,null,null,null,null,null,null,null,null,null,null,null,null,null,null,null,null,null,null,null,"●","退職者については、同一法人内異動を含む勤続年数区分ごとに回答してください。"]
[]
["＜採用者の状況（年間）＞",null,null,null,null,null,null,null,null,null,null,null,null,null,null,null,null,null,null,null,null,null,null,"＜採用者の状況（年間）＞"]
[null,"採用形態",null,null,"正規職員",null,null,null,null,null,"非正規職員",null,null,null,null,null,null,"採用経費について",null,null,null,null,null,null,"採用形態",null,null,"正規職員",null,null,null,null,null,"非正規職員"]
[null,null,null,null,"男性",null,null,"女性",null,null,"男性",null,null,"女性",null,null,null,null,null,null,null,null,null,null,null,null,null,"男性",null,null,"女性",null,null,"男性",null,null,"女性"]
[null,"新卒採用者",null,null,null,null,"名",null,null,"名",null,null,"名",null,null,"名","⇒",null,null,null,null,"円",null,"←","新卒採用者",null,null,{"$f":"COUNTIFS(集計アシストシート!$D$7:$D$206,\"正規\",集計アシストシート!$E$7:$E$206,\"男\",集計アシストシート!$G$7:$G$206,\"<20\",集計アシストシート!$J$7:$J$206,\"<12\",集計アシストシート!$I$7:$I$206,\"\")","v":0},null,"名",{"$f":"COUNTIFS(集計アシストシート!$D$7:$D$206,\"正規\",集計アシストシート!$E$7:$E$206,\"女\",集計アシストシート!$G$7:$G$206,\"<20\",集計アシストシート!$J$7:$J$206,\"<12\",集計アシストシート!$I$7:$I$206,\"\")","v":0},null,"名",{"$f":"COUNTIFS(集計アシストシート!$D$7:$D$206,\"非正規\",集計アシストシート!$E$7:$E$206,\"男\",集計アシストシート!$G$7:$G$206,\"<20\",集計アシストシート!$J$7:$J$206,\"<12\",集計アシストシート!$I$7:$I$206,\"\")","v":0},null,"名",{"$f":"COUNTIFS(集計アシストシート!$D$7:$D$206,\"非正規\",集計アシストシート!$E$7:$E$206,\"女\",集計アシストシート!$G$7:$G$206,\"<20\",集計アシストシート!$J$7:$J$206,\"<12\",集計アシストシート!$I$7:$I$206,\"\")","v":0},null,"名"]
[null,"中途採用者",null,null,null,null,"名",null,null,"名",null,null,"名",null,null,"名","⇒",null,null,null,null,"円",null,"←","中途採用者",null,null,{"$f":"COUNTIFS(集計アシストシート!$D$7:$D$206,\"正規\",集計アシストシート!$E$7:$E$206,\"男\",集計アシストシート!$G$7:$G$206,\">20\",集計アシストシート!$J$7:$J$206,\"<12\",集計アシストシート!$I$7:$I$206,\"\")","v":0},null,"名",{"$f":"COUNTIFS(集計アシストシート!$D$7:$D$206,\"正規\",集計アシストシート!$E$7:$E$206,\"女\",集計アシストシート!$G$7:$G$206,\">20\",集計アシストシート!$J$7:$J$206,\"<12\",集計アシストシート!$I$7:$I$206,\"\")","v":0},null,"名",{"$f":"COUNTIFS(集計アシストシート!$D$7:$D$206,\"非正規\",集計アシストシート!$E$7:$E$206,\"男\",集計アシストシート!$G$7:$G$206,\">20\",集計アシストシート!$J$7:$J$206,\"<12\",集計アシストシート!$I$7:$I$206,\"\")","v":0},null,"名",{"$f":"COUNTIFS(集計アシストシート!$D$7:$D$206,\"非正規\",集計アシストシート!$E$7:$E$206,\"女\",集計アシストシート!$G$7:$G$206,\">20\",集計アシストシート!$J$7:$J$206,\"<12\",集計アシストシート!$I$7:$I$206,\"\")","v":0},null,"名"]
[null,"内、派遣職員からの雇入れ",null,null,null,null,"名",null,null,"名",null,null,"名",null,null,"名"]
[null,"紹介予定派遣",null,null,null,null,"名",null,null,"名",null,null,"名",null,null,"名","⇒",null,null,null,null,"円"]
[null,null,null,null,null,null,null,null,null,null,null,null,null,null,null,null,null,null,null,null,null,null,null,"「集計アシストシート」から自動的に数値が集計されます"]
["＜退職者の状況（年間）＞※「名」には保護が掛かっています。右側から数字のみコピーして貼り付けてください。",null,null,null,null,null,null,null,null,null,null,null,null,null,null,null,null,null,null,null,null,null,null,"＜退職者の状況（年間）＞",null,null,null,null,"※人数の内、数字のみコピーして、左側に「値」で貼り付けしてください。"]
[null,"正規（常勤）","勤続年数",null,null,"1年未満",null,"2年未満",null,"3年未満",null,"4年未満",null,"5年未満",null,"5～10年未満",null,"10年以上",null,"合計",null,null,null,null,"正規（常勤）","勤続年数",null,null,"1年未満",null,"2年未満",null,"3年未満",null,"4年未満",null,"5年未満",null,"5～10年未満",null,"10年以上",null,"合計"]
[null,null,"20歳未満",null,null,null,"名",null,"名",null,"名",null,"名",null,"名",null,"名",null,"名",{"$f":"SUM(F219,H219,J219,L219,N219,P219,R219)","v":0},"名",null,null,"←",null,"20歳未満",null,null,{"$f":"COUNTIFS(集計アシストシート!$D$7:$D$206,\"正規\",集計アシストシート!$G$7:$G$206,\"<20\",集計アシストシート!$J$7:$J$206,\"<12\",集計アシストシート!$I$7:$I$206,\">0\")","v":0},"名",{"$f":"COUNTIFS(集計アシストシート!$D$7:$D$206,\"正規\",集計アシストシート!$G$7:$G$206,\"<20\",集計アシストシート!$J$7:$J$206,\">=12\",集計アシストシート!$J$7:$J$206,\"<24\",集計アシストシート!$I$7:$I$206,\">0\")","v":0},"名",{"$f":"COUNTIFS(集計アシストシート!$D$7:$D$206,\"正規\",集計アシストシート!$G$7:$G$206,\"<20\",集計アシストシート!$J$7:$J$206,\">=24\",集計アシストシート!$J$7:$J$206,\"<36\",集計アシストシート!$I$7:$I$206,\">0\")","v":0},"名",{"$f":"COUNTIFS(集計アシストシート!$D$7:$D$206,\"正規\",集計アシストシート!$G$7:$G$206,\"<20\",集計アシストシート!$J$7:$J$206,\">=36\",集計アシストシート!$J$7:$J$206,\"<48\",集計アシストシート!$I$7:$I$206,\">0\")","v":0},"名",{"$f":"COUNTIFS(集計アシストシート!$D$7:$D$206,\"正規\",集計アシストシート!$G$7:$G$206,\"<20\",集計アシストシート!$J$7:$J$206,\">=48\",集計アシストシート!$J$7:$J$206,\"<60\",集計アシストシート!$I$7:$I$206,\">0\")","v":0},"名",{"$f":"COUNTIFS(集計アシストシート!$D$7:$D$206,\"正規\",集計アシストシート!$G$7:$G$206,\"<20\",集計アシストシート!$J$7:$J$206,\">=60\",集計アシストシート!$J$7:$J$206,\"<120\",集計アシストシート!$I$7:$I$206,\">0\")","v":0},"名",{"$f":"COUNTIFS(集計アシストシート!$D$7:$D$206,\"正規\",集計アシストシート!$G$7:$G$206,\"<20\",集計アシストシート!$J$7:$J$206,\">=120\",集計アシストシート!$I$7:$I$206,\">0\")","v":0},"名",{"$f":"SUM(AC219,AE219,AG219,AI219,AK219,AM219,AO219)","v":0},"名"]
[null,null,"20歳代",null,null,null,"名",null,"名",null,"名",null,"名",null,"名",null,"名",null,"名",{"$f":"SUM(F220,H220,J220,L220,N220,P220,R220)","v":0},"名",null,null,"←",null,"20歳代",null,null,{"$f":"COUNTIFS(集計アシストシート!$D$7:$D$206,\"正規\",集計アシストシート!$G$7:$G$206,\">=20\",集計アシストシート!$G$7:$G$206,\"<30\",集計アシストシート!$J$7:$J$206,\"<12\",集計アシストシート!$I$7:$I$206,\">0\")","v":0},"名",{"$f":"COUNTIFS(集計アシストシート!$D$7:$D$206,\"正規\",集計アシストシート!$G$7:$G$206,\">=20\",集計アシストシート!$G$7:$G$206,\"<30\",集計アシストシート!$J$7:$J$206,\">=12\",集計アシストシート!$J$7:$J$206,\"<24\",集計アシストシート!$I$7:$I$206,\">0\")","v":0},"名",{"$f":"COUNTIFS(集計アシストシート!$D$7:$D$206,\"正規\",集計アシストシート!$G$7:$G$206,\">=20\",集計アシストシート!$G$7:$G$206,\"<30\",集計アシストシート!$J$7:$J$206,\">=24\",集計アシストシート!$J$7:$J$206,\"<36\",集計アシストシート!$I$7:$I$206,\">0\")","v":0},"名",{"$f":"COUNTIFS(集計アシストシート!$D$7:$D$206,\"正規\",集計アシストシート!$G$7:$G$206,\">=20\",集計アシストシート!$G$7:$G$206,\"<30\",集計アシストシート!$J$7:$J$206,\">=36\",集計アシストシート!$J$7:$J$206,\"<48\",集計アシストシート!$I$7:$I$206,\">0\")","v":0},"名",{"$f":"COUNTIFS(集計アシストシート!$D$7:$D$206,\"正規\",集計アシストシート!$G$7:$G$206,\">=20\",集計アシストシート!$G$7:$G$206,\"<30\",集計アシストシート!$J$7:$J$206,\">=48\",集計アシストシート!$J$7:$J$206,\"<60\",集計アシストシート!$I$7:$I$206,\">0\")","v":0},"名",{"$f":"COUNTIFS(集計アシストシート!$D$7:$D$206,\"正規\",集計アシストシート!$G$7:$G$206,\">=20\",集計アシストシート!$G$7:$G$206,\"<30\",集計アシストシート!$J$7:$J$206,\">=60\",集計アシストシート!$J$7:$J$206,\"<120\",集計アシストシート!$I$7:$I$206,\">0\")","v":0},"名",{"$f":"COUNTIFS(集計アシストシート!$D$7:$D$206,\"正規\",集計アシストシート!$G$7:$G$206,\">=20\",集計アシストシート!$G$7:$G$206,\"<30\",集計アシストシート!$J$7:$J$206,\">=120\",集計アシストシート!$I$7:$I$206,\">0\")","v":0},"名",0,"名"]
[null,null,"30歳代",null,null,null,"名",null,"名",null,"名",null,"名",null,"名",null,"名",null,"名",0,"名",null,null,"←",null,"30歳代",null,null,{"$f":"COUNTIFS(集計アシストシート!$D$7:$D$206,\"正規\",集計アシストシート!$G$7:$G$206,\">=30\",集計アシストシート!$G$7:$G$206,\"<40\",集計アシストシート!$J$7:$J$206,\"<12\",集計アシストシート!$I$7:$I$206,\">0\")","v":0},"名",{"$f":"COUNTIFS(集計アシストシート!$D$7:$D$206,\"正規\",集計アシストシート!$G$7:$G$206,\">=30\",集計アシストシート!$G$7:$G$206,\"<40\",集計アシストシート!$J$7:$J$206,\">=12\",集計アシストシート!$J$7:$J$206,\"<24\",集計アシストシート!$I$7:$I$206,\">0\")","v":0},"名",{"$f":"COUNTIFS(集計アシストシート!$D$7:$D$206,\"正規\",集計アシストシート!$G$7:$G$206,\">=30\",集計アシストシート!$G$7:$G$206,\"<40\",集計アシストシート!$J$7:$J$206,\">=24\",集計アシストシート!$J$7:$J$206,\"<36\",集計アシストシート!$I$7:$I$206,\">0\")","v":0},"名",{"$f":"COUNTIFS(集計アシストシート!$D$7:$D$206,\"正規\",集計アシストシート!$G$7:$G$206,\">=30\",集計アシストシート!$G$7:$G$206,\"<40\",集計アシストシート!$J$7:$J$206,\">=36\",集計アシストシート!$J$7:$J$206,\"<48\",集計アシストシート!$I$7:$I$206,\">0\")","v":0},"名",{"$f":"COUNTIFS(集計アシストシート!$D$7:$D$206,\"正規\",集計アシストシート!$G$7:$G$206,\">=30\",集計アシストシート!$G$7:$G$206,\"<40\",集計アシストシート!$J$7:$J$206,\">=48\",集計アシストシート!$J$7:$J$206,\"<60\",集計アシストシート!$I$7:$I$206,\">0\")","v":0},"名",{"$f":"COUNTIFS(集計アシストシート!$D$7:$D$206,\"正規\",集計アシストシート!$G$7:$G$206,\">=30\",集計アシストシート!$G$7:$G$206,\"<40\",集計アシストシート!$J$7:$J$206,\">=60\",集計アシストシート!$J$7:$J$206,\"<120\",集計アシストシート!$I$7:$I$206,\">0\")","v":0},"名",{"$f":"COUNTIFS(集計アシストシート!$D$7:$D$206,\"正規\",集計アシストシート!$G$7:$G$206,\">=30\",集計アシストシート!$G$7:$G$206,\"<40\",集計アシストシート!$J$7:$J$206,\">=120\",集計アシストシート!$I$7:$I$206,\">0\")","v":0},"名",0,"名"]
[null,null,"40歳代",null,null,null,"名",null,"名",null,"名",null,"名",null,"名",null,"名",null,"名",0,"名",null,null,"←",null,"40歳代",null,null,{"$f":"COUNTIFS(集計アシストシート!$D$7:$D$206,\"正規\",集計アシストシート!$G$7:$G$206,\">=40\",集計アシストシート!$G$7:$G$206,\"<50\",集計アシストシート!$J$7:$J$206,\"<12\",集計アシストシート!$I$7:$I$206,\">0\")","v":0},"名",{"$f":"COUNTIFS(集計アシストシート!$D$7:$D$206,\"正規\",集計アシストシート!$G$7:$G$206,\">=40\",集計アシストシート!$G$7:$G$206,\"<50\",集計アシストシート!$J$7:$J$206,\">=12\",集計アシストシート!$J$7:$J$206,\"<24\",集計アシストシート!$I$7:$I$206,\">0\")","v":0},"名",{"$f":"COUNTIFS(集計アシストシート!$D$7:$D$206,\"正規\",集計アシストシート!$G$7:$G$206,\">=40\",集計アシストシート!$G$7:$G$206,\"<50\",集計アシストシート!$J$7:$J$206,\">=24\",集計アシストシート!$J$7:$J$206,\"<36\",集計アシストシート!$I$7:$I$206,\">0\")","v":0},"名",{"$f":"COUNTIFS(集計アシストシート!$D$7:$D$206,\"正規\",集計アシストシート!$G$7:$G$206,\">=40\",集計アシストシート!$G$7:$G$206,\"<50\",集計アシストシート!$J$7:$J$206,\">=36\",集計アシストシート!$J$7:$J$206,\"<48\",集計アシストシート!$I$7:$I$206,\">0\")","v":0},"名",{"$f":"COUNTIFS(集計アシストシート!$D$7:$D$206,\"正規\",集計アシストシート!$G$7:$G$206,\">=40\",集計アシストシート!$G$7:$G$206,\"<50\",集計アシストシート!$J$7:$J$206,\">=48\",集計アシストシート!$J$7:$J$206,\"<60\",集計アシストシート!$I$7:$I$206,\">0\")","v":0},"名",{"$f":"COUNTIFS(集計アシストシート!$D$7:$D$206,\"正規\",集計アシストシート!$G$7:$G$206,\">=40\",集計アシストシート!$G$7:$G$206,\"<50\",集計アシストシート!$J$7:$J$206,\">=60\",集計アシストシート!$J$7:$J$206,\"<120\",集計アシストシート!$I$7:$I$206,\">0\")","v":0},"名",{"$f":"COUNTIFS(集計アシストシート!$D$7:$D$206,\"正規\",集計アシストシート!$G$7:$G$206,\">=40\",集計アシストシート!$G$7:$G$206,\"<50\",集計アシストシート!$J$7:$J$206,\">=120\",集計アシストシート!$I$7:$I$206,\">0\")","v":0},"名",0,"名"]
[null,null,"50歳代",null,null,null,"名",null,"名",null,"名",null,"名",null,"名",null,"名",null,"名",0,"名",null,null,"←",null,"50歳代",null,null,{"$f":"COUNTIFS(集計アシストシート!$D$7:$D$206,\"正規\",集計アシストシート!$G$7:$G$206,\">=50\",集計アシストシート!$G$7:$G$206,\"<60\",集計アシストシート!$J$7:$J$206,\"<12\",集計アシストシート!$I$7:$I$206,\">0\")","v":0},"名",{"$f":"COUNTIFS(集計アシストシート!$D$7:$D$206,\"正規\",集計アシストシート!$G$7:$G$206,\">=50\",集計アシストシート!$G$7:$G$206,\"<60\",集計アシストシート!$J$7:$J$206,\">=12\",集計アシストシート!$J$7:$J$206,\"<24\",集計アシストシート!$I$7:$I$206,\">0\")","v":0},"名",{"$f":"COUNTIFS(集計アシストシート!$D$7:$D$206,\"正規\",集計アシストシート!$G$7:$G$206,\">=50\",集計アシストシート!$G$7:$G$206,\"<60\",集計アシストシート!$J$7:$J$206,\">=24\",集計アシストシート!$J$7:$J$206,\"<36\",集計アシストシート!$I$7:$I$206,\">0\")","v":0},"名",{"$f":"COUNTIFS(集計アシストシート!$D$7:$D$206,\"正規\",集計アシストシート!$G$7:$G$206,\">=50\",集計アシストシート!$G$7:$G$206,\"<60\",集計アシストシート!$J$7:$J$206,\">=36\",集計アシストシート!$J$7:$J$206,\"<48\",集計アシストシート!$I$7:$I$206,\">0\")","v":0},"名",{"$f":"COUNTIFS(集計アシストシート!$D$7:$D$206,\"正規\",集計アシストシート!$G$7:$G$206,\">=50\",集計アシストシート!$G$7:$G$206,\"<60\",集計アシストシート!$J$7:$J$206,\">=48\",集計アシストシート!$J$7:$J$206,\"<60\",集計アシストシート!$I$7:$I$206,\">0\")","v":0},"名",{"$f":"COUNTIFS(集計アシストシート!$D$7:$D$206,\"正規\",集計アシストシート!$G$7:$G$206,\">=50\",集計アシストシート!$G$7:$G$206,\"<60\",集計アシストシート!$J$7:$J$206,\">=60\",集計アシストシート!$J$7:$J$206,\"<120\",集計アシストシート!$I$7:$I$206,\">0\")","v":0},"名",{"$f":"COUNTIFS(集計アシストシート!$D$7:$D$206,\"正規\",集計アシストシート!$G$7:$G$206,\">=50\",集計アシストシート!$G$7:$G$206,\"<60\",集計アシストシート!$G$7:$G$206,\"<60\",集計アシストシート!$J$7:$J$206,\">=120\",集計アシストシート!$I$7:$I$206,\">0\")","v":0},"名",0,"名"]
[null,null,"60歳以上",null,null,null,"名",null,"名",null,"名",null,"名",null,"名",null,"名",null,"名",0,"名",null,null,"←",null,"60歳以上",null,null,{"$f":"COUNTIFS(集計アシストシート!$D$7:$D$206,\"正規\",集計アシストシート!$G$7:$G$206,\">=60\",集計アシストシート!$J$7:$J$206,\"<12\",集計アシストシート!$I$7:$I$206,\">0\")","v":0},"名",{"$f":"COUNTIFS(集計アシストシート!$D$7:$D$206,\"正規\",集計アシストシート!$G$7:$G$206,\">=60\",集計アシストシート!$J$7:$J$206,\">=12\",集計アシストシート!$J$7:$J$206,\"<24\",集計アシストシート!$I$7:$I$206,\">0\")","v":0},"名",{"$f":"COUNTIFS(集計アシストシート!$D$7:$D$206,\"正規\",集計アシストシート!$G$7:$G$206,\">=60\",集計アシストシート!$J$7:$J$206,\">=24\",集計アシストシート!$J$7:$J$206,\"<36\",集計アシストシート!$I$7:$I$206,\">0\")","v":0},"名",{"$f":"COUNTIFS(集計アシストシート!$D$7:$D$206,\"正規\",集計アシストシート!$G$7:$G$206,\">=60\",集計アシストシート!$J$7:$J$206,\">=36\",集計アシストシート!$J$7:$J$206,\"<48\",集計アシストシート!$I$7:$I$206,\">0\")","v":0},"名",{"$f":"COUNTIFS(集計アシストシート!$D$7:$D$206,\"正規\",集計アシストシート!$G$7:$G$206,\">=60\",集計アシストシート!$J$7:$J$206,\">=48\",集計アシストシート!$J$7:$J$206,\"<60\",集計アシストシート!$I$7:$I$206,\">0\")","v":0},"名",{"$f":"COUNTIFS(集計アシストシート!$D$7:$D$206,\"正規\",集計アシストシート!$G$7:$G$206,\">=60\",集計アシストシート!$J$7:$J$206,\">=60\",集計アシストシート!$J$7:$J$206,\"<120\",集計アシストシート!$I$7:$I$206,\">0\")","v":0},"名",{"$f":"COUNTIFS(集計アシストシート!$D$7:$D$206,\"正規\",集計アシストシート!$G$7:$G$206,\">=60\",集計アシストシート!$J$7:$J$206,\">=120\",集計アシストシート!$I$7:$I$206,\">0\")","v":0},"名",0,"名"]
[null,null,"合計",null,null,{"$f":"IF(F219+F220+F221+F222+F223+F224=0,\"\",F219+F220+F221+F222+F223+F224)","v":""},"名",{"$f":"IF(H219+H220+H221+H222+H223+H224=0,\"\",H219+H220+H221+H222+H223+H224)","v":""},"名",{"$f":"IF(J219+J220+J221+J222+J223+J224=0,\"\",J219+J220+J221+J222+J223+J224)","v":""},"名",{"$f":"IF(L219+L220+L221+L222+L223+L224=0,\"\",L219+L220+L221+L222+L223+L224)","v":""},"名",{"$f":"IF(N219+N220+N221+N222+N223+N224=0,\"\",N219+N220+N221+N222+N223+N224)","v":""},"名",{"$f":"IF(P219+P220+P221+P222+P223+P224=0,\"\",P219+P220+P221+P222+P223+P224)","v":""},"名",{"$f":"IF(R219+R220+R221+R222+R223+R224=0,\"\",R219+R220+R221+R222+R223+R224)","v":""},"名",0,"名",null,null,"←",null,"合計",null,null,{"$f":"IF(AC219+AC220+AC221+AC222+AC223+AC224=0,\"\",AC219+AC220+AC221+AC222+AC223+AC224)","v":""},"名",{"$f":"IF(AE219+AE220+AE221+AE222+AE223+AE224=0,\"\",AE219+AE220+AE221+AE222+AE223+AE224)","v":""},"名",{"$f":"IF(AG219+AG220+AG221+AG222+AG223+AG224=0,\"\",AG219+AG220+AG221+AG222+AG223+AG224)","v":""},"名",{"$f":"IF(AI219+AI220+AI221+AI222+AI223+AI224=0,\"\",AI219+AI220+AI221+AI222+AI223+AI224)","v":""},"名",{"$f":"IF(AK219+AK220+AK221+AK222+AK223+AK224=0,\"\",AK219+AK220+AK221+AK222+AK223+AK224)","v":""},"名",{"$f":"IF(AM219+AM220+AM221+AM222+AM223+AM224=0,\"\",AM219+AM220+AM221+AM222+AM223+AM224)","v":""},"名",{"$f":"IF(AO219+AO220+AO221+AO222+AO223+AO224=0,\"\",AO219+AO220+AO221+AO222+AO223+AO224)","v":""},"名",{"$f":"SUM(AC225,AE225,AG225,AI225,AK225,AM225,AO225)","v":0},"名"]
[null,"非正規（非常勤）","勤続年数",null,null,"1年未満",null,"2年未満",null,"3年未満",null,"4年未満",null,"5年未満",null,"5～10年未満",null,"10年以上",null,"合計",null,null,null,"←","非正規（非常勤）","勤続年数",null,null,"1年未満",null,"2年未満",null,"3年未満",null,"4年未満",null,"5年未満",null,"5～10年未満",null,"10年以上",null,"合計"]
[null,null,"20歳未満",null,null,null,"名",null,"名",null,"名",null,"名",null,"名",null,"名",null,"名",{"$f":"SUM(F227,H227,J227,L227,N227,P227,R227)","v":0},"名",null,null,"←",null,"20歳未満",null,null,{"$f":"COUNTIFS(集計アシストシート!$D$7:$D$206,\"非正規\",集計アシストシート!$G$7:$G$206,\"<20\",集計アシストシート!$J$7:$J$206,\"<12\",集計アシストシート!$I$7:$I$206,\">0\")","v":0},"名",{"$f":"COUNTIFS(集計アシストシート!$D$7:$D$206,\"非正規\",集計アシストシート!$G$7:$G$206,\"<20\",集計アシストシート!$J$7:$J$206,\">=12\",集計アシストシート!$J$7:$J$206,\"<24\",集計アシストシート!$I$7:$I$206,\">0\")","v":0},"名",{"$f":"COUNTIFS(集計アシストシート!$D$7:$D$206,\"非正規\",集計アシストシート!$G$7:$G$206,\"<20\",集計アシストシート!$J$7:$J$206,\">=24\",集計アシストシート!$J$7:$J$206,\"<36\",集計アシストシート!$I$7:$I$206,\">0\")","v":0},"名",{"$f":"COUNTIFS(集計アシストシート!$D$7:$D$206,\"非正規\",集計アシストシート!$G$7:$G$206,\"<20\",集計アシストシート!$J$7:$J$206,\">=36\",集計アシストシート!$J$7:$J$206,\"<48\",集計アシストシート!$I$7:$I$206,\">0\")","v":0},"名",{"$f":"COUNTIFS(集計アシストシート!$D$7:$D$206,\"非正規\",集計アシストシート!$G$7:$G$206,\"<20\",集計アシストシート!$J$7:$J$206,\">=48\",集計アシストシート!$J$7:$J$206,\"<60\",集計アシストシート!$I$7:$I$206,\">0\")","v":0},"名",{"$f":"COUNTIFS(集計アシストシート!$D$7:$D$206,\"非正規\",集計アシストシート!$G$7:$G$206,\"<20\",集計アシストシート!$J$7:$J$206,\">=60\",集計アシストシート!$J$7:$J$206,\"<120\",集計アシストシート!$I$7:$I$206,\">0\")","v":0},"名",{"$f":"COUNTIFS(集計アシストシート!$D$7:$D$206,\"非正規\",集計アシストシート!$G$7:$G$206,\"<20\",集計アシストシート!$J$7:$J$206,\">=120\",集計アシストシート!$I$7:$I$206,\">0\")","v":0},"名",{"$f":"SUM(AC227,AE227,AG227,AI227,AK227,AM227,AO227)","v":0},"名"]
[null,null,"20歳代",null,null,null,"名",null,"名",null,"名",null,"名",null,"名",null,"名",null,"名",{"$f":"SUM(F228,H228,J228,L228,N228,P228,R228)","v":0},"名",null,null,"←",null,"20歳代",null,null,{"$f":"COUNTIFS(集計アシストシート!$D$7:$D$206,\"非正規\",集計アシストシート!$G$7:$G$206,\">=20\",集計アシストシート!$G$7:$G$206,\"<30\",集計アシストシート!$J$7:$J$206,\"<12\",集計アシストシート!$I$7:$I$206,\">0\")","v":0},"名",{"$f":"COUNTIFS(集計アシストシート!$D$7:$D$206,\"非正規\",集計アシストシート!$G$7:$G$206,\">=20\",集計アシストシート!$G$7:$G$206,\"<30\",集計アシストシート!$J$7:$J$206,\">=12\",集計アシストシート!$J$7:$J$206,\"<24\",集計アシストシート!$I$7:$I$206,\">0\")","v":0},"名",{"$f":"COUNTIFS(集計アシストシート!$D$7:$D$206,\"非正規\",集計アシストシート!$G$7:$G$206,\">=20\",集計アシストシート!$G$7:$G$206,\"<30\",集計アシストシート!$J$7:$J$206,\">=24\",集計アシストシート!$J$7:$J$206,\"<36\",集計アシストシート!$I$7:$I$206,\">0\")","v":0},"名",{"$f":"COUNTIFS(集計アシストシート!$D$7:$D$206,\"非正規\",集計アシストシート!$G$7:$G$206,\">=20\",集計アシストシート!$G$7:$G$206,\"<30\",集計アシストシート!$J$7:$J$206,\">=36\",集計アシストシート!$J$7:$J$206,\"<48\",集計アシストシート!$I$7:$I$206,\">0\")","v":0},"名",{"$f":"COUNTIFS(集計アシストシート!$D$7:$D$206,\"非正規\",集計アシストシート!$G$7:$G$206,\">=20\",集計アシストシート!$G$7:$G$206,\"<30\",集計アシストシート!$J$7:$J$206,\">=48\",集計アシストシート!$J$7:$J$206,\"<60\",集計アシストシート!$I$7:$I$206,\">0\")","v":0},"名",{"$f":"COUNTIFS(集計アシストシート!$D$7:$D$206,\"非正規\",集計アシストシート!$G$7:$G$206,\">=20\",集計アシストシート!$G$7:$G$206,\"<30\",集計アシストシート!$J$7:$J$206,\">=60\",集計アシストシート!$J$7:$J$206,\"<120\",集計アシストシート!$I$7:$I$206,\">0\")","v":0},"名",{"$f":"COUNTIFS(集計アシストシート!$D$7:$D$206,\"非正規\",集計アシストシート!$G$7:$G$206,\">=20\",集計アシストシート!$G$7:$G$206,\"<30\",集計アシストシート!$J$7:$J$206,\">=120\",集計アシストシート!$I$7:$I$206,\">0\")","v":0},"名",0,"名"]
[null,null,"30歳代",null,null,null,"名",null,"名",null,"名",null,"名",null,"名",null,"名",null,"名",0,"名",null,null,"←",null,"30歳代",null,null,{"$f":"COUNTIFS(集計アシストシート!$D$7:$D$206,\"非正規\",集計アシストシート!$G$7:$G$206,\">=30\",集計アシストシート!$G$7:$G$206,\"<40\",集計アシストシート!$J$7:$J$206,\"<12\",集計アシストシート!$I$7:$I$206,\">0\")","v":0},"名",{"$f":"COUNTIFS(集計アシストシート!$D$7:$D$206,\"非正規\",集計アシストシート!$G$7:$G$206,\">=30\",集計アシストシート!$G$7:$G$206,\"<40\",集計アシストシート!$J$7:$J$206,\">=12\",集計アシストシート!$J$7:$J$206,\"<24\",集計アシストシート!$I$7:$I$206,\">0\")","v":0},"名",{"$f":"COUNTIFS(集計アシストシート!$D$7:$D$206,\"非正規\",集計アシストシート!$G$7:$G$206,\">=30\",集計アシストシート!$G$7:$G$206,\"<40\",集計アシストシート!$J$7:$J$206,\">=24\",集計アシストシート!$J$7:$J$206,\"<36\",集計アシストシート!$I$7:$I$206,\">0\")","v":0},"名",{"$f":"COUNTIFS(集計アシストシート!$D$7:$D$206,\"非正規\",集計アシストシート!$G$7:$G$206,\">=30\",集計アシストシート!$G$7:$G$206,\"<40\",集計アシストシート!$J$7:$J$206,\">=36\",集計アシストシート!$J$7:$J$206,\"<48\",集計アシストシート!$I$7:$I$206,\">0\")","v":0},"名",{"$f":"COUNTIFS(集計アシストシート!$D$7:$D$206,\"非正規\",集計アシストシート!$G$7:$G$206,\">=30\",集計アシストシート!$G$7:$G$206,\"<40\",集計アシストシート!$J$7:$J$206,\">=48\",集計アシストシート!$J$7:$J$206,\"<60\",集計アシストシート!$I$7:$I$206,\">0\")","v":0},"名",{"$f":"COUNTIFS(集計アシストシート!$D$7:$D$206,\"非正規\",集計アシストシート!$G$7:$G$206,\">=30\",集計アシストシート!$G$7:$G$206,\"<40\",集計アシストシート!$J$7:$J$206,\">=60\",集計アシストシート!$J$7:$J$206,\"<120\",集計アシストシート!$I$7:$I$206,\">0\")","v":0},"名",{"$f":"COUNTIFS(集計アシストシート!$D$7:$D$206,\"非正規\",集計アシストシート!$G$7:$G$206,\">=30\",集計アシストシート!$G$7:$G$206,\"<40\",集計アシストシート!$J$7:$J$206,\">=120\",集計アシストシート!$I$7:$I$206,\">0\")","v":0},"名",0,"名"]
[null,null,"40歳代",null,null,null,"名",null,"名",null,"名",null,"名",null,"名",null,"名",null,"名",0,"名",null,null,"←",null,"40歳代",null,null,{"$f":"COUNTIFS(集計アシストシート!$D$7:$D$206,\"非正規\",集計アシストシート!$G$7:$G$206,\">=40\",集計アシストシート!$G$7:$G$206,\"<50\",集計アシストシート!$J$7:$J$206,\"<12\",集計アシストシート!$I$7:$I$206,\">0\")","v":0},"名",{"$f":"COUNTIFS(集計アシストシート!$D$7:$D$206,\"非正規\",集計アシストシート!$G$7:$G$206,\">=40\",集計アシストシート!$G$7:$G$206,\"<50\",集計アシストシート!$J$7:$J$206,\">=12\",集計アシストシート!$J$7:$J$206,\"<24\",集計アシストシート!$I$7:$I$206,\">0\")","v":0},"名",{"$f":"COUNTIFS(集計アシストシート!$D$7:$D$206,\"非正規\",集計アシストシート!$G$7:$G$206,\">=40\",集計アシストシート!$G$7:$G$206,\"<50\",集計アシストシート!$J$7:$J$206,\">=24\",集計アシストシート!$J$7:$J$206,\"<36\",集計アシストシート!$I$7:$I$206,\">0\")","v":0},"名",{"$f":"COUNTIFS(集計アシストシート!$D$7:$D$206,\"非正規\",集計アシストシート!$G$7:$G$206,\">=40\",集計アシストシート!$G$7:$G$206,\"<50\",集計アシストシート!$J$7:$J$206,\">=36\",集計アシストシート!$J$7:$J$206,\"<48\",集計アシストシート!$I$7:$I$206,\">0\")","v":0},"名",{"$f":"COUNTIFS(集計アシストシート!$D$7:$D$206,\"非正規\",集計アシストシート!$G$7:$G$206,\">=40\",集計アシストシート!$G$7:$G$206,\"<50\",集計アシストシート!$J$7:$J$206,\">=48\",集計アシストシート!$J$7:$J$206,\"<60\",集計アシストシート!$I$7:$I$206,\">0\")","v":0},"名",{"$f":"COUNTIFS(集計アシストシート!$D$7:$D$206,\"非正規\",集計アシストシート!$G$7:$G$206,\">=40\",集計アシストシート!$G$7:$G$206,\"<50\",集計アシストシート!$J$7:$J$206,\">=60\",集計アシストシート!$J$7:$J$206,\"<120\",集計アシストシート!$I$7:$I$206,\">0\")","v":0},"名",{"$f":"COUNTIFS(集計アシストシート!$D$7:$D$206,\"非正規\",集計アシストシート!$G$7:$G$206,\">=40\",集計アシストシート!$G$7:$G$206,\"<50\",集計アシストシート!$J$7:$J$206,\">=120\",集計アシストシート!$I$7:$I$206,\">0\")","v":0},"名",0,"名"]
[null,null,"50歳代",null,null,null,"名",null,"名",null,"名",null,"名",null,"名",null,"名",null,"名",0,"名",null,null,"←",null,"50歳代",null,null,{"$f":"COUNTIFS(集計アシストシート!$D$7:$D$206,\"非正規\",集計アシストシート!$G$7:$G$206,\">=50\",集計アシストシート!$G$7:$G$206,\"<60\",集計アシストシート!$J$7:$J$206,\"<12\",集計アシストシート!$I$7:$I$206,\">0\")","v":0},"名",{"$f":"COUNTIFS(集計アシストシート!$D$7:$D$206,\"非正規\",集計アシストシート!$G$7:$G$206,\">=50\",集計アシストシート!$G$7:$G$206,\"<60\",集計アシストシート!$J$7:$J$206,\">=12\",集計アシストシート!$J$7:$J$206,\"<24\",集計アシストシート!$I$7:$I$206,\">0\")","v":0},"名",{"$f":"COUNTIFS(集計アシストシート!$D$7:$D$206,\"非正規\",集計アシストシート!$G$7:$G$206,\">=50\",集計アシストシート!$G$7:$G$206,\"<60\",集計アシストシート!$J$7:$J$206,\">=24\",集計アシストシート!$J$7:$J$206,\"<36\",集計アシストシート!$I$7:$I$206,\">0\")","v":0},"名",{"$f":"COUNTIFS(集計アシストシート!$D$7:$D$206,\"非正規\",集計アシストシート!$G$7:$G$206,\">=50\",集計アシストシート!$G$7:$G$206,\"<60\",集計アシストシート!$J$7:$J$206,\">=36\",集計アシストシート!$J$7:$J$206,\"<48\",集計アシストシート!$I$7:$I$206,\">0\")","v":0},"名",{"$f":"COUNTIFS(集計アシストシート!$D$7:$D$206,\"非正規\",集計アシストシート!$G$7:$G$206,\">=50\",集計アシストシート!$G$7:$G$206,\"<60\",集計アシストシート!$J$7:$J$206,\">=48\",集計アシストシート!$J$7:$J$206,\"<60\",集計アシストシート!$I$7:$I$206,\">0\")","v":0},"名",{"$f":"COUNTIFS(集計アシストシート!$D$7:$D$206,\"非正規\",集計アシストシート!$G$7:$G$206,\">=50\",集計アシストシート!$G$7:$G$206,\"<60\",集計アシストシート!$J$7:$J$206,\">=60\",集計アシストシート!$J$7:$J$206,\"<120\",集計アシストシート!$I$7:$I$206,\">0\")","v":0},"名",{"$f":"COUNTIFS(集計アシストシート!$D$7:$D$206,\"非正規\",集計アシストシート!$G$7:$G$206,\">=50\",集計アシストシート!$G$7:$G$206,\"<60\",集計アシストシート!$G$7:$G$206,\"<60\",集計アシストシート!$J$7:$J$206,\">=120\",集計アシストシート!$I$7:$I$206,\">0\")","v":0},"名",0,"名"]
[null,null,"60歳以上",null,null,null,"名",null,"名",null,"名",null,"名",null,"名",null,"名",null,"名",0,"名",null,null,"←",null,"60歳以上",null,null,{"$f":"COUNTIFS(集計アシストシート!$D$7:$D$206,\"非正規\",集計アシストシート!$G$7:$G$206,\">=60\",集計アシストシート!$J$7:$J$206,\"<12\",集計アシストシート!$I$7:$I$206,\">0\")","v":0},"名",{"$f":"COUNTIFS(集計アシストシート!$D$7:$D$206,\"非正規\",集計アシストシート!$G$7:$G$206,\">=60\",集計アシストシート!$J$7:$J$206,\">=12\",集計アシストシート!$J$7:$J$206,\"<24\",集計アシストシート!$I$7:$I$206,\">0\")","v":0},"名",{"$f":"COUNTIFS(集計アシストシート!$D$7:$D$206,\"非正規\",集計アシストシート!$G$7:$G$206,\">=60\",集計アシストシート!$J$7:$J$206,\">=24\",集計アシストシート!$J$7:$J$206,\"<36\",集計アシストシート!$I$7:$I$206,\">0\")","v":0},"名",{"$f":"COUNTIFS(集計アシストシート!$D$7:$D$206,\"非正規\",集計アシストシート!$G$7:$G$206,\">=60\",集計アシストシート!$J$7:$J$206,\">=36\",集計アシストシート!$J$7:$J$206,\"<48\",集計アシストシート!$I$7:$I$206,\">0\")","v":0},"名",{"$f":"COUNTIFS(集計アシストシート!$D$7:$D$206,\"非正規\",集計アシストシート!$G$7:$G$206,\">=60\",集計アシストシート!$J$7:$J$206,\">=48\",集計アシストシート!$J$7:$J$206,\"<60\",集計アシストシート!$I$7:$I$206,\">0\")","v":0},"名",{"$f":"COUNTIFS(集計アシストシート!$D$7:$D$206,\"非正規\",集計アシストシート!$G$7:$G$206,\">=60\",集計アシストシート!$J$7:$J$206,\">=60\",集計アシストシート!$J$7:$J$206,\"<120\",集計アシストシート!$I$7:$I$206,\">0\")","v":0},"名",{"$f":"COUNTIFS(集計アシストシート!$D$7:$D$206,\"非正規\",集計アシストシート!$G$7:$G$206,\">=60\",集計アシストシート!$J$7:$J$206,\">=120\",集計アシストシート!$I$7:$I$206,\">0\")","v":0},"名",0,"名"]
[null,null,"合計",null,null,{"$f":"IF(F227+F228+F229+F230+F231+F232=0,\"\",F227+F228+F229+F230+F231+F232)","v":""},"名",{"$f":"IF(H227+H228+H229+H230+H231+H232=0,\"\",H227+H228+H229+H230+H231+H232)","v":""},"名",{"$f":"IF(J227+J228+J229+J230+J231+J232=0,\"\",J227+J228+J229+J230+J231+J232)","v":""},"名",{"$f":"IF(L227+L228+L229+L230+L231+L232=0,\"\",L227+L228+L229+L230+L231+L232)","v":""},"名",{"$f":"IF(N227+N228+N229+N230+N231+N232=0,\"\",N227+N228+N229+N230+N231+N232)","v":""},"名",{"$f":"IF(P227+P228+P229+P230+P231+P232=0,\"\",P227+P228+P229+P230+P231+P232)","v":""},"名",{"$f":"IF(R227+R228+R229+R230+R231+R232=0,\"\",R227+R228+R229+R230+R231+R232)","v":""},"名",0,"名",null,null,"←",null,"合計",null,null,{"$f":"IF(AC227+AC228+AC229+AC230+AC231+AC232=0,\"\",AC227+AC228+AC229+AC230+AC231+AC232)","v":""},"名",{"$f":"IF(AE227+AE228+AE229+AE230+AE231+AE232=0,\"\",AE227+AE228+AE229+AE230+AE231+AE232)","v":""},"名",{"$f":"IF(AG227+AG228+AG229+AG230+AG231+AG232=0,\"\",AG227+AG228+AG229+AG230+AG231+AG232)","v":""},"名",{"$f":"IF(AI227+AI228+AI229+AI230+AI231+AI232=0,\"\",AI227+AI228+AI229+AI230+AI231+AI232)","v":""},"名",{"$f":"IF(AK227+AK228+AK229+AK230+AK231+AK232=0,\"\",AK227+AK228+AK229+AK230+AK231+AK232)","v":""},"名",{"$f":"IF(AM227+AM228+AM229+AM230+AM231+AM232=0,\"\",AM227+AM228+AM229+AM230+AM231+AM232)","v":""},"名",{"$f":"IF(AO227+AO228+AO229+AO230+AO231+AO232=0,\"\",AO227+AO228+AO229+AO230+AO231+AO232)","v":""},"名",0,"名"]
[]
["16.非正規介護職員の時給"]
["●","貴事業所の非正規職員の介護職員の採用募集時における時給をご記入ください。"]
["●","当設問においては、「介護福祉士」「介護職員初任者研修課程修了（旧ヘルパー2級相当）」の資格の有無による時給をご記入ください。金額に幅がある場合は、下限の金額を回答してください。"]
[]
["●","非正規職員とは、①雇用期間の定めがあり、雇用関係がある職員（派遣職員以外）、②雇用保険加入者（週20時間以上勤務、31日以上の雇用見込みがある）とします。月額・日給支給の場合は時給に換算してご記入ください。"]
[]
[]
[null,"資格の有無",null,null,null,null,null,null,null,null,null,"金額"]
[null,"資格\nあり","介護福祉士",null,null,null,null,null,null,null,null,null,null,null,null,"円"]
[null,null,"実務者研修修了者（旧ヘルパー1級相当）",null,null,null,null,null,null,null,null,null,null,null,null,"円"]
[null,null,"介護職員初任者研修課程修了（旧ヘルパー2級相当）",null,null,null,null,null,null,null,null,null,null,null,null,"円"]
[null,"資格　なし",null,null,null,null,null,null,null,null,null,null,null,null,null,"円"]
[]
["17.正規介護職員における2018年4月と2019年4月の2か年の給与等の状況"]
["●","生活相談員1名、正規介護職員6名までの給与等の状況をご記入ください。\n生活相談員が複数いる場合または介護職員等と兼務している場合は、①専従の生活相談員であり、②賃金が高い職員を抽出してください。"]
[null,"なお2018年・2019年ともに在籍している職員を対象とします（いずれかの4月時点に退職、休職、復職等により在籍ていない職員は対象から除外する）。"]
[]
[null,"記入上の注意点"]
[]
[null,"項目",null,null,"記入上の注意点"]
[null,"年齢",null,null,"2019年3月31日における年齢をご記入ください。月数は切り捨ててください。"]
[null,"勤続年数\n（月数）",null,null,"2019年3月31日時点での貴施設における勤続年数（月数）（入社月を含む）。なお、当該施設以前に同一法人の経営する事業所などに勤務していた場合は、そこでの勤続年数も含めて算出してください。また、現職と異なる職種であっても、処遇等の検討時に勤続年数（月数）を考慮している場合は、現職の勤続年数（月数）に含めてください。"]
[null,"本給\n（単月分）",null,null,"2018年4月と2019年4月の2か年の本給（月給か、年俸の方は12で除した額）の金額をご記入ください。（当設問における「本給」とは、各種手当を除いた金額を指す）。"]
[null,"諸手当\n（単月分）",null,null,"2018年4月と2019年4月の2か年の手当の金額（総額）をご記入ください。\nなお、時間外手当は時間外勤務時間、資格手当は該当する資格名（複数該当する場合は、主業務に該当する資格とする）をそれぞれ回答してください。\n\nまた、「介護職員処遇改善加算」の賃金改善額を「処遇改善加算相当額」に回答してください。一時金として支給している場合は、12か月で除した1か月当たりの金額を回答してください。\n上記以外の手当を支給している場合は、その他の手当に合算してご記入ください。"]
[null,"一時金\n（年間総額）",null,null,"2018年度（2018年4月1日から2019年3月31日まで）に支給された一時金（賞与・その他の臨時支給分（処遇改善加算分を含まない）の合計金額をご記入ください。一時金がない場合は、0（ゼロ）をご記入ください。"]
[]
[null,"記入例　正規介護職員①"]
[]
["性別",null,null,"男",null,"年齢",null,null,32,null,"歳",null,"勤続年数\n（月数）",null,null,60,null,"か月"]
["2018年度（H30.4月）",null,null,null,null,null,null,null,"⇒　　昇給した場合　　⇒","2019年度（H31.4月）",null,null,null,null,null,null,null,"⇒　　1年間の増減差　　⇒","H31 - H30 増減差　\n（入力確認用）"]
["本給（単月分）",null,null,null,190000,null,null,"円",null,"本給（単月分）",null,null,null,193500,null,null,"円",null,{"$f":"N265-E265","v":3500},null,null,"円"]
["諸手当（単月分）\n　①～④の合計",null,null,null,{"$f":"SUM(E267+E270+E272+E273)","v":45500},null,null,"円",null,"諸手当（単月分）\n　①～④の合計",null,null,null,{"$f":"SUM(N267+N270+N272+N273)","v":66500},null,null,"円",null,{"$f":"N266-E266","v":21000},null,null,"円"]
["①時間外手当",null,null,null,4500,null,null,"円",null,"①時間外手当",null,null,null,13500,null,null,"円",null,9000,null,null,"円"]
["時間外勤務時間",null,null,null,3,null,null,"時間",null,"時間外勤務時間",null,null,null,9,null,null,"時間",null,6,null,null,"時間"]
["1時間当たり手当額",null,null,null,{"$f":"E267/E268","v":1500},null,null,"円",null,"1時間当たり手当額",null,null,null,{"$f":"N267/N268","v":1500},null,null,"円",null,"-"]
["②資格手当",null,null,null,13000,null,null,"円",null,"②資格手当",null,null,null,13000,null,null,"円",null,0,null,null,"円"]
["資格名※",null,null,null,"1介護福祉士",null,null,null,null,"資格名※",null,null,null,"1介護福祉士",null,null,null,null,"-"]
["③処遇改善加算相当額",null,null,null,15000,null,null,"円",null,"③処遇改善加算相当額",null,null,null,27000,null,null,"円",null,{"$f":"N272-E272","v":12000},null,null,"円"]
["④その他手当",null,null,null,13000,null,null,"円",null,"④その他手当",null,null,null,13000,null,null,"円",null,{"$f":"N273-E273","v":0},null,null,"円"]
["一時金（年間総額）",null,null,null,924000,null,null,"円"]
[]
["以下、7区分①～⑦にご記入ください。"]
[null,"生活相談員（専従）　"]
[]
["性別",null,null,null,null,"年齢",null,null,null,null,"歳",null,"勤続年数\n（月数）",null,null,null,null,"か月"]
["2018年度（H30.4月）",null,null,null,null,null,null,null,"⇒　　昇給した場合　　⇒","2019年度（H31.4月）",null,null,null,null,null,null,null,"⇒　　1年間の増減差　　⇒","H31 - H30 増減差　\n（入力確認用）"]
["本給（単月分）",null,null,null,null,null,null,"円",null,"本給（単月分）",null,null,null,null,null,null,"円",null,{"$f":"N281-E281","v":0},null,null,"円"]
["諸手当（単月分）\n　①～④の合計",null,null,null,{"$f":"SUM(E283,E286,E288,E289)","v":0},null,null,"円",null,"諸手当（単月分）\n　①～④の合計",null,null,null,{"$f":"SUM(N283,N286,N288,N289)","v":0},null,null,"円",null,0,null,null,"円"]
["①時間外手当",null,null,null,null,null,null,"円",null,"①時間外手当",null,null,null,null,null,null,"円",null,0,null,null,"円"]
["時間外勤務時間",null,null,null,null,null,null,"時間",null,"時間外勤務時間",null,null,null,null,null,null,"時間",null,0,null,null,"時間"]
["1時間あたり手当額",null,null,null,{"$f":"IF(E283=0,\"\",E283/E284)","v":""},null,null,"円",null,"1時間あたり手当額",null,null,null,{"$f":"IF(N283=0,\"\",N283/N284)","v":""},null,null,"円",null,"-"]
["②資格手当",null,null,null,null,null,null,"円",null,"②資格手当",null,null,null,null,null,null,"円",null,0,null,null,"円"]
["資格名※",null,null,null,null,null,null,null,null,"資格名※",null,null,null,null,null,null,null,null,"-"]
["③処遇改善加算相当額",null,null,null,null,null,null,"円",null,"③処遇改善加算相当額",null,null,null,null,null,null,"円",null,{"$f":"N288-E288","v":0},null,null,"円"]
["④その他手当",null,null,null,null,null,null,"円",null,"④その他手当",null,null,null,null,null,null,"円",null,{"$f":"N289-E289","v":0},null,null,"円"]
["一時金（年間総額）",null,null,null,null,null,null,"円"]
[null,"※資格名の選択肢"]
[null,"1．介護福祉士　　2．社会福祉士　　3．精神保健福祉士　　4．介護支援専門員　　\n5．介護職員初任者研修課程修了（旧ヘルパー1・2級相当）　　6．認知症介護指導者養成研修課程修了\n7．その他"]
[]
[]
[]
[null,"正規介護職員①"]
[]
["性別",null,null,null,null,"年齢",null,null,null,null,"歳",null,"勤続年数\n（月数）",null,null,null,null,"か月"]
["2018年度（H30.4月）",null,null,null,null,null,null,null,"⇒　　昇給した場合　　⇒","2019年度（H31.4月）",null,null,null,null,null,null,null,"⇒　　1年間の増減差　　⇒","H31 - H30 増減差　\n（入力確認用）"]
["本給（単月分）",null,null,null,null,null,null,"円",null,"本給（単月分）",null,null,null,null,null,null,"円",null,{"$f":"N300-E300","v":0},null,null,"円"]
["諸手当（単月分）\n　①～④の合計",null,null,null,{"$f":"SUM(E302,E305,E307,E308)","v":0},null,null,"円",null,"諸手当（単月分）\n　①～④の合計",null,null,null,{"$f":"SUM(N302,N305,N307,N308)","v":0},null,null,"円",null,0,null,null,"円"]
["①時間外手当",null,null,null,null,null,null,"円",null,"①時間外手当",null,null,null,null,null,null,"円",null,0,null,null,"円"]
["時間外勤務時間",null,null,null,null,null,null,"時間",null,"時間外勤務時間",null,null,null,null,null,null,"時間",null,0,null,null,"時間"]
["1時間あたり手当額",null,null,null,{"$f":"IF(E302=0,\"\",E302/E303)","v":""},null,null,"円",null,"1時間あたり手当額",null,null,null,{"$f":"IF(N302=0,\"\",N302/N303)","v":""},null,null,"円",null,"-"]
["②資格手当",null,null,null,null,null,null,"円",null,"②資格手当",null,null,null,null,null,null,"円",null,{"$f":"N305-E305","v":0},null,null,"円"]
["資格名※",null,null,null,null,null,null,null,null,"資格名※",null,null,null,null,null,null,null,null,"-"]
["③処遇改善加算相当額",null,null,null,null,null,null,"円",null,"③処遇改善加算相当額",null,null,null,null,null,null,"円",null,{"$f":"N307-E307","v":0},null,null,"円"]
["④その他手当",null,null,null,null,null,null,"円",null,"④その他手当",null,null,null,null,null,null,"円",null,{"$f":"N308-E308","v":0},null,null,"円"]
["一時金（年間総額）",null,null,null,null,null,null,"円"]
[]
[null,"正規介護職員②"]
[]
["性別",null,null,null,null,"年齢",null,null,null,null,"歳",null,"勤続年数\n（月数）",null,null,null,null,"か月"]
["2018年度（H30.4月）",null,null,null,null,null,null,null,"⇒　　昇給した場合　　⇒","2019年度（H31.4月）",null,null,null,null,null,null,null,"⇒　　1年間の増減差　　⇒","H31 - H30 増減差　\n（入力確認用）"]
["本給（単月分）",null,null,null,null,null,null,"円",null,"本給（単月分）",null,null,null,null,null,null,"円",null,{"$f":"N315-E315","v":0},null,null,"円"]
["諸手当（単月分）\n　①～④の合計",null,null,null,{"$f":"SUM(E317,E320,E322,E323)","v":0},null,null,"円",null,"諸手当（単月分）\n　①～④の合計",null,null,null,{"$f":"SUM(N317,N320,N322,N323)","v":0},null,null,"円",null,0,null,null,"円"]
["①時間外手当",null,null,null,null,null,null,"円",null,"①時間外手当",null,null,null,null,null,null,"円",null,0,null,null,"円"]
["時間外勤務時間",null,null,null,null,null,null,"時間",null,"時間外勤務時間",null,null,null,null,null,null,"時間",null,0,null,null,"時間"]
["1時間あたり手当額",null,null,null,{"$f":"IF(E317=0,\"\",E317/E318)","v":""},null,null,"円",null,"1時間あたり手当額",null,null,null,{"$f":"IF(N317=0,\"\",N317/N318)","v":""},null,null,"円",null,"-"]
["②資格手当",null,null,null,null,null,null,"円",null,"②資格手当",null,null,null,null,null,null,"円",null,{"$f":"N320-E320","v":0},null,null,"円"]
["資格名※",null,null,null,null,null,null,null,null,"資格名※",null,null,null,null,null,null,null,null,"-"]
["③処遇改善加算相当額",null,null,null,null,null,null,"円",null,"③処遇改善加算相当額",null,null,null,null,null,null,"円",null,{"$f":"N322-E322","v":0},null,null,"円"]
["④その他手当",null,null,null,null,null,null,"円",null,"④その他手当",null,null,null,null,null,null,"円",null,{"$f":"N323-E323","v":0},null,null,"円"]
["一時金（年間総額）",null,null,null,null,null,null,"円"]
[null,"※資格名の選択肢"]
[null,"1．介護福祉士　　2．社会福祉士　　3．精神保健福祉士　　4．介護支援専門員　　\n5．介護職員初任者研修課程修了（旧ヘルパー1・2級相当）　　6．認知症介護指導者養成研修課程修了\n7．その他"]
[]
[]
[null,"正規介護職員③"]
[]
["性別",null,null,null,null,"年齢",null,null,null,null,"歳",null,"勤続年数\n（月数）",null,null,null,null,"か月"]
["2018年度（H30.4月）",null,null,null,null,null,null,null,"⇒　　昇給した場合　　⇒","2019年度（H31.4月）",null,null,null,null,null,null,null,"⇒　　1年間の増減差　　⇒","H31 - H30 増減差　\n（入力確認用）"]
["本給（単月分）",null,null,null,null,null,null,"円",null,"本給（単月分）",null,null,null,null,null,null,"円",null,{"$f":"N333-E333","v":0},null,null,"円"]
["諸手当（単月分）\n　①～④の合計",null,null,null,{"$f":"SUM(E335,E338,E340,E341)","v":0},null,null,"円",null,"諸手当（単月分）\n　①～④の合計",null,null,null,{"$f":"SUM(N335,N338,N340,N341)","v":0},null,null,"円",null,0,null,null,"円"]
["①時間外手当",null,null,null,null,null,null,"円",null,"①時間外手当",null,null,null,null,null,null,"円",null,0,null,null,"円"]
["時間外勤務時間",null,null,null,null,null,null,"時間",null,"時間外勤務時間",null,null,null,null,null,null,"時間",null,0,null,null,"時間"]
["1時間あたり手当額",null,null,null,{"$f":"IF(E335=0,\"\",E335/E336)","v":""},null,null,"円",null,"1時間あたり手当額",null,null,null,{"$f":"IF(N335=0,\"\",N335/N336)","v":""},null,null,"円",null,"-"]
["②資格手当",null,null,null,null,null,null,"円",null,"②資格手当",null,null,null,null,null,null,"円",null,{"$f":"N338-E338","v":0},null,null,"円"]
["資格名※",null,null,null,null,null,null,null,null,"資格名※",null,null,null,null,null,null,null,null,"-"]
["③処遇改善加算相当額",null,null,null,null,null,null,"円",null,"③処遇改善加算相当額",null,null,null,null,null,null,"円",null,{"$f":"N340-E340","v":0},null,null,"円"]
["④その他手当",null,null,null,null,null,null,"円",null,"④その他手当",null,null,null,null,null,null,"円",null,{"$f":"N341-E341","v":0},null,null,"円"]
["一時金（年間総額）",null,null,null,null,null,null,"円"]
[]
[null,"正規介護職員④"]
[]
["性別",null,null,null,null,"年齢",null,null,null,null,"歳",null,"勤続年数\n（月数）",null,null,null,null,"か月"]
["2018年度（H30.4月）",null,null,null,null,null,null,null,"⇒　　昇給した場合　　⇒","2019年度（H31.4月）",null,null,null,null,null,null,null,"⇒　　1年間の増減差　　⇒","H31 - H30 増減差　\n（入力確認用）"]
["本給（単月分）",null,null,null,null,null,null,"円",null,"本給（単月分）",null,null,null,null,null,null,"円",null,{"$f":"N348-E348","v":0},null,null,"円"]
["諸手当（単月分）\n　①～④の合計",null,null,null,{"$f":"SUM(E350,E353,E355,E356)","v":0},null,null,"円",null,"諸手当（単月分）\n　①～④の合計",null,null,null,{"$f":"SUM(N350,N353,N355,N356)","v":0},null,null,"円",null,0,null,null,"円"]
["①時間外手当",null,null,null,null,null,null,"円",null,"①時間外手当",null,null,null,null,null,null,"円",null,0,null,null,"円"]
["時間外勤務時間",null,null,null,null,null,null,"時間",null,"時間外勤務時間",null,null,null,null,null,null,"時間",null,0,null,null,"時間"]
["1時間あたり手当額",null,null,null,{"$f":"IF(E350=0,\"\",E350/E351)","v":""},null,null,"円",null,"1時間あたり手当額",null,null,null,{"$f":"IF(N350=0,\"\",N350/N351)","v":""},null,null,"円",null,"-"]
["②資格手当",null,null,null,null,null,null,"円",null,"②資格手当",null,null,null,null,null,null,"円",null,{"$f":"N353-E353","v":0},null,null,"円"]
["資格名※",null,null,null,null,null,null,null,null,"資格名※",null,null,null,null,null,null,null,null,"-"]
["③処遇改善加算相当額",null,null,null,null,null,null,"円",null,"③処遇改善加算相当額",null,null,null,null,null,null,"円",null,{"$f":"N355-E355","v":0},null,null,"円"]
["④その他手当",null,null,null,null,null,null,"円",null,"④その他手当",null,null,null,null,null,null,"円",null,{"$f":"N356-E356","v":0},null,null,"円"]
["一時金（年間総額）",null,null,null,null,null,null,"円"]
[null,"※資格名の選択肢"]
[null,"1．介護福祉士　　2．社会福祉士　　3．精神保健福祉士　　4．介護支援専門員　　\n5．介護職員初任者研修課程修了（旧ヘルパー1・2級相当）　　6．認知症介護指導者養成研修課程修了\n7．その他"]
[]
[]
[null,"正規介護職員⑤"]
[]
["性別",null,null,null,null,"年齢",null,null,null,null,"歳",null,"勤続年数\n（月数）",null,null,null,null,"か月"]
["2018年度（H30.4月）",null,null,null,null,null,null,null,"⇒　　昇給した場合　　⇒","2019年度（H31.4月）",null,null,null,null,null,null,null,"⇒　　1年間の増減差　　⇒","H31 - H30 増減差　\n（入力確認用）"]
["本給（単月分）",null,null,null,null,null,null,"円",null,"本給（単月分）",null,null,null,null,null,null,"円",null,{"$f":"N366-E366","v":0},null,null,"円"]
["諸手当（単月分）\n　①～④の合計",null,null,null,{"$f":"SUM(E368,E371,E373,E374)","v":0},null,null,"円",null,"諸手当（単月分）\n　①～④の合計",null,null,null,{"$f":"SUM(N368,N371,N373,N374)","v":0},null,null,"円",null,0,null,null,"円"]
["①時間外手当",null,null,null,null,null,null,"円",null,"①時間外手当",null,null,null,null,null,null,"円",null,0,null,null,"円"]
["時間外勤務時間",null,null,null,null,null,null,"時間",null,"時間外勤務時間",null,null,null,null,null,null,"時間",null,0,null,null,"時間"]
["1時間あたり手当額",null,null,null,{"$f":"IF(E368=0,\"\",E368/E369)","v":""},null,null,"円",null,"1時間あたり手当額",null,null,null,{"$f":"IF(N368=0,\"\",N368/N369)","v":""},null,null,"円",null,"-"]
["②資格手当",null,null,null,null,null,null,"円",null,"②資格手当",null,null,null,null,null,null,"円",null,{"$f":"N371-E371","v":0},null,null,"円"]
["資格名※",null,null,null,null,null,null,null,null,"資格名※",null,null,null,null,null,null,null,null,"-"]
["③処遇改善加算相当額",null,null,null,null,null,null,"円",null,"③処遇改善加算相当額",null,null,null,null,null,null,"円",null,{"$f":"N373-E373","v":0},null,null,"円"]
["④その他手当",null,null,null,null,null,null,"円",null,"④その他手当",null,null,null,null,null,null,"円",null,{"$f":"N374-E374","v":0},null,null,"円"]
["一時金（年間総額）",null,null,null,null,null,null,"円"]
[]
[null,"正規介護職員⑥"]
[]
["性別",null,null,null,null,"年齢",null,null,null,null,"歳",null,"勤続年数\n（月数）",null,null,null,null,"か月"]
["2018年度（H30.4月）",null,null,null,null,null,null,null,"⇒　　昇給した場合　　⇒","2019年度（H31.4月）",null,null,null,null,null,null,null,"⇒　　1年間の増減差　　⇒","H31 - H30 増減差　\n（入力確認用）"]
["本給（単月分）",null,null,null,null,null,null,"円",null,"本給（単月分）",null,null,null,null,null,null,"円",null,{"$f":"N381-E381","v":0},null,null,"円"]
["諸手当（単月分）\n　①～④の合計",null,null,null,{"$f":"SUM(E383,E386,E388,E389)","v":0},null,null,"円",null,"諸手当（単月分）\n　①～④の合計",null,null,null,{"$f":"SUM(N383,N386,N388,N389)","v":0},null,null,"円",null,0,null,null,"円"]
["①時間外手当",null,null,null,null,null,null,"円",null,"①時間外手当",null,null,null,null,null,null,"円",null,0,null,null,"円"]
["時間外勤務時間",null,null,null,null,null,null,"時間",null,"時間外勤務時間",null,null,null,null,null,null,"時間",null,0,null,null,"時間"]
["1時間あたり手当額",null,null,null,{"$f":"IF(E383=0,\"\",E383/E384)","v":""},null,null,"円",null,"1時間あたり手当額",null,null,null,{"$f":"IF(N383=0,\"\",N383/N384)","v":""},null,null,"円",null,"-"]
["②資格手当",null,null,null,null,null,null,"円",null,"②資格手当",null,null,null,null,null,null,"円",null,{"$f":"N386-E386","v":0},null,null,"円"]
["資格名※",null,null,null,null,null,null,null,null,"資格名※",null,null,null,null,null,null,null,null,"-"]
["③処遇改善加算相当額",null,null,null,null,null,null,"円",null,"③処遇改善加算相当額",null,null,null,null,null,null,"円",null,{"$f":"N388-E388","v":0},null,null,"円"]
["④その他手当",null,null,null,null,null,null,"円",null,"④その他手当",null,null,null,null,null,null,"円",null,{"$f":"N389-E389","v":0},null,null,"円"]
["一時金（年間総額）",null,null,null,null,null,null,"円"]
[null,"※資格名の選択肢"]
[null,"1．介護福祉士　　2．社会福祉士　　3．精神保健福祉士　　4．介護支援専門員　　\n5．介護職員初任者研修課程修了（旧ヘルパー1・2級相当）　　6．認知症介護指導者養成研修課程修了\n7．その他"]
[]
[]
["2か年の決算書データ（事業活動計算書）",null,null,null,null,null,null,null,null,"本調査票は、[決算書の自動転記]を設定していません。[決算書の自動転記]を利用して回答する場合、もう一つの調査票を用いてください。"]
[]
["事業活動計算書【新会計基準】","事業活動計算書作成単位",null,null,null,null,null,null,null,null,null,null,"2017年度",null,null,null,"2018年度",null,null,null,"経営指標\n（確認用）"]
[null,"サービス活動増減の部","収益","介護保険事業収益",null,null,null,null,null,null,null,null,null,null,null,null,null,null,null,null,null,null,null,"事業明細"]
[null,null,null,"　居宅介護料収益",null,null,null,null,null,null,null,null,null,null,null,null,null,null,null,null,null,null,null,"デイサービス"]
[null,null,null,"　利用者等利用料収益",null,null,null,null,null,null,null,null,null,null,null,null,null,null,null,null,null,null,null,2017]
[null,null,null,"　その他の事業収益",null,null,null,null,null,null,null,null,null,null,null,null,null,null,null,null,null,null,null,"2018"]
[null,null,null,"　　補助金事業収益（公費+一般）",null,null,null,null,null,null,null,null,null,null,null,null,null,null,null,null,null,null,null,"_"]
[null,null,null,"　　補助金事業収益（公費）"]
[null,null,null,"　　補助金事業収益（一般）"]
[null,null,null,"　　市町村特別事業収益（公費+一般）"]
[null,null,null,"　　市町村特別事業収益（公費）"]
[null,null,null,"　　市町村特別事業収益（一般）"]
[null,null,null,"　　受託事業収益（公費+一般）"]
[null,null,null,"　　受託事業収益（公費）"]
[null,null,null,"　　受託事業収益（一般）"]
[null,null,null,"　　その他の事業収益"]
[null,null,null,"経常経費寄附金収益"]
[null,null,null,"その他の収益"]
[null,null,null,"サービス活動収益計（１）"]
[null,null,"費用","人件費",null,null,null,null,null,null,null,null,null,null,null,null,null,null,null,null,{"$f":"IF($Q$415=0,0,($Q$415+$Q$421)/($Q$414-$Q$412))","v":0}]
[null,null,null,"　派遣職員費",null,null,null,null,null,null,null,null,null,null,null,null,null,null,null,null,{"$f":"IF($Q$416=0,0,$Q$416/($Q$414-$Q$412))","v":0}]
[null,null,null,"事業費",null,null,null,null,null,null,null,null,null,null,null,null,null,null,null,null,{"$f":"IF($Q$417=0,0,$Q$417/($Q$414-$Q$412))","v":0}]
[null,null,null,"　給食費",null,null,null,null,null,null,null,null,null,null,null,null,null,null,null,null,{"$f":"IF($Q$418=0,0,$Q$418/($Q$414-$Q$412))","v":0}]
[null,null,null,"　水道光熱費",null,null,null,null,null,null,null,null,null,null,null,null,null,null,null,null,{"$f":"IF($Q$419=0,0,$Q$419/($Q$414-$Q$412))","v":0}]
[null,null,null,"事務費",null,null,null,null,null,null,null,null,null,null,null,null,null,null,null,null,{"$f":"IF($Q$420=0,0,($Q$420-$Q$421-$Q$422)/($Q$414-$Q$412))","v":0}]
[null,null,null,"　福利厚生費"]
[null,null,null,"　業務委託費",null,null,null,null,null,null,null,null,null,null,null,null,null,null,null,null,{"$f":"IF($Q$422=0,0,$Q$422/($Q$414-$Q$412))","v":0}]
[null,null,null,"　保守料",null,null,null,null,null,null,null,null,null,null,null,null,null,null,null,null,{"$f":"IF($Q$423=0,0,$Q$423/($Q$414-$Q$412))","v":0}]
[null,null,null,"減価償却費",null,null,null,null,null,null,null,null,null,null,null,null,null,null,null,null,{"$f":"IF($Q$424=0,0,($Q$424-$Q$425)/($Q$414-$Q$412))","v":0}]
[null,null,null,"国庫補助金等特別積立金取崩額"]
[null,null,null,"サービス活動費用計（２）"]
[null,null,null,"サービス活動増減差額（３）＝（１）－（２）",null,null,null,null,null,null,null,null,null,null,null,null,null,null,null,null,{"$f":"IF($Q$427=0,0,$Q$427/($Q$414-$Q$412))","v":0}]

{"sheet":"集計アシストシート","index":1,"n_rows":206,"n_cols":11,"rows_kept":206,"cut":false,"hidden":false,"merged":[[1,0,1,5],[3,1,3,10]]}
[]
["21.介護職員の実人数（性別・年齢別・勤続年数別）",null,null,null,null,null,"※平成31年3月末時点の実数"]
[]
["●","「集計アシストシート」には個人情報が含まれています。調査票をご提出時は、「集計アシストシート」の情報を削除してからご提出ください。（必ず、設問の回答セルに数値を貼り付けまたは入力した上で削除してください）"]
[null,null,null,null,null,null,null,null,null,"基準日","2019-03-31"]
[null,"No.","氏名","雇用形態\n（正規・非正規）","性別\n（男・女）","生年月日\n（西暦・和暦）","年齢","入職日\n（西暦・和暦）","退職日\n（西暦・和暦）","勤続月数\n（月）","勤続年数\n（年）"]
[null,1,null,null,null,null,{"$f":"IF(F7=\"\",\"\",DATEDIF(F7,$K$5,\"Y\"))","v":""},null,null,{"$f":"IF($H7=\"\",\"\",IF($I7=\"\",DATEDIF($H7,$K$5,\"m\"),DATEDIF($H7,$I7,\"M\")))","v":""},{"$f":"IF($H7=\"\",\"\",IF($I7=\"\",DATEDIF($H7,$K$5,\"Y\"),DATEDIF($H7,$I7,\"Y\")))","v":""}]
[null,2,null,null,null,null,{"$f":"IF(F8=\"\",\"\",DATEDIF(F8,$K$5,\"Y\"))","v":""},null,null,{"$f":"IF($H8=\"\",\"\",IF($I8=\"\",DATEDIF($H8,$K$5,\"m\"),DATEDIF($H8,$I8,\"M\")))","v":""},{"$f":"IF($H8=\"\",\"\",IF($I8=\"\",DATEDIF($H8,$K$5,\"Y\"),DATEDIF($H8,$I8,\"Y\")))","v":""}]
[null,3,null,null,null,null,"",null,null,"",{"$f":"IF($H9=\"\",\"\",IF($I9=\"\",DATEDIF($H9,$K$5,\"Y\"),DATEDIF($H9,$I9,\"Y\")))","v":""}]
[null,4,null,null,null,null,"",null,null,"",""]
[null,5,null,null,null,null,"",null,null,"",""]
[null,6,null,null,null,null,"",null,null,"",""]
[null,7,null,null,null,null,"",null,null,"",""]
[null,8,null,null,null,null,"",null,null,"",""]
[null,9,null,null,null,null,"",null,null,"",""]
[null,10,null,null,null,null,"",null,null,"",""]
[null,11,null,null,null,null,"",null,null,"",""]
[null,12,null,null,null,null,"",null,null,"",""]
[null,13,null,null,null,null,"",null,null,"",""]
[null,14,null,null,null,null,"",null,null,"",""]
[null,15,null,null,null,null,"",null,null,"",""]
[null,16,null,null,null,null,"",null,null,"",""]
[null,17,null,null,null,null,"",null,null,"",""]
[null,18,null,null,null,null,"",null,null,"",""]
[null,19,null,null,null,null,"",null,null,"",""]
[null,20,null,null,null,null,"",null,null,"",""]
[null,21,null,null,null,null,"",null,null,"",""]
[null,22,null,null,null,null,"",null,null,"",""]
[null,23,null,null,null,null,"",null,null,"",""]
[null,24,null,null,null,null,"",null,null,"",""]
[null,25,null,null,null,null,"",null,null,"",""]
[null,26,null,null,null,null,"",null,null,"",""]
[null,27,null,null,null,null,"",null,null,"",""]
[null,28,null,null,null,null,"",null,null,"",""]
[null,29,null,null,null,null,"",null,null,"",""]
[null,30,null,null,null,null,"",null,null,"",""]
[null,31,null,null,null,null,"",null,null,"",""]
[null,32,null,null,null,null,"",null,null,"",""]
[null,33,null,null,null,null,"",null,null,"",""]
[null,34,null,null,null,null,"",null,null,"",""]
[null,35,null,null,null,null,"",null,null,"",""]
[null,36,null,null,null,null,"",null,null,"",""]
[null,37,null,null,null,null,"",null,null,"",""]
[null,38,null,null,null,null,"",null,null,"",""]
[null,39,null,null,null,null,"",null,null,"",""]
[null,40,null,null,null,null,"",null,null,"",""]
[null,41,null,null,null,null,"",null,null,"",""]
[null,42,null,null,null,null,"",null,null,"",""]
[null,43,null,null,null,null,"",null,null,"",""]
[null,44,null,null,null,null,"",null,null,"",""]
[null,45,null,null,null,null,"",null,null,"",""]
[null,46,null,null,null,null,"",null,null,"",""]
[null,47,null,null,null,null,"",null,null,"",""]
[null,48,null,null,null,null,"",null,null,"",""]
[null,49,null,null,null,null,"",null,null,"",""]
[null,50,null,null,null,null,"",null,null,"",""]
[null,51,null,null,null,null,"",null,null,"",""]
[null,52,null,null,null,null,"",null,null,"",""]
[null,53,null,null,null,null,"",null,null,"",""]
[null,54,null,null,null,null,"",null,null,"",""]
[null,55,null,null,null,null,"",null,null,"",""]
[null,56,null,null,null,null,"",null,null,"",""]
[null,57,null,null,null,null,"",null,null,"",""]
[null,58,null,null,null,null,"",null,null,"",""]
[null,59,null,null,null,null,"",null,null,"",""]
[null,60,null,null,null,null,"",null,null,"",""]
[null,61,null,null,null,null,"",null,null,"",""]
[null,62,null,null,null,null,"",null,null,"",""]
[null,63,null,null,null,null,"",null,null,"",""]
[null,64,null,null,null,null,"",null,null,"",""]
[null,65,null,null,null,null,"",null,null,"",""]
[null,66,null,null,null,null,{"$f":"IF(F72=\"\",\"\",DATEDIF(F72,$K$5,\"Y\"))","v":""},null,null,{"$f":"IF($H72=\"\",\"\",IF($I72=\"\",DATEDIF($H72,$K$5,\"m\"),DATEDIF($H72,$I72,\"M\")))","v":""},""]
[null,67,null,null,null,null,"",null,null,"",{"$f":"IF($H73=\"\",\"\",IF($I73=\"\",DATEDIF($H73,$K$5,\"Y\"),DATEDIF($H73,$I73,\"Y\")))","v":""}]
[null,68,null,null,null,null,"",null,null,"",""]
[null,69,null,null,null,null,"",null,null,"",""]
[null,70,null,null,null,null,"",null,null,"",""]
[null,71,null,null,null,null,"",null,null,"",""]
[null,72,null,null,null,null,"",null,null,"",""]
[null,73,null,null,null,null,"",null,null,"",""]
[null,74,null,null,null,null,"",null,null,"",""]
[null,75,null,null,null,null,"",null,null,"",""]
[null,76,null,null,null,null,"",null,null,"",""]
[null,77,null,null,null,null,"",null,null,"",""]
[null,78,null,null,null,null,"",null,null,"",""]
[null,79,null,null,null,null,"",null,null,"",""]
[null,80,null,null,null,null,"",null,null,"",""]
[null,81,null,null,null,null,"",null,null,"",""]
[null,82,null,null,null,null,"",null,null,"",""]
[null,83,null,null,null,null,"",null,null,"",""]
[null,84,null,null,null,null,"",null,null,"",""]
[null,85,null,null,null,null,"",null,null,"",""]
[null,86,null,null,null,null,"",null,null,"",""]
[null,87,null,null,null,null,"",null,null,"",""]
[null,88,null,null,null,null,"",null,null,"",""]
[null,89,null,null,null,null,"",null,null,"",""]
[null,90,null,null,null,null,"",null,null,"",""]
[null,91,null,null,null,null,"",null,null,"",""]
[null,92,null,null,null,null,"",null,null,"",""]
[null,93,null,null,null,null,"",null,null,"",""]
[null,94,null,null,null,null,"",null,null,"",""]
[null,95,null,null,null,null,"",null,null,"",""]
[null,96,null,null,null,null,"",null,null,"",""]
[null,97,null,null,null,null,"",null,null,"",""]
[null,98,null,null,null,null,"",null,null,"",""]
[null,99,null,null,null,null,"",null,null,"",""]
[null,100,null,null,null,null,"",null,null,"",""]
[null,101,null,null,null,null,"",null,null,"",""]
[null,102,null,null,null,null,"",null,null,"",""]
[null,103,null,null,null,null,"",null,null,"",""]
[null,104,null,null,null,null,"",null,null,"",""]
[null,105,null,null,null,null,"",null,null,"",""]
[null,106,null,null,null,null,"",null,null,"",""]
[null,107,null,null,null,null,"",null,null,"",""]
[null,108,null,null,null,null,"",null,null,"",""]
[null,109,null,null,null,null,"",null,null,"",""]
[null,110,null,null,null,null,"",null,null,"",""]
[null,111,null,null,null,null,"",null,null,"",""]
[null,112,null,null,null,null,"",null,null,"",""]
[null,113,null,null,null,null,"",null,null,"",""]
[null,114,null,null,null,null,"",null,null,"",""]
[null,115,null,null,null,null,"",null,null,"",""]
[null,116,null,null,null,null,"",null,null,"",""]
[null,117,null,null,null,null,"",null,null,"",""]
[null,118,null,null,null,null,"",null,null,"",""]
[null,119,null,null,null,null,"",null,null,"",""]
[null,120,null,null,null,null,"",null,null,"",""]
[null,121,null,null,null,null,"",null,null,"",""]
[null,122,null,null,null,null,"",null,null,"",""]
[null,123,null,null,null,null,"",null,null,"",""]
[null,124,null,null,null,null,"",null,null,"",""]
[null,125,null,null,null,null,"",null,null,"",""]
[null,126,null,null,null,null,"",null,null,"",""]
[null,127,null,null,null,null,"",null,null,"",""]
[null,128,null,null,null,null,"",null,null,"",""]
[null,129,null,null,null,null,"",null,null,"",""]
[null,130,null,null,null,null,{"$f":"IF(F136=\"\",\"\",DATEDIF(F136,$K$5,\"Y\"))","v":""},null,null,{"$f":"IF($H136=\"\",\"\",IF($I136=\"\",DATEDIF($H136,$K$5,\"m\"),DATEDIF($H136,$I136,\"M\")))","v":""},""]
[null,131,null,null,null,null,"",null,null,"",{"$f":"IF($H137=\"\",\"\",IF($I137=\"\",DATEDIF($H137,$K$5,\"Y\"),DATEDIF($H137,$I137,\"Y\")))","v":""}]
[null,132,null,null,null,null,"",null,null,"",""]
[null,133,null,null,null,null,"",null,null,"",""]
[null,134,null,null,null,null,"",null,null,"",""]
[null,135,null,null,null,null,"",null,null,"",""]
[null,136,null,null,null,null,"",null,null,"",""]
[null,137,null,null,null,null,"",null,null,"",""]
[null,138,null,null,null,null,"",null,null,"",""]
[null,139,null,null,null,null,"",null,null,"",""]
[null,140,null,null,null,null,"",null,null,"",""]
[null,141,null,null,null,null,"",null,null,"",""]
[null,142,null,null,null,null,"",null,null,"",""]
[null,143,null,null,null,null,"",null,null,"",""]
[null,144,null,null,null,null,"",null,null,"",""]
[null,145,null,null,null,null,"",null,null,"",""]
[null,146,null,null,null,null,"",null,null,"",""]
[null,147,null,null,null,null,"",null,null,"",""]
[null,148,null,null,null,null,"",null,null,"",""]
[null,149,null,null,null,null,"",null,null,"",""]
[null,150,null,null,null,null,"",null,null,"",""]
[null,151,null,null,null,null,"",null,null,"",""]
[null,152,null,null,null,null,"",null,null,"",""]
[null,153,null,null,null,null,"",null,null,"",""]
[null,154,null,null,null,null,"",null,null,"",""]
[null,155,null,null,null,null,"",null,null,"",""]
[null,156,null,null,null,null,"",null,null,"",""]
[null,157,null,null,null,null,"",null,null,"",""]
[null,158,null,null,null,null,"",null,null,"",""]
[null,159,null,null,null,null,"",null,null,"",""]
[null,160,null,null,null,null,"",null,null,"",""]
[null,161,null,null,null,null,"",null,null,"",""]
[null,162,null,null,null,null,"",null,null,"",""]
[null,163,null,null,null,null,"",null,null,"",""]
[null,164,null,null,null,null,"",null,null,"",""]
[null,165,null,null,null,null,"",null,null,"",""]
[null,166,null,null,null,null,"",null,null,"",""]
[null,167,null,null,null,null,"",null,null,"",""]
[null,168,null,null,null,null,"",null,null,"",""]
[null,169,null,null,null,null,"",null,null,"",""]
[null,170,null,null,null,null,"",null,null,"",""]
[null,171,null,null,null,null,"",null,null,"",""]
[null,172,null,null,null,null,"",null,null,"",""]
[null,173,null,null,null,null,"",null,null,"",""]
[null,174,null,null,null,null,"",null,null,"",""]
[null,175,null,null,null,null,"",null,null,"",""]
[null,176,null,null,null,null,"",null,null,"",""]
[null,177,null,null,null,null,"",null,null,"",""]
[null,178,null,null,null,null,"",null,null,"",""]
[null,179,null,null,null,null,"",null,null,"",""]
[null,180,null,null,null,null,"",null,null,"",""]
[null,181,null,null,null,null,"",null,null,"",""]
[null,182,null,null,null,null,"",null,null,"",""]
[null,183,null,null,null,null,"",null,null,"",""]
[null,184,null,null,null,null,"",null,null,"",""]
[null,185,null,null,null,null,"",null,null,"",""]
[null,186,null,null,null,null,"",null,null,"",""]
[null,187,null,null,null,null,"",null,null,"",""]
[null,188,null,null,null,null,"",null,null,"",""]
[null,189,null,null,null,null,"",null,null,"",""]
[null,190,null,null,null,null,"",null,null,"",""]
[null,191,null,null,null,null,"",null,null,"",""]
[null,192,null,null,null,null,"",null,null,"",""]
[null,193,null,null,null,null,"",null,null,"",""]
[null,194,null,null,null,null,{"$f":"IF(F200=\"\",\"\",DATEDIF(F200,$K$5,\"Y\"))","v":""},null,null,{"$f":"IF($H200=\"\",\"\",IF($I200=\"\",DATEDIF($H200,$K$5,\"m\"),DATEDIF($H200,$I200,\"M\")))","v":""},""]
[null,195,null,null,null,null,"",null,null,"",{"$f":"IF($H201=\"\",\"\",IF($I201=\"\",DATEDIF($H201,$K$5,\"Y\"),DATEDIF($H201,$I201,\"Y\")))","v":""}]
[null,196,null,null,null,null,"",null,null,"",""]
[null,197,null,null,null,null,"",null,null,"",""]
[null,198,null,null,null,null,"",null,null,"",""]
[null,199,null,null,null,null,"",null,null,"",""]
[null,200,null,null,null,null,"",null,null,"",""]

{"sheet":"経営指標算出シート","index":2,"n_rows":126,"n_cols":9,"rows_kept":126,"cut":false,"hidden":false,"merged":[[21,2,21,9],[4,1,4,5],[6,1,6,5],[8,1,8,5],[11,2,11,9],[20,1,20,5],[38,2,38,3],[38,4,38,5],[23,2,23,3],[23,4,23,5],[25,1,25,5],[26,2,26,9],[28,2,28,3],[28,4,28,5],[30,1,30,5],[30,6,30,9],[33,2,33,3],[33,4,33,5],[35,1,35,9],[43,2,43,3],[43,4,43,5],[48,2,48,3],[48,4,48,5],[53,2,53,3],[53,4,53,5],[84,2,84,3],[84,4,84,5],[84,6,84,7],[58,2,58,3],[58,4,58,5],[64,2,64,3],[64,4,64,5],[64,6,64,7],[69,2,69,3],[69,4,69,5],[74,2,74,3],[74,4,74,5],[74,6,74,7],[79,2,79,3],[79,4,79,5],[105,4,105,5],[105,6,105,7],[87,6,87,7],[92,2,92,3],[92,4,92,5],[92,6,92,7],[97,2,97,3],[97,4,97,5],[100,2,100,9],[102,2,102,3],[102,4,102,5],[102,6,102,7],[102,8,102,9],[125,2,125,3],[125,4,125,5],[109,2,109,3],[109,4,109,5],[112,1,112,9],[115,2,115,3],[115,4,115,5],[120,2,120,3],[120,4,120,5]]}
[null,"経営指標の算出プロセス",null,null,null,"入力箇所はございません。確認用です。"]
[]
[]
[null,"◆収益性の指標"]
[null,"①サービス活動収益（円）",null,null,null,null,{"$f":"調査票!M414","v":0},"（円）"]
[]
[null,"②サービス活動費用（円）",null,null,null,null,{"$f":"調査票!M426","v":0},"（円）"]
[]
[null,"③サービス活動増減差額（円）",null,null,null,null,{"$f":"G5-G7","v":0},"（円）"]
[]
[null,"④サービス活動増減差額率(%)；"]
[null,null,"（③サービス活動増減差額 ÷ ①サービス活動収益）×100"]
[null,"（",{"$f":"G9","v":0},"÷",{"$f":"G5","v":0},"）×100＝",{"$f":"IF(E13=\"\",\"\",(C13/E13))","v":{"$error":"#DIV/0!"}}]
[]
[null,"◆機能性の指標"]
[null,"※純然たるサービス活動収益を先に算出する。"]
[null,null,"サービス活動収益 － 経常経費寄付金収益 ＝ 純然たるサービス活動収益"]
[null,null,{"$f":"$G$5","v":0},"－",{"$f":"調査票!M412","v":0},"＝",{"$f":"C18-E18","v":0}]
[]
[]
[null,"⑤１日平均利用者数(人)；"]
[null,null,"年間利用者延べ人数 ÷ 施設開業日数"]
[null,null,{"$f":"調査票!C105","v":""},"÷",{"$f":"調査票!F69","v":0},"＝",{"$f":"C23/E23","v":{"$error":"#VALUE!"}},"（人）"]
[null,null,"年間利用者延べ人数",null,"施設開業日数"]
[]
[null,"⑥１日あたり平均利用率(%)；"]
[null,null,"⑤１日平均利用者数 ÷ 施設定員数"]
[null,null,{"$f":"G23","v":{"$error":"#VALUE!"}},"÷",{"$f":"調査票!F71","v":0},"×100 ＝",{"$f":"C28/E28","v":{"$error":"#VALUE!"}}]
[null,null,"⑤の結果を入力",null,"施設定員数"]
[]
[null,"⑦利用者10人あたり職員数(人)；"]
[null,null,"常勤換算職員数 ÷ ⑤１日平均利用者数 × 10"]
[null,null,{"$f":"調査票!M156","v":0},"÷",{"$f":"G23","v":{"$error":"#VALUE!"}},"×10 ＝",{"$f":"C33/E33*10","v":{"$error":"#VALUE!"}},"（人）"]
[null,null,"常勤換算職員数",null,"⑤の結果を入力"]
[]
[null,"⑧利用者１人１日あたりサービス活動収益(円)／日；"]
[null,null,"純然たるサービス活動収益 ÷ 年間利用者延べ人数 等"]
[null,null,{"$f":"$G$18","v":0},"÷",{"$f":"C23","v":""},"＝",{"$f":"C38/E38","v":{"$error":"#VALUE!"}},"（円）"]
[null,null,"純然たるサービス活動収益",null,"年間利用者延べ人数"]
[]
[null,"⑧-1（訪問介護のみ）利用者１人１時間あたりサービス活動収益(円)／時間；"]
[null,null,"純然たるサービス活動収益 ÷ 年間延べサービス提供時間"]
[null,null,{"$f":"$G$18","v":0},"÷",{"$f":"L36","v":0},"＝",{"$f":"IF(E43=\"\",\"\",C43/E43)","v":{"$error":"#DIV/0!"}},"（円）"]
[null,null,"純然たるサービス活動収益",null,"年間延べサービス提供時間"]
[]
[null,"⑧-2（訪問介護のみ）利用者１人１回あたりサービス活動収益(円)／回；"]
[null,null,"純然たるサービス活動収益 ÷ 年間延べサービス提供回数"]
[null,null,{"$f":"$G$18","v":0},"÷",{"$f":"L41","v":0},"＝",{"$f":"IF(E48=\"\",\"\",C48/E48)","v":{"$error":"#DIV/0!"}},"（円）"]
[null,null,"純然たるサービス活動収益",null,"年間延べサービス提供回数"]
[]
[null,"⑧-1（居宅介護のみ）利用者１人１プランあたりサービス活動収益(円)／1プラン；"]
[null,null,"純然たるサービス活動収益 ÷ 年間保有ケアプラン数"]
[null,null,{"$f":"$G$18","v":0},"÷",{"$f":"L50","v":0},"＝",{"$f":"IF(E53=\"\",\"\",C53/E53)","v":{"$error":"#DIV/0!"}},"（円）"]
[null,null,"純然たるサービス活動収益",null,"年間保有ケアプラン数"]
[]
[null,"⑧-2（居宅介護のみ）（常勤換算）職員１人あたりケアプラン／人；"]
[null,null,"年間保有ケアプラン数 ÷ 常勤換算職員数"]
[null,null,{"$f":"L50","v":0},"÷",{"$f":"$C$33","v":0},"÷","12か月","＝",{"$f":"IF(C58=\"\",\"\",C58/E58/12)","v":{"$error":"#DIV/0!"}}]
[null,null,"年間保有ケアプラン数",null,"常勤換算職員数",null,null,null,"(人）"]
[]
[null,"◆合理性の指標"]
[null,"⑨人件費率（％）"]
[null,null,"（人件費 ＋ 福利厚生費）÷ 純然たるサービス活動収益 ×100"]
[null,"（",{"$f":"調査票!M415","v":0},"＋",{"$f":"調査票!M421","v":0},"）÷",{"$f":"$G$18","v":0},"×100＝",{"$f":"(C64+E64)/G64","v":{"$error":"#DIV/0!"}}]
[null,null,"人件費",null,"福利厚生費",null,"純然たるサービス活動収益"]
[]
[null,"⑩事業費率（％）；"]
[null,null,"事業費 ÷ 純然たるサービス活動収益 ×100"]
[null,null,{"$f":"調査票!M417","v":0},"÷",{"$f":"$G$18","v":0},"×100＝",{"$f":"C69/E69","v":{"$error":"#DIV/0!"}}]
[null,null,"事業費",null,"純然たるサービス活動収益"]
[]
[null,"⑪減価償却費率（％）；"]
[null,null,"（減価償却費ー国庫補助金等特別積立金取崩額）÷ 純然たるサービス活動収益×100"]
[null,"（",{"$f":"調査票!M424","v":0},"－",{"$f":"調査票!M425","v":0},"）÷",{"$f":"$G$18","v":0},"×100＝",{"$f":"IF(E74=\"\",\"\",((C74-E74)/G74))","v":{"$error":"#DIV/0!"}}]
[null,null,"減価償却費",null,"国庫補助金等特別積立金取崩額",null,"純然たるサービス活動収益"]
[]
[null,"⑫業務委託費率（％）；"]
[null,null,"業務委託費 ÷ 純然たるサービス活動収益 ×100"]
[null,null,{"$f":"L17","v":0},"÷",{"$f":"$G$18","v":0},"×100＝",{"$f":"IF(C79=\"\",\"\",(C79/E79))","v":{"$error":"#DIV/0!"}}]
[null,null,"業務委託費",null,"純然たるサービス活動収益"]
[]
[null,"⑬事務費率（％）；"]
[null,null,"（事務費 ー 福利厚生費 ー 業務委託費）÷ 純然たるサービス活動収益 ×100"]
[null,"（",{"$f":"調査票!M420","v":0},"－",{"$f":"調査票!M421","v":0},"－",{"$f":"調査票!M422","v":0},"）"]
[null,null,"事務費",null,"福利厚生費",null,"業務委託費"]
[]
[null,null,null,null,null,"÷　",{"$f":"$G$18","v":0},"×100＝",{"$f":"IF(C84=\"\",\"\",((C84-E84-G84)/G87))","v":{"$error":"#DIV/0!"}}]
[null,null,null,null,null,null,"純然たるサービス活動収益"]
[null,"◆生産性の指標"]
[null,"⑭職員１人あたりの給与費（円）；"]
[null,null,"（人件費 ＋ 福利厚生費）÷ 常勤換算職員数 ÷ 12ヵ月"]
[null,"（",{"$f":"C64","v":0},"＋",{"$f":"E64","v":0},"）÷",{"$f":"$C$33","v":0},"÷12＝",{"$f":"IF(G92=0,\"\",(C92+E92)/G92/12)","v":""}]
[null,null,"人件費",null,"福利厚生費",null,"常勤換算職員数",null,"（円）"]
[]
[null,"⑮職員1人あたりサービス活動収益（円）；"]
[null,null,"純然たるサービス活動収益 ÷ 常勤換算職員数 ÷ 12ヵ月"]
[null,null,{"$f":"$G$18","v":0},"÷",{"$f":"$C$33","v":0},"÷12＝",{"$f":"IF(E97=0,\"\",C97/E97/12)","v":""},"（円）"]
[null,null,"純然たるサービス活動収益",null,"常勤換算職員数"]
[]
[null,"⑯労働生産性（円）；"]
[null,null,"（純然たるサービス活動収益 ー（事業費＋業務委託費 ＋ 減価償却費 \n　　　　　　　　　　ー 国庫補助金等特別積立金取崩額））÷ 常勤換算職員数 ÷12ヵ月"]
[null,"（",{"$f":"$G$18","v":0},"－（",{"$f":"$C$69","v":0},"＋",{"$f":"$C$79","v":0},"＋",{"$f":"$C$74","v":0}]
[null,null,"純然たるサービス活動収益",null,"事業費",null,"業務委託費",null,"減価償却費"]
[]
[null,null,null,"－",{"$f":"E74","v":0},"））÷",{"$f":"$C$33","v":0},"÷12＝",{"$f":"IF(G105=0,\"\",(C102-(E102+G102+I102-E105))/G105/12)","v":""}]
[null,null,null,null,"国庫補助金等特別積立金取崩額",null,"常勤換算職員数",null,"（円）"]
[null,"⑰労働分配率（％）；"]
[null,null,"⑭職員1人あたりの給与費 ÷ ⑯労働生産性 ×100"]
[null,null,{"$f":"I92","v":""},"÷",{"$f":"I105","v":""},"×100＝",{"$f":"IF(C109=\"\",\"\",C109/E109)","v":""}]
[null,null,"⑭の結果",null,"⑯の結果"]
[]
[]
[]
[]
[]
[]
[]
[null,"⑧-1（訪問介護のみ）利用者１人１時間あたりサービス活動収益(円)／時間；"]
[null,null,"介護報酬収益 ÷ 年間延べサービス提供時間"]
[null,null,{"$f":"C115","v":0},"÷",{"$f":"(L37+L38)","v":0},"＝",{"$f":"IF(E120=\"\",\"\",C120/E120)","v":{"$error":"#DIV/0!"}},"（円）"]
[null,null,"介護報酬収益",null,"年間延べサービス提供時間"]
[]
[null,"⑧-2（訪問介護のみ）利用者１人１回あたりサービス活動収益(円)／回；"]
[null,null,"介護報酬収益 ÷ 年間延べサービス提供回数"]
[null,null,{"$f":"C120","v":0},"÷",{"$f":"(L42+L43)","v":0},"＝",{"$f":"IF(E125=\"\",\"\",C125/E125)","v":{"$error":"#DIV/0!"}},"（円）"]
[null,null,"介護報酬収益",null,"年間延べサービス提供回数"]

{"sheet":"経営指標の計算式","index":3,"n_rows":29,"n_cols":3,"rows_kept":29,"cut":false,"hidden":false,"merged":[[11,0,11,1],[0,0,0,3],[2,0,3,1],[2,2,2,3],[3,2,3,3],[4,0,4,1],[5,2,5,3],[11,2,11,3],[4,2,4,3],[6,2,6,3],[7,2,7,3],[8,2,8,3],[9,2,9,3],[10,2,10,3],[23,0,23,1],[12,2,12,3],[13,2,13,3],[14,2,14,3],[15,2,15,3],[16,0,16,1],[17,2,17,3],[16,2,16,3],[23,2,23,3],[18,2,18,3],[19,2,19,3],[20,2,20,3],[21,2,21,3],[22,2,22,3],[24,2,24,3],[25,2,25,3],[26,2,26,3],[27,0,28,0],[27,1,28,1],[27,2,27,3],[28,2,28,3]]}
["実態調査における各経営指標の計算式"]
[]
["指標",null,"新会計基準"]
[null,null,"事業活動計算書　サービス区分別\n（附属明細書　基準別紙4\n「拠点区分事業活動明細書」）"]
["１．収益性の指標"]
["①","サービス活動収益","①サービス活動収益＝サービス活動収益計-経常経費寄附金収益"]
["②","内、（経常経費）補助金収益","介護保険事業収益：「中区分」その他の事業収益（・「小区分」補助金事業収益）"]
["③","サービス活動費用","サービス活動費用計"]
["④","国庫補助金等特別積立金取崩額","サービス活動費用にマイナス計上"]
["⑤","サービス活動増減差額","サービス活動増減差額＝サービス活動収益-サービス活動費用"]
["⑥","サービス活動増減差額率（％）\n（収支差額率）","サービス活動増減差額率＝サービス活動増減差額÷サービス活動収益×100"]
["２．機能性の指標"]
["①","1日平均利用者数（人）","年間利用者延べ人数÷365（施設操業日数）"]
["②","1日当たり利用率","１日平均利用者数÷施設定員数"]
["③","利用者10人当たり職員数","常勤換算職員数÷１日平均利用者数×10"]
["④","利用者1人１日当たりサービス活動収益（円）","サービス活動収益÷利用者延べ人数"]
["３．合理性の指標"]
["①","人件費率","（人件費+福利厚生費）÷サービス活動収益"]
["②","委託費率","業務委託費÷サービス活動収益"]
["③","人件費率+委託費率","人件費率+委託費率"]
["④","事業費率","事業費÷サービス活動収益"]
["⑤","事務費率","（事務費-福利厚生費-業務委託費）÷サービス活動収益"]
["⑥","減価償却費率","（減価償却費-国庫補助金等特別積立金取崩額）÷サービス活動収益"]
["４．生産性の指標"]
["①","職員１人当たり給与費（円/月額）","（人件費+福利厚生費）÷常勤換算職員数÷12ヵ月"]
["②","職員1人当たりサービス活動収益（円/月額）","サービス活動収益÷常勤換算職員数÷12ヵ月"]
["③","労働生産性","【サービス活動収益-（事業費+業務委託費+減価償却費-国庫補助金等特別積立金取崩額）】÷常勤換算職員数"]
["④","労働分配率","職員１人当たりの給与費÷労働生産性"]
[null,null,"【（人件費+福利厚生費）】÷【（サービス活動収益計-経常経費寄付金収益）-（事業費+業務委託費+減価償却費-国庫補助金等特別積立金取崩額）】×100"]

{"sheet":"提出方法","index":4,"n_rows":18,"n_cols":7,"rows_kept":18,"cut":false,"hidden":true,"merged":[[1,1,1,21],[6,1,6,3],[7,1,7,3],[3,6,3,15],[2,6,2,15],[9,1,9,15],[17,2,18,18],[4,1,4,5],[13,1,13,18],[11,1,11,17],[12,1,12,17],[14,1,14,17],[15,1,15,17],[16,1,16,17],[4,6,4,15],[7,4,7,15],[6,4,6,15]]}
[null,"◇提出方法"]
[null,"「施設基本項目調査票（以下、調査票）」のデータをご提出ください。"]
[null,null,null,null,null,null,"施設基本項目調査票"]
[null,null,null,null,null,null,"①データ"]
[null,null,null,null,null,null,"提出形態【Ａ】（調査票）"]
[]
[null,"提出形態",null,null,"施設基本項目調査票"]
[null,"提出形態【Ａ】",null,null,"①「調査票」のエクセルファイルには保護がかかっているため、コピー、ペースト（貼り付けをすること）ができません。\n提出時は複数でのご提出は一切受け付けておりませんので、職員が分担し、複数ファイルでそれぞれご入力する場合、回答を転記し、ファイルを1つに統合してからご提出ください。\n\n②ファイル名を「相模原デイ_第1回調査（施設コード）」に変更してください。\n　例：相模原デイ_第1回調査（SAD000)\n\n③sagamihara-day@kawahara-group.co.jp\nまでメールを送付してください。"]
[]
[null,"提出期限 ： 平 成29年12月8日（金）必着"]
[]
[null,"○送付先・お問合せ先　　"]
[null,"㈱川原経営総合センター 　経営コンサルティング部門"]
[null,"実態調査チーム　担当者：加藤、水田　　　"]
[null,"〒140－0001　東京都品川区北品川4－7－35　御殿山トラストタワー9階"]
[null,"ＴＥＬ　０３－５４２２－７５４８　ＦＡＸ　０３－５４２２－７９９６"]
[null,"Eメールアドレス：sagamihara-day@kawahara-group.co.jp"]
[null,"※","お問合せ先電話番号が通話中でつながらない場合、誠にお手数ではありますが、 お掛け直し頂けますようお願い申し上げます。"]

{"sheet":"設問解説","index":5,"n_rows":13,"n_cols":17,"rows_kept":13,"cut":false,"hidden":true,"merged":[[0,0,0,20],[1,0,1,20],[2,3,4,7],[2,8,2,15],[2,16,2,18],[3,8,3,15],[3,16,8,18],[4,8,4,11],[4,12,4,15],[5,3,8,4],[5,5,6,7],[5,8,6,11],[5,12,6,15],[7,5,8,7],[7,8,8,11],[7,12,8,15]]}
["1.職員の雇用区分"]
["【正規職員・非正規職員について】"]
[null,null,null,null,null,null,null,null,"雇用関係あり",null,null,null,null,null,null,null,"雇用関係なし"]
[null,null,null,null,null,null,null,null,"労働契約期間",null,null,null,null,null,null,null,"派遣職員\n※5"]
[null,null,null,null,null,null,null,null,"定めなし",null,null,null,"定めあり"]
[null,null,null,"所定労働時間",null,"通常\n（フルタイム）",null,null,"正規職員\n※1",null,null,null,"有期契約職員\n（非正規職員）\n※3"]
[]
[null,null,null,null,null,"（通常より）\n短い",null,null,"短時間正規職員\n※2",null,null,null,"短時間有期契約職員\n（短時間非正規職員）\n※4"]
[]
[null,null,null,"●","正規職員とは、労働契約期間の定めのない職員（※1，2）"]
[null,null,null,"●","非正規職員とは、労働契約期間の定めのある職員（※3，4）"]
[null,null,null,null,"労働契約期間が毎年自動的に更新される職員についても、非正規職員とします。"]
[null,null,null,"●","派遣職員とは、雇用関係のない職員（※5）"]

{"sheet":"集計シート","index":6,"n_rows":737,"n_cols":4,"rows_kept":737,"cut":false,"hidden":true,"merged":[]}
["施設コード",{"$f":"調査票!D53","v":""}]
["１．法人名",{"$f":"調査票!D55","v":0}]
["２．施設名",{"$f":"調査票!D56","v":0}]
["３・運営形態　単独・併設            ",{"$f":"調査票!N58","v":0}]
["あじさい住宅の管理の有無",{"$f":"調査票!N59","v":0},null,"追加"]
["委託金額",{"$f":"調査票!N60","v":0},null,"追加"]
["４．開設年度　西暦  年",{"$f":"調査票!E62","v":0}]
["５・地域区分_級地",{"$f":"調査票!D64","v":"4級地"}]
["地域①",{"$f":"調査票!F64","v":"相模原市"}]
["地域②",{"$f":"調査票!I64","v":0}]
["営業日_2017",{"$f":"調査票!F69","v":0}]
["営業日_2018",{"$f":"調査票!M69","v":0},null,"追加"]
["定員数_2017",{"$f":"調査票!F71","v":0}]
["定員数_2018",{"$f":"調査票!M71","v":0},null,"追加"]
["単位数_2017",{"$f":"調査票!F73","v":0}]
["単位数_2018",{"$f":"調査票!M73","v":0},null,"追加"]
["事業所区分_2018",{"$f":"調査票!F75","v":0}]
["事業所区分_2019",{"$f":"調査票!M75","v":0},null,"追加"]
["１１．2017_登録者_3-5_要支援1",{"$f":"調査票!D81","v":0},null,"追加"]
["　　2017_登録者_3-5_要支援2",{"$f":"調査票!D82","v":0},null,"追加"]
["　　2017_登録者_3-5_要介護1",{"$f":"調査票!D83","v":0},null,"追加"]
["　　2017_登録者_3-5_要介護2",{"$f":"調査票!D84","v":0},null,"追加"]
["　　2017_登録者_3-5_要介護3",{"$f":"調査票!D85","v":0},null,"追加"]
["　　2017_登録者_3-5_要介護4",{"$f":"調査票!D86","v":0},null,"追加"]
["　　2017_登録者_3-5_要介護5",{"$f":"調査票!D87","v":0},null,"追加"]
["　　2017_登録者_3-5_合計",{"$f":"調査票!D88","v":0},null,"追加"]
["　　2017_登録者_5-7_要支援1",{"$f":"調査票!H81","v":0},null,"追加"]
["　　2017_登録者_5-7_要支援2",{"$f":"調査票!H82","v":0},null,"追加"]
["　　2017_登録者_5-7_要介護1",{"$f":"調査票!H83","v":0},null,"追加"]
["　　2017_登録者_5-7_要介護2",{"$f":"調査票!H84","v":0},null,"追加"]
["　　2017_登録者_5-7_要介護3",{"$f":"調査票!H85","v":0},null,"追加"]
["　　2017_登録者_5-7_要介護4",{"$f":"調査票!H86","v":0},null,"追加"]
["　　2017_登録者_5-7_要介護5",{"$f":"調査票!H87","v":0},null,"追加"]
["　　2017_登録者_5-7_合計",{"$f":"調査票!H88","v":0},null,"追加"]
["　　2017_登録者_7-9_要支援1",{"$f":"調査票!L81","v":0},null,"追加"]
["　　2017_登録者_7-9_要支援2",{"$f":"調査票!L82","v":0},null,"追加"]
["　　2017_登録者_7-9_要介護1",{"$f":"調査票!L83","v":0},null,"追加"]
["　　2017_登録者_7-9_要介護2",{"$f":"調査票!L84","v":0},null,"追加"]
["　　2017_登録者_7-9_要介護3",{"$f":"調査票!L85","v":0},null,"追加"]
["　　2017_登録者_7-9_要介護4",{"$f":"調査票!L86","v":0},null,"追加"]
["　　2017_登録者_7-9_要介護5",{"$f":"調査票!L87","v":0},null,"追加"]
["　　2017_登録者_7-9_合計",{"$f":"調査票!L88","v":0},null,"追加"]
["　　2017_登録者_その他_要支援1",{"$f":"調査票!P81","v":0},null,"追加"]
["　　2017_登録者_その他_要支援2",{"$f":"調査票!P82","v":0},null,"追加"]
["　　2017_登録者_その他_要介護1",{"$f":"調査票!P83","v":0},null,"追加"]
["　　2017_登録者_その他_要介護2",{"$f":"調査票!P84","v":0},null,"追加"]
["　　2017_登録者_その他_要介護3",{"$f":"調査票!P85","v":0},null,"追加"]
["　　2017_登録者_その他_要介護4",{"$f":"調査票!P86","v":0},null,"追加"]
["　　2017_登録者_その他_要介護5",{"$f":"調査票!P87","v":0},null,"追加"]
["　　2017_登録者_その他_合計",{"$f":"調査票!P88","v":0},null,"追加"]
["　　2017_登録者_合計_要支援1",{"$f":"調査票!T81","v":0},null,"追加"]
["　　2017_登録者_合計_要支援2",{"$f":"調査票!T82","v":0},null,"追加"]
["　　2017_登録者_合計_要介護1",{"$f":"調査票!T83","v":0},null,"追加"]
["　　2017_登録者_合計_要介護2",{"$f":"調査票!T84","v":0},null,"追加"]
["　　2017_登録者_合計_要介護3",{"$f":"調査票!T85","v":0},null,"追加"]
["　　2017_登録者_合計_要介護4",{"$f":"調査票!T86","v":0},null,"追加"]
["　　2017_登録者_合計_要介護5",{"$f":"調査票!T87","v":0},null,"追加"]
["　　2017_登録者_合計_合計",{"$f":"調査票!T88","v":0},null,"追加"]
["　　2018_登録者_3-4_要支援1",{"$f":"調査票!D91","v":0},null,"追加"]
["　　2018_登録者_3-4_要支援2",{"$f":"調査票!D92","v":0},null,"追加"]
["　　2018_登録者_3-4_要介護1",{"$f":"調査票!D93","v":0},null,"追加"]
["　　2018_登録者_3-4_要介護2",{"$f":"調査票!D94","v":0},null,"追加"]
["　　2018_登録者_3-4_要介護3",{"$f":"調査票!D95","v":0},null,"追加"]
["　　2018_登録者_3-4_要介護4",{"$f":"調査票!D96","v":0},null,"追加"]
["　　2018_登録者_3-4_要介護5",{"$f":"調査票!D97","v":0},null,"追加"]
["　　2018_登録者_3-4_合計",{"$f":"調査票!D98","v":0},null,"追加"]
["　　2018_登録者_4-5_要支援1",{"$f":"調査票!F91","v":0},null,"追加"]
["　　2018_登録者_4-5_要支援2",{"$f":"調査票!F92","v":0},null,"追加"]
["　　2018_登録者_4-5_要介護1",{"$f":"調査票!F93","v":0},null,"追加"]
["　　2018_登録者_4-5_要介護2",{"$f":"調査票!F94","v":0},null,"追加"]
["　　2018_登録者_4-5_要介護3",{"$f":"調査票!F95","v":0},null,"追加"]
["　　2018_登録者_4-5_要介護4",{"$f":"調査票!F96","v":0},null,"追加"]
["　　2018_登録者_4-5_要介護5",{"$f":"調査票!F97","v":0},null,"追加"]
["　　2018_登録者_4-5_合計",{"$f":"調査票!F98","v":0},null,"追加"]
["　　2018_登録者_5-6_要支援1",{"$f":"調査票!H91","v":0},null,"追加"]
["　　2018_登録者_5-6_要支援2",{"$f":"調査票!H92","v":0},null,"追加"]
["　　2018_登録者_5-6_要介護1",{"$f":"調査票!H93","v":0},null,"追加"]
["　　2018_登録者_5-6_要介護2",{"$f":"調査票!H94","v":0},null,"追加"]
["　　2018_登録者_5-6_要介護3",{"$f":"調査票!H95","v":0},null,"追加"]
["　　2018_登録者_5-6_要介護4",{"$f":"調査票!H96","v":0},null,"追加"]
["　　2018_登録者_5-6_要介護5",{"$f":"調査票!H97","v":0},null,"追加"]
["　　2018_登録者_5-6_合計",{"$f":"調査票!H98","v":0},null,"追加"]
["　　2018_登録者_6-7_要支援1",{"$f":"調査票!J91","v":0},null,"追加"]
["　　2018_登録者_6-7_要支援2",{"$f":"調査票!J92","v":0},null,"追加"]
["　　2018_登録者_6-7_要介護1",{"$f":"調査票!J93","v":0},null,"追加"]
["　　2018_登録者_6-7_要介護2",{"$f":"調査票!J94","v":0},null,"追加"]
["　　2018_登録者_6-7_要介護3",{"$f":"調査票!J95","v":0},null,"追加"]
["　　2018_登録者_6-7_要介護4",{"$f":"調査票!J96","v":0},null,"追加"]
["　　2018_登録者_6-7_要介護5",{"$f":"調査票!J97","v":0},null,"追加"]
["　　2018_登録者_6-7_合計",{"$f":"調査票!J98","v":0},null,"追加"]
["　　2018_登録者_7-8_要支援1",{"$f":"調査票!L91","v":0},null,"追加"]
["　　2018_登録者_7-8_要支援2",{"$f":"調査票!L92","v":0},null,"追加"]
["　　2018_登録者_7-8_要介護1",{"$f":"調査票!L93","v":0},null,"追加"]
["　　2018_登録者_7-8_要介護2",{"$f":"調査票!L94","v":0},null,"追加"]
["　　2018_登録者_7-8_要介護3",{"$f":"調査票!L95","v":0},null,"追加"]
["　　2018_登録者_7-8_要介護4",{"$f":"調査票!L96","v":0},null,"追加"]
["　　2018_登録者_7-8_要介護5",{"$f":"調査票!L97","v":0},null,"追加"]
["　　2018_登録者_7-8_合計",{"$f":"調査票!L98","v":0},null,"追加"]
["　　2018_登録者_8-9_要支援1",{"$f":"調査票!N91","v":0},null,"追加"]
["　　2018_登録者_8-9_要支援2",{"$f":"調査票!N92","v":0},null,"追加"]
["　　2018_登録者_8-9_要介護1",{"$f":"調査票!N93","v":0},null,"追加"]
["　　2018_登録者_8-9_要介護2",{"$f":"調査票!N94","v":0},null,"追加"]
["　　2018_登録者_8-9_要介護3",{"$f":"調査票!N95","v":0},null,"追加"]
["　　2018_登録者_8-9_要介護4",{"$f":"調査票!N96","v":0},null,"追加"]
["　　2018_登録者_8-9_要介護5",{"$f":"調査票!N97","v":0},null,"追加"]
["　　2018_登録者_8-9_合計",{"$f":"調査票!N98","v":0},null,"追加"]
["　　2018_登録者_その他_要支援1",{"$f":"調査票!P91","v":0},null,"追加"]
["　　2018_登録者_その他_要支援2",{"$f":"調査票!P92","v":0},null,"追加"]
["　　2018_登録者_その他_要介護1",{"$f":"調査票!P93","v":0},null,"追加"]
["　　2018_登録者_その他_要介護2",{"$f":"調査票!P94","v":0},null,"追加"]
["　　2018_登録者_その他_要介護3",{"$f":"調査票!P95","v":0},null,"追加"]
["　　2018_登録者_その他_要介護4",{"$f":"調査票!P96","v":0},null,"追加"]
["　　2018_登録者_その他_要介護5",{"$f":"調査票!P97","v":0},null,"追加"]
["　　2018_登録者_その他_合計",{"$f":"調査票!P98","v":0},null,"追加"]
["　　2018_登録者_合計_要支援1",{"$f":"調査票!T91","v":0},null,"追加"]
["　　2018_登録者_合計_要支援2",{"$f":"調査票!T92","v":0},null,"追加"]
["　　2018_登録者_合計_要介護1",{"$f":"調査票!T93","v":0},null,"追加"]
["　　2018_登録者_合計_要介護2",{"$f":"調査票!T94","v":0},null,"追加"]
["　　2018_登録者_合計_要介護3",{"$f":"調査票!T95","v":0},null,"追加"]
["　　2018_登録者_合計_要介護4",{"$f":"調査票!T96","v":0},null,"追加"]
["　　2018_登録者_合計_要介護5",{"$f":"調査票!T97","v":0},null,"追加"]
["　　2018_登録者_合計_合計",{"$f":"調査票!T98","v":0},null,"追加"]
["１１・要介護度内訳　合計人数",{"$f":"調査票!C104","v":""},null,"追加"]
["2017_要支援1               ",{"$f":"調査票!F104","v":0},null,"追加"]
["2017_要支援2               ",{"$f":"調査票!H104","v":0},null,"追加"]
["2017_要介護度1               ",{"$f":"調査票!J104","v":0},null,"追加"]
["2017_要介護度2               ",{"$f":"調査票!L104","v":0},null,"追加"]
["2017_要介護度3               ",{"$f":"調査票!N104","v":0},null,"追加"]
["2017_要介護度4               ",{"$f":"調査票!P104","v":0},null,"追加"]
["2017_要介護度5               ",{"$f":"調査票!R104","v":0},null,"追加"]
["2017_要介護度平均",{"$f":"調査票!T104","v":""},null,"追加"]
["１１・要介護度内訳　合計人数",{"$f":"調査票!C105","v":""}]
["2018_要支援1               ",{"$f":"調査票!F105","v":0}]
["2018_要支援2               ",{"$f":"調査票!H105","v":0}]
["2018_要介護度1               ",{"$f":"調査票!J105","v":0}]
["2018_要介護度2               ",{"$f":"調査票!L105","v":0}]
["2018_要介護度3               ",{"$f":"調査票!N105","v":0}]
["2018_要介護度4               ",{"$f":"調査票!P105","v":0}]
["2018_要介護度5               ",{"$f":"調査票!R105","v":0}]
["2018_要介護度平均",{"$f":"調査票!T105","v":""}]
["介護職員処遇改善加算",{"$f":"調査票!Q112","v":0}]
["入浴介助加算",{"$f":"調査票!Q113","v":0}]
["サービス提供体制強化加算",{"$f":"調査票!Q114","v":0}]
["個別機能訓練加算",{"$f":"調査票!Q115","v":0}]
["生活機能向上連携加算",{"$f":"調査票!Q116","v":0},null,"追加"]
["ADL維持等加算",{"$f":"調査票!Q117","v":0},null,"加算"]
["中重度者ケア体制加算",{"$f":"調査票!Q118","v":0}]
["認知症加算",{"$f":"調査票!Q119","v":0}]
["若年性認知症利用者受入加算",{"$f":"調査票!Q120","v":0}]
["口腔機能向上加算",{"$f":"調査票!Q121","v":0}]
["栄養改善加算",{"$f":"調査票!Q122","v":0}]
["栄養スクリーニング加算",{"$f":"調査票!Q123","v":0},null,"加算"]
["介護職員処遇改善加算",{"$f":"調査票!Q124","v":0}]
["サービス提供体制強化加算",{"$f":"調査票!Q125","v":0}]
["生活機能向上グループ活動加算",{"$f":"調査票!Q126","v":0}]
["運動機能向上加算",{"$f":"調査票!Q127","v":0}]
["生活機能向上連携加算",{"$f":"調査票!Q128","v":0}]
["栄養改善加算",{"$f":"調査票!Q129","v":0}]
["栄養スクリーニング加算",{"$f":"調査票!Q130","v":0}]
["口腔機能向上加算",{"$f":"調査票!Q131","v":0}]
["若年性認知症利用者受入加算",{"$f":"調査票!Q132","v":0}]
["選択的サービス複数実施加算Ⅰ（運動+栄養)",{"$f":"調査票!Q133","v":0}]
["選択的サービス複数実施加算Ⅰ（運動+口腔)",{"$f":"調査票!Q134","v":0}]
["選択的サービス複数実施加算Ⅰ（口腔+栄養)",{"$f":"調査票!Q135","v":0}]
["選択的サービス複数実施加算Ⅱ",{"$f":"調査票!Q136","v":0}]
["事業所評価加算",{"$f":"調査票!Q137","v":0}]
["２３．職員配置の回答基準",{"$f":"調査票!A148","v":0}]
["      ①正規_管理職（実数）",{"$f":"調査票!G150","v":0}]
["　　　②正規_生活相談員（実人数）",{"$f":"調査票!G151","v":0}]
["　　　③正規_介護職員（実数）",{"$f":"調査票!G152","v":0}]
["　　　④正規_看護（実数）",{"$f":"調査票!G153","v":0}]
["　　　⑤正規_機能訓練指導員（実数）",{"$f":"調査票!G154","v":0}]
["　　　⑥正規_その他（実数）",{"$f":"調査票!G155","v":0}]
["正規_実人数_合計（＊）",{"$f":"調査票!G156","v":""}]
["      ①非正規_管理職（実数）",{"$f":"調査票!I150","v":0}]
["　　　②非正規_生活相談員（実人数）",{"$f":"調査票!I151","v":0}]
["　　　③非正規_介護職員（実数）",{"$f":"調査票!I152","v":0}]
["　　　④非正規_看護（実数）",{"$f":"調査票!I153","v":0}]
["　　　⑤非正規_機能訓練指導員（実数）",{"$f":"調査票!I154","v":0}]
["　　　⑥非正規_その他（実数）",{"$f":"調査票!I155","v":0}]
["非正規_実人数_合計（＊）",{"$f":"調査票!I156","v":""}]
["      ①非正規_管理職（常勤換算職員数）",{"$f":"調査票!K150","v":0}]
["　　　②非正規_生活相談員（常勤換算職員数）",{"$f":"調査票!K151","v":0}]
["　　　③非正規_介護職員（常勤換算職員数）",{"$f":"調査票!K152","v":0}]
["　　　④非正規_看護（常勤換算職員数）",{"$f":"調査票!K153","v":0}]
["　　　⑤非正規_機能訓練指導員（常勤換算職員数）",{"$f":"調査票!K154","v":0}]
["　　　⑥非正規_その他（常勤換算職員数）",{"$f":"調査票!K155","v":0}]
["非正規_実人数_合計（＊）",{"$f":"調査票!K156","v":""}]
["      ①派遣_管理職（実数）",{"$f":"調査票!P150","v":0}]
["　　　②派遣_生活相談員（実人数）",{"$f":"調査票!P151","v":0}]
["　　　③派遣_介護職員（実数）",{"$f":"調査票!P152","v":0}]
["　　　④派遣_看護（実数）",{"$f":"調査票!P153","v":0}]
["　　　⑤派遣_機能訓練指導員（実数）",{"$f":"調査票!P154","v":0}]
["　　　⑥派遣_その他（実数）",{"$f":"調査票!P155","v":0}]
["派遣_実人数_合計（＊）",{"$f":"調査票!P156","v":""}]
["      ①派遣_管理職（常勤換算職員数）",{"$f":"調査票!R150","v":0}]
["　　　②派遣_生活相談員（常勤換算職員数）",{"$f":"調査票!R151","v":0}]
["　　　③派遣_介護職員（常勤換算職員数）",{"$f":"調査票!R152","v":0}]
["　　　④派遣_看護（常勤換算職員数）",{"$f":"調査票!R153","v":0}]
["　　　⑤派遣_機能訓練指導員（常勤換算職員数）",{"$f":"調査票!R154","v":0}]
["　　　⑥派遣_その他（常勤換算職員数）",{"$f":"調査票!R155","v":9}]
["派遣_実人数_合計（＊）",{"$f":"調査票!R156","v":9}]
["２５．職員実人数　  介護_正規_男性_1年未満_20歳未満",{"$f":"調査票!F167","v":0}]
["　　　　　介護_正規_男性_1年未満_20代",{"$f":"調査票!F168","v":0}]
["　　　　　介護_正規_男性_1年未満_30代",{"$f":"調査票!F169","v":0}]
["　　　　　介護_正規_男性_1年未満_40代",{"$f":"調査票!F170","v":0}]
["　　　　　介護_正規_男性_1年未満_50代",{"$f":"調査票!F171","v":0}]
["　　　　　介護_正規_男性_1年未満_60代",{"$f":"調査票!F172","v":0}]
[" 　介護_正規_男性_1年未満_合計",{"$f":"調査票!F173","v":""}]
["　　　　　介護_正規_男性_2年未満_20歳未満",{"$f":"調査票!H167","v":0}]
["　　　　　介護_正規_男性_2年未満_20代",{"$f":"調査票!H168","v":0}]
["　　　　　介護_正規_男性_2年未満_30代",{"$f":"調査票!H169","v":0}]
["　　　　　介護_正規_男性_2年未満_40代",{"$f":"調査票!H170","v":0}]
["　　　　　介護_正規_男性_2年未満_50代",{"$f":"調査票!H171","v":0}]
["　　　　　介護_正規_男性_2年未満_60代",{"$f":"調査票!H172","v":0}]
[" 　介護_正規_男性_2年未満_合計",{"$f":"調査票!H173","v":""}]
["　　　　　介護_正規_男性_3年未満_20歳未満",{"$f":"調査票!J167","v":0}]
["　　　　　介護_正規_男性_3年未満_20代",{"$f":"調査票!J168","v":0}]
["　　　　　介護_正規_男性_3年未満_30代",{"$f":"調査票!J169","v":0}]
["　　　　　介護_正規_男性_3年未満_40代",{"$f":"調査票!J170","v":0}]
["　　　　　介護_正規_男性_3年未満_50代",{"$f":"調査票!J171","v":0}]
["　　　　　介護_正規_男性_3年未満_60代",{"$f":"調査票!J172","v":0}]
[" 　介護_正規_男性_3年未満_合計",{"$f":"調査票!J173","v":""}]
["　　　　　介護_正規_男性_4年未満_20歳未満",{"$f":"調査票!L167","v":0}]
["　　　　　介護_正規_男性_4年未満_20代",{"$f":"調査票!L168","v":0}]
["　　　　　介護_正規_男性_4年未満_30代",{"$f":"調査票!L169","v":0}]
["　　　　　介護_正規_男性_4年未満_40代",{"$f":"調査票!L170","v":0}]
["　　　　　介護_正規_男性_4年未満_50代",{"$f":"調査票!L171","v":0}]
["　　　　　介護_正規_男性_4年未満_60代",{"$f":"調査票!L172","v":0}]
[" 　介護_正規_男性_4年未満_合計",{"$f":"調査票!L173","v":""}]
["　　　　　介護_正規_男性_5年未満_20歳未満",{"$f":"調査票!N167","v":0}]
["　　　　　介護_正規_男性_5年未満_20代",{"$f":"調査票!N168","v":0}]
["　　　　　介護_正規_男性_5年未満_30代",{"$f":"調査票!N169","v":0}]
["　　　　　介護_正規_男性_5年未満_40代",{"$f":"調査票!N170","v":0}]
["　　　　　介護_正規_男性_5年未満_50代",{"$f":"調査票!N171","v":0}]
["　　　　　介護_正規_男性_5年未満_60代",{"$f":"調査票!N172","v":0}]
[" 　介護_正規_男性_5年未満_合計",{"$f":"調査票!N173","v":""}]
["　　　　　介護_正規_男性_5～9年未満_20歳未満",{"$f":"調査票!P167","v":0}]
["　　　　　介護_正規_男性_5～9年未満_20代",{"$f":"調査票!P168","v":0}]
["　　　　　介護_正規_男性_5～9年未満_30代",{"$f":"調査票!P169","v":0}]
["　　　　　介護_正規_男性_5～9年未満_40代",{"$f":"調査票!P170","v":0}]
["　　　　　介護_正規_男性_5～9年未満_50代",{"$f":"調査票!P171","v":0}]
["　　　　　介護_正規_男性_5～9年未満_60代",{"$f":"調査票!P172","v":0}]
[" 　介護_正規_男性_5～9年未満_合計",{"$f":"調査票!P173","v":""}]
["　　　　　介護_正規_男性_10年以上_20歳未満",{"$f":"調査票!R167","v":0}]
["　　　　　介護_正規_男性_10年以上_20代",{"$f":"調査票!R168","v":0}]
["　　　　　介護_正規_男性_10年以上_30代",{"$f":"調査票!R169","v":0}]
["　　　　　介護_正規_男性_10年以上_40代",{"$f":"調査票!R170","v":0}]
["　　　　　介護_正規_男性_10年以上_50代",{"$f":"調査票!R171","v":0}]
["　　　　　介護_正規_男性_10年以上_60代",{"$f":"調査票!R172","v":0}]
[" 　介護_正規_男性_10年以上_合計",{"$f":"調査票!R173","v":""}]
["　　　　　介護_非正規_男性_1年未満_20歳未満",{"$f":"調査票!F175","v":0}]
["　　　　　介護_非正規_男性_1年未満_20代",{"$f":"調査票!F176","v":0}]
["　　　　　介護_非正規_男性_1年未満_30代",{"$f":"調査票!F177","v":0}]
["　　　　　介護_非正規_男性_1年未満_40代",{"$f":"調査票!F178","v":0}]
["　　　　　介護_非正規_男性_1年未満_50代",{"$f":"調査票!F179","v":0}]
["　　　　　介護_非正規_男性_1年未満_60代",{"$f":"調査票!F180","v":0}]
[" 　介護_非正規_男性_1年未満_合計",{"$f":"調査票!F181","v":""}]
["　　　　　介護_非正規_男性_2年未満_20歳未満",{"$f":"調査票!H175","v":0}]
["　　　　　介護_非正規_男性_2年未満_20代",{"$f":"調査票!H176","v":0}]
["　　　　　介護_非正規_男性_2年未満_30代",{"$f":"調査票!H177","v":0}]
["　　　　　介護_非正規_男性_2年未満_40代",{"$f":"調査票!H178","v":0}]
["　　　　　介護_非正規_男性_2年未満_50代",{"$f":"調査票!H179","v":0}]
["　　　　　介護_非正規_男性_2年未満_60代",{"$f":"調査票!H180","v":0}]
[" 　介護_非正規_男性_2年未満_合計",{"$f":"調査票!H181","v":""}]
["　　　　　介護_非正規_男性_3年未満_20歳未満",{"$f":"調査票!J175","v":0}]
["　　　　　介護_非正規_男性_3年未満_20代",{"$f":"調査票!J176","v":0}]
["　　　　　介護_非正規_男性_3年未満_30代",{"$f":"調査票!J177","v":0}]
["　　　　　介護_非正規_男性_3年未満_40代",{"$f":"調査票!J178","v":0}]
["　　　　　介護_非正規_男性_3年未満_50代",{"$f":"調査票!J179","v":0}]
["　　　　　介護_非正規_男性_3年未満_60代",{"$f":"調査票!J180","v":0}]
[" 　介護_非正規_男性_3年未満_合計",{"$f":"調査票!J181","v":""}]
["　　　　　介護_非正規_男性_4年未満_20歳未満",{"$f":"調査票!L175","v":0}]
["　　　　　介護_非正規_男性_4年未満_20代",{"$f":"調査票!L176","v":0}]
["　　　　　介護_非正規_男性_4年未満_30代",{"$f":"調査票!L177","v":0}]
["　　　　　介護_非正規_男性_4年未満_40代",{"$f":"調査票!L178","v":0}]
["　　　　　介護_非正規_男性_4年未満_50代",{"$f":"調査票!L179","v":0}]
["　　　　　介護_非正規_男性_4年未満_60代",{"$f":"調査票!L180","v":0}]
[" 　介護_非正規_男性_4年未満_合計",{"$f":"調査票!L181","v":""}]
["　　　　　介護_非正規_男性_5年未満_20歳未満",{"$f":"調査票!N175","v":0}]
["　　　　　介護_非正規_男性_5年未満_20代",{"$f":"調査票!N176","v":0}]
["　　　　　介護_非正規_男性_5年未満_30代",{"$f":"調査票!N177","v":0}]
["　　　　　介護_非正規_男性_5年未満_40代",{"$f":"調査票!N178","v":0}]
["　　　　　介護_非正規_男性_5年未満_50代",{"$f":"調査票!N179","v":0}]
["　　　　　介護_非正規_男性_5年未満_60代",{"$f":"調査票!N180","v":0}]
[" 　介護_非正規_男性_5年未満_合計",{"$f":"調査票!N181","v":""}]
["　　　　　介護_非正規_男性_5～9年未満_20歳未満",{"$f":"調査票!P175","v":0}]
["　　　　　介護_非正規_男性_5～9年未満_20代",{"$f":"調査票!P176","v":0}]
["　　　　　介護_非正規_男性_5～9年未満_30代",{"$f":"調査票!P177","v":0}]
["　　　　　介護_非正規_男性_5～9年未満_40代",{"$f":"調査票!P178","v":0}]
["　　　　　介護_非正規_男性_5～9年未満_50代",{"$f":"調査票!P179","v":0}]
["　　　　　介護_非正規_男性_5～9年未満_60代",{"$f":"調査票!P180","v":0}]
[" 　介護_非正規_男性_5～9年未満_合計",{"$f":"調査票!P181","v":""}]
["　　　　　介護_非正規_男性_10年以上_20歳未満",{"$f":"調査票!R175","v":0}]
["　　　　　介護_非正規_男性_10年以上_20代",{"$f":"調査票!R176","v":0}]
["　　　　　介護_非正規_男性_10年以上_30代",{"$f":"調査票!R177","v":0}]
["　　　　　介護_非正規_男性_10年以上_40代",{"$f":"調査票!R178","v":0}]
["　　　　　介護_非正規_男性_10年以上_50代",{"$f":"調査票!R179","v":0}]
["　　　　　介護_非正規_男性_10年以上_60代",{"$f":"調査票!R180","v":0}]
[" 　介護_非正規_男性_10年以上_合計",{"$f":"調査票!R181","v":""}]
["　　　　　介護_正規_女性_1年未満_20歳未満",{"$f":"調査票!F184","v":0}]
["　　　　　介護_正規_女性_1年未満_20代",{"$f":"調査票!F185","v":0}]
["　　　　　介護_正規_女性_1年未満_30代",{"$f":"調査票!F186","v":0}]
["　　　　　介護_正規_女性_1年未満_40代",{"$f":"調査票!F187","v":0}]
["　　　　　介護_正規_女性_1年未満_50代",{"$f":"調査票!F188","v":0}]
["　　　　　介護_正規_女性_1年未満_60代",{"$f":"調査票!F189","v":0}]
[" 　介護_正規_女性_1年未満_合計",{"$f":"調査票!F190","v":""}]
["　　　　　介護_正規_女性_2年未満_20歳未満",{"$f":"調査票!H184","v":0}]
["　　　　　介護_正規_女性_2年未満_20代",{"$f":"調査票!H185","v":0}]
["　　　　　介護_正規_女性_2年未満_30代",{"$f":"調査票!H186","v":0}]
["　　　　　介護_正規_女性_2年未満_40代",{"$f":"調査票!H187","v":0}]
["　　　　　介護_正規_女性_2年未満_50代",{"$f":"調査票!H188","v":0}]
["　　　　　介護_正規_女性_2年未満_60代",{"$f":"調査票!H189","v":0}]
[" 　介護_正規_女性_2年未満_合計",{"$f":"調査票!H190","v":""}]
["　　　　　介護_正規_女性_3年未満_20歳未満",{"$f":"調査票!J184","v":0}]
["　　　　　介護_正規_女性_3年未満_20代",{"$f":"調査票!J185","v":0}]
["　　　　　介護_正規_女性_3年未満_30代",{"$f":"調査票!J186","v":0}]
["　　　　　介護_正規_女性_3年未満_40代",{"$f":"調査票!J187","v":0}]
["　　　　　介護_正規_女性_3年未満_50代",{"$f":"調査票!J188","v":0}]
["　　　　　介護_正規_女性_3年未満_60代",{"$f":"調査票!J189","v":0}]
[" 　介護_正規_女性_3年未満_合計",{"$f":"調査票!J190","v":""}]
["　　　　　介護_正規_女性_4年未満_20歳未満",{"$f":"調査票!L184","v":0}]
["　　　　　介護_正規_女性_4年未満_20代",{"$f":"調査票!L185","v":0}]
["　　　　　介護_正規_女性_4年未満_30代",{"$f":"調査票!L186","v":0}]
["　　　　　介護_正規_女性_4年未満_40代",{"$f":"調査票!L187","v":0}]
["　　　　　介護_正規_女性_4年未満_50代",{"$f":"調査票!L188","v":0}]
["　　　　　介護_正規_女性_4年未満_60代",{"$f":"調査票!L189","v":0}]
[" 　介護_正規_女性_4年未満_合計",{"$f":"調査票!L190","v":""}]
["　　　　　介護_正規_女性_5年未満_20歳未満",{"$f":"調査票!N184","v":0}]
["　　　　　介護_正規_女性_5年未満_20代",{"$f":"調査票!N185","v":0}]
["　　　　　介護_正規_女性_5年未満_30代",{"$f":"調査票!N186","v":0}]
["　　　　　介護_正規_女性_5年未満_40代",{"$f":"調査票!N187","v":0}]
["　　　　　介護_正規_女性_5年未満_50代",{"$f":"調査票!N188","v":0}]
["　　　　　介護_正規_女性_5年未満_60代",{"$f":"調査票!N189","v":0}]
[" 　介護_正規_女性_5年未満_合計",{"$f":"調査票!N190","v":""}]
["　　　　　介護_正規_女性_5～9年未満_20歳未満",{"$f":"調査票!P184","v":0}]
["　　　　　介護_正規_女性_5～9年未満_20代",{"$f":"調査票!P185","v":0}]
["　　　　　介護_正規_女性_5～9年未満_30代",{"$f":"調査票!P186","v":0}]
["　　　　　介護_正規_女性_5～9年未満_40代",{"$f":"調査票!P187","v":0}]
["　　　　　介護_正規_女性_5～9年未満_50代",{"$f":"調査票!P188","v":0}]
["　　　　　介護_正規_女性_5～9年未満_60代",{"$f":"調査票!P189","v":0}]
[" 　介護_正規_女性_5～9年未満_合計",{"$f":"調査票!P190","v":""}]
["　　　　　介護_正規_女性_10年以上_20歳未満",{"$f":"調査票!R184","v":0}]
["　　　　　介護_正規_女性_10年以上_20代",{"$f":"調査票!R185","v":0}]
["　　　　　介護_正規_女性_10年以上_30代",{"$f":"調査票!R186","v":0}]
["　　　　　介護_正規_女性_10年以上_40代",{"$f":"調査票!R187","v":0}]
["　　　　　介護_正規_女性_10年以上_50代",{"$f":"調査票!R188","v":0}]
["　　　　　介護_正規_女性_10年以上_60代",{"$f":"調査票!R189","v":0}]
[" 　介護_正規_女性_10年以上_合計",{"$f":"調査票!R190","v":""}]
["　　　　　介護_非正規_女性_1年未満_20歳未満",{"$f":"調査票!F192","v":0}]
["　　　　　介護_非正規_女性_1年未満_20代",{"$f":"調査票!F193","v":0}]
["　　　　　介護_非正規_女性_1年未満_30代",{"$f":"調査票!F194","v":0}]
["　　　　　介護_非正規_女性_1年未満_40代",{"$f":"調査票!F195","v":0}]
["　　　　　介護_非正規_女性_1年未満_50代",{"$f":"調査票!F196","v":0}]
["　　　　　介護_非正規_女性_1年未満_60代",{"$f":"調査票!F197","v":0}]
[" 　介護_非正規_女性_1年未満_合計",{"$f":"調査票!F198","v":""}]
["　　　　　介護_非正規_女性_2年未満_20歳未満",{"$f":"調査票!H192","v":0}]
["　　　　　介護_非正規_女性_2年未満_20代",{"$f":"調査票!H193","v":0}]
["　　　　　介護_非正規_女性_2年未満_30代",{"$f":"調査票!H194","v":0}]
["　　　　　介護_非正規_女性_2年未満_40代",{"$f":"調査票!H195","v":0}]
["　　　　　介護_非正規_女性_2年未満_50代",{"$f":"調査票!H196","v":0}]
["　　　　　介護_非正規_女性_2年未満_60代",{"$f":"調査票!H197","v":0}]
[" 　介護_非正規_女性_2年未満_合計",{"$f":"調査票!H198","v":""}]
["　　　　　介護_非正規_女性_3年未満_20歳未満",{"$f":"調査票!J184","v":0}]
["　　　　　介護_非正規_女性_3年未満_20代",{"$f":"調査票!J185","v":0}]
["　　　　　介護_非正規_女性_3年未満_30代",{"$f":"調査票!J186","v":0}]
["　　　　　介護_非正規_女性_3年未満_40代",{"$f":"調査票!J187","v":0}]
["　　　　　介護_非正規_女性_3年未満_50代",{"$f":"調査票!J188","v":0}]
["　　　　　介護_非正規_女性_3年未満_60代",{"$f":"調査票!J189","v":0}]
[" 　介護_非正規_女性_3年未満_合計",{"$f":"調査票!J190","v":""}]
["　　　　　介護_非正規_女性_4年未満_20歳未満",{"$f":"調査票!L184","v":0}]
["　　　　　介護_非正規_女性_4年未満_20代",{"$f":"調査票!L185","v":0}]
["　　　　　介護_非正規_女性_4年未満_30代",{"$f":"調査票!L186","v":0}]
["　　　　　介護_非正規_女性_4年未満_40代",{"$f":"調査票!L187","v":0}]
["　　　　　介護_非正規_女性_4年未満_50代",{"$f":"調査票!L188","v":0}]
["　　　　　介護_非正規_女性_4年未満_60代",{"$f":"調査票!L189","v":0}]
[" 　介護_非正規_女性_4年未満_合計",{"$f":"調査票!L190","v":""}]
["　　　　　介護_非正規_女性_5年未満_20歳未満",{"$f":"調査票!N184","v":0}]
["　　　　　介護_非正規_女性_5年未満_20代",{"$f":"調査票!N185","v":0}]
["　　　　　介護_非正規_女性_5年未満_30代",{"$f":"調査票!N186","v":0}]
["　　　　　介護_非正規_女性_5年未満_40代",{"$f":"調査票!N187","v":0}]
["　　　　　介護_非正規_女性_5年未満_50代",{"$f":"調査票!N188","v":0}]
["　　　　　介護_非正規_女性_5年未満_60代",{"$f":"調査票!N189","v":0}]
[" 　介護_非正規_女性_5年未満_合計",{"$f":"調査票!N190","v":""}]
["　　　　　介護_非正規_女性_5～9年未満_20歳未満",{"$f":"調査票!P184","v":0}]
["　　　　　介護_非正規_女性_5～9年未満_20代",{"$f":"調査票!P185","v":0}]
["　　　　　介護_非正規_女性_5～9年未満_30代",{"$f":"調査票!P186","v":0}]
["　　　　　介護_非正規_女性_5～9年未満_40代",{"$f":"調査票!P187","v":0}]
["　　　　　介護_非正規_女性_5～9年未満_50代",{"$f":"調査票!P188","v":0}]
["　　　　　介護_非正規_女性_5～9年未満_60代",{"$f":"調査票!P189","v":0}]
[" 　介護_非正規_女性_5～9年未満_合計",{"$f":"調査票!P190","v":""}]
["　　　　　介護_非正規_女性_10年以上_20歳未満",{"$f":"調査票!R184","v":0}]
["　　　　　介護_非正規_女性_10年以上_20代",{"$f":"調査票!R185","v":0}]
["　　　　　介護_非正規_女性_10年以上_30代",{"$f":"調査票!R186","v":0}]
["　　　　　介護_非正規_女性_10年以上_40代",{"$f":"調査票!R187","v":0}]
["　　　　　介護_非正規_女性_10年以上_50代",{"$f":"調査票!R188","v":0}]
["　　　　　介護_非正規_女性_10年以上_60代",{"$f":"調査票!R189","v":0}]
[" 　介護_非正規_女性_10年以上_合計",{"$f":"調査票!R190","v":""}]
["２６．採用　　　　　新卒_正規_男性",{"$f":"調査票!E212","v":0}]
["　　　　　　　　　　 中途_正規_男性",{"$f":"調査票!E213","v":0}]
["内、派遣雇入れ",{"$f":"調査票!E214","v":0}]
["紹介予定派遣_正規_男性",{"$f":"調査票!E215","v":0}]
["　　　　　　　　　　 新卒_正規_女性",{"$f":"調査票!H212","v":0}]
["　　　　　　　　　　 中途_正規_女性",{"$f":"調査票!H213","v":0}]
["内、派遣雇入れ",{"$f":"調査票!H214","v":0}]
["紹介予定派遣_正規_女性",{"$f":"調査票!H215","v":0}]
["　　　　　　　　　　 新卒_非正規_男性",{"$f":"調査票!K212","v":0}]
["　　　　　　　　　　 中途_非正規_男性",{"$f":"調査票!K213","v":0}]
["内、派遣雇入れ",{"$f":"調査票!K214","v":0}]
["紹介予定派遣_非正規_男性",{"$f":"調査票!K215","v":0}]
["　　　　　　　　　　 新卒_非正規_女性",{"$f":"調査票!N212","v":0}]
["　　　　　　　　　　 中途_非正規_女性",{"$f":"調査票!N213","v":0}]
["内、派遣雇入れ",{"$f":"調査票!N214","v":0}]
["紹介予定派遣_非正規_女性",{"$f":"調査票!N215","v":0}]
["採用経費_新卒",{"$f":"調査票!R212","v":0}]
["採用経費_中途",{"$f":"調査票!R213","v":0}]
["採用経費_紹介予定派遣",{"$f":"調査票!R215","v":0}]
["退職　  介護_正規_1年未満_20歳未満",{"$f":"調査票!F219","v":0}]
["　　　　　介護_正規_1年未満_20代",{"$f":"調査票!F220","v":0}]
["　　　　　介護_正規_1年未満_30代",{"$f":"調査票!F221","v":0}]
["　　　　　介護_正規_1年未満_40代",{"$f":"調査票!F222","v":0}]
["　　　　　介護_正規_1年未満_50代",{"$f":"調査票!F223","v":0}]
["　　　　　介護_正規_1年未満_60代",{"$f":"調査票!F224","v":0}]
[" 　介護_正規_1年未満_合計",{"$f":"調査票!F225","v":""}]
["　　　　　介護_正規_2年未満_20歳未満",{"$f":"調査票!H219","v":0}]
["　　　　　介護_正規_2年未満_20代",{"$f":"調査票!H220","v":0}]
["　　　　　介護_正規_2年未満_30代",{"$f":"調査票!H221","v":0}]
["　　　　　介護_正規_2年未満_40代",{"$f":"調査票!H222","v":0}]
["　　　　　介護_正規_2年未満_50代",{"$f":"調査票!H223","v":0}]
["　　　　　介護_正規_2年未満_60代",{"$f":"調査票!H224","v":0}]
[" 　介護_正規_2年未満_合計",{"$f":"調査票!H225","v":""}]
["　　　　　介護_正規_3年未満_20歳未満",{"$f":"調査票!J219","v":0}]
["　　　　　介護_正規_3年未満_20代",{"$f":"調査票!J220","v":0}]
["　　　　　介護_正規_3年未満_30代",{"$f":"調査票!J221","v":0}]
["　　　　　介護_正規_3年未満_40代",{"$f":"調査票!J222","v":0}]
["　　　　　介護_正規_3年未満_50代",{"$f":"調査票!J223","v":0}]
["　　　　　介護_正規_3年未満_60代",{"$f":"調査票!J224","v":0}]
[" 　介護_正規_3年未満_合計",{"$f":"調査票!J225","v":""}]
["　　　　　介護_正規_4年未満_20歳未満",{"$f":"調査票!L219","v":0}]
["　　　　　介護_正規_4年未満_20代",{"$f":"調査票!L220","v":0}]
["　　　　　介護_正規_4年未満_30代",{"$f":"調査票!L221","v":0}]
["　　　　　介護_正規_4年未満_40代",{"$f":"調査票!L222","v":0}]
["　　　　　介護_正規_4年未満_50代",{"$f":"調査票!L223","v":0}]
["　　　　　介護_正規_4年未満_60代",{"$f":"調査票!L224","v":0}]
[" 　介護_正規_4年未満_合計",{"$f":"調査票!L225","v":""}]
["　　　　　介護_正規_5年未満_20歳未満",{"$f":"調査票!N219","v":0}]
["　　　　　介護_正規_5年未満_20代",{"$f":"調査票!N220","v":0}]
["　　　　　介護_正規_5年未満_30代",{"$f":"調査票!N221","v":0}]
["　　　　　介護_正規_5年未満_40代",{"$f":"調査票!N222","v":0}]
["　　　　　介護_正規_5年未満_50代",{"$f":"調査票!N223","v":0}]
["　　　　　介護_正規_5年未満_60代",{"$f":"調査票!N224","v":0}]
[" 　介護_正規_5年未満_合計",{"$f":"調査票!N225","v":""}]
["　　　　　介護_正規_5～9年未満_20歳未満",{"$f":"調査票!P219","v":0}]
["　　　　　介護_正規_5～9年未満_20代",{"$f":"調査票!P220","v":0}]
["　　　　　介護_正規_5～9年未満_30代",{"$f":"調査票!P221","v":0}]
["　　　　　介護_正規_5～9年未満_40代",{"$f":"調査票!P222","v":0}]
["　　　　　介護_正規_5～9年未満_50代",{"$f":"調査票!P223","v":0}]
["　　　　　介護_正規_5～9年未満_60代",{"$f":"調査票!P224","v":0}]
[" 　介護_正規_5～9年未満_合計",{"$f":"調査票!P225","v":""}]
["　　　　　介護_正規_10年以上_20歳未満",{"$f":"調査票!R219","v":0}]
["　　　　　介護_正規_10年以上_20代",{"$f":"調査票!R220","v":0}]
["　　　　　介護_正規_10年以上_30代",{"$f":"調査票!R221","v":0}]
["　　　　　介護_正規_10年以上_40代",{"$f":"調査票!R222","v":0}]
["　　　　　介護_正規_10年以上_50代",{"$f":"調査票!R223","v":0}]
["　　　　　介護_正規_10年以上_60代",{"$f":"調査票!R224","v":0}]
[" 　介護_正規_10年以上_合計",{"$f":"調査票!R225","v":""}]
["　　　　　介護_非正規_1年未満_20歳未満",{"$f":"調査票!F227","v":0}]
["　　　　　介護_非正規_1年未満_20代",{"$f":"調査票!F228","v":0}]
["　　　　　介護_非正規_1年未満_30代",{"$f":"調査票!F229","v":0}]
["　　　　　介護_非正規_1年未満_40代",{"$f":"調査票!F230","v":0}]
["　　　　　介護_非正規_1年未満_50代",{"$f":"調査票!F231","v":0}]
["　　　　　介護_非正規_1年未満_60代",{"$f":"調査票!F232","v":0}]
[" 　介護_非正規_1年未満_合計",{"$f":"調査票!F233","v":""}]
["　　　　　介護_非正規_2年未満_20歳未満",{"$f":"調査票!H227","v":0}]
["　　　　　介護_非正規_2年未満_20代",{"$f":"調査票!H228","v":0}]
["　　　　　介護_非正規_2年未満_30代",{"$f":"調査票!H229","v":0}]
["　　　　　介護_非正規_2年未満_40代",{"$f":"調査票!H230","v":0}]
["　　　　　介護_非正規_2年未満_50代",{"$f":"調査票!H231","v":0}]
["　　　　　介護_非正規_2年未満_60代",{"$f":"調査票!H232","v":0}]
[" 　介護_非正規_2年未満_合計",{"$f":"調査票!H233","v":""}]
["　　　　　介護_非正規_3年未満_20歳未満",{"$f":"調査票!J227","v":0}]
["　　　　　介護_非正規_3年未満_20代",{"$f":"調査票!J228","v":0}]
["　　　　　介護_非正規_3年未満_30代",{"$f":"調査票!J229","v":0}]
["　　　　　介護_非正規_3年未満_40代",{"$f":"調査票!J230","v":0}]
["　　　　　介護_非正規_3年未満_50代",{"$f":"調査票!J231","v":0}]
["　　　　　介護_非正規_3年未満_60代",{"$f":"調査票!J232","v":0}]
[" 　介護_非正規_3年未満_合計",{"$f":"調査票!J233","v":""}]
["　　　　　介護_非正規_4年未満_20歳未満",{"$f":"調査票!L227","v":0}]
["　　　　　介護_非正規_4年未満_20代",{"$f":"調査票!L228","v":0}]
["　　　　　介護_非正規_4年未満_30代",{"$f":"調査票!L229","v":0}]
["　　　　　介護_非正規_4年未満_40代",{"$f":"調査票!L230","v":0}]
["　　　　　介護_非正規_4年未満_50代",{"$f":"調査票!L231","v":0}]
["　　　　　介護_非正規_4年未満_60代",{"$f":"調査票!L232","v":0}]
[" 　介護_非正規_4年未満_合計",{"$f":"調査票!L233","v":""}]
["　　　　　介護_非正規_5年未満_20歳未満",{"$f":"調査票!N227","v":0}]
["　　　　　介護_非正規_5年未満_20代",{"$f":"調査票!N228","v":0}]
["　　　　　介護_非正規_5年未満_30代",{"$f":"調査票!N229","v":0}]
["　　　　　介護_非正規_5年未満_40代",{"$f":"調査票!N230","v":0}]
["　　　　　介護_非正規_5年未満_50代",{"$f":"調査票!N231","v":0}]
["　　　　　介護_非正規_5年未満_60代",{"$f":"調査票!N232","v":0}]
[" 　介護_非正規_5年未満_合計",{"$f":"調査票!N233","v":""}]
["　　　　　介護_非正規_5～9年未満_20歳未満",{"$f":"調査票!P227","v":0}]
["　　　　　介護_非正規_5～9年未満_20代",{"$f":"調査票!P228","v":0}]
["　　　　　介護_非正規_5～9年未満_30代",{"$f":"調査票!P229","v":0}]
["　　　　　介護_非正規_5～9年未満_40代",{"$f":"調査票!P230","v":0}]
["　　　　　介護_非正規_5～9年未満_50代",{"$f":"調査票!P231","v":0}]
["　　　　　介護_非正規_5～9年未満_60代",{"$f":"調査票!P232","v":0}]
[" 　介護_非正規_5～9年未満_合計",{"$f":"調査票!P233","v":""}]
["　　　　介護_非正規_10年以上_20歳未満",{"$f":"調査票!R227","v":0}]
["　　　　　介護_非正規_10年以上_20代",{"$f":"調査票!R228","v":0}]
["　　　　　介護_非正規_10年以上_30代",{"$f":"調査票!R229","v":0}]
["　　　　　介護_非正規_10年以上_40代",{"$f":"調査票!R230","v":0}]
["　　　　　介護_非正規_10年以上_50代",{"$f":"調査票!R231","v":0}]
["　　　　　介護_非正規_10年以上_60代",{"$f":"調査票!R232","v":0}]
[" 　介護_非正規_10年以上_合計",{"$f":"調査票!R233","v":""}]
["２８．非正規介護職員の時給_あり_介護福祉士     ",{"$f":"調査票!L243","v":0}]
["　　　　　　　　　　　　　　 あり_実務者研修修了者",{"$f":"調査票!L244","v":0}]
["　　　　　　　　　　　　　　 あり_介護職員初任者研修課程修了",{"$f":"調査票!L245","v":0}]
["                             なし",{"$f":"調査票!L246","v":0}]
["２９．介護職給与_①H27_性別",{"$f":"調査票!D279","v":0}]
["①H27_年齢",{"$f":"調査票!I279","v":0}]
["①H27_勤続年数",{"$f":"調査票!P279","v":0}]
["①H27_本給",{"$f":"調査票!E281","v":0}]
["①H27_諸手当（合計）",{"$f":"調査票!E282","v":0}]
["①H27_手当_夜勤手当_金額",{"$f":"[1]調査票!E465","v":0},null,"なし"]
["①H27_手当_夜勤手当_回数",{"$f":"[1]調査票!E466","v":0},null,"なし"]
["①H27_手当_時間外手当_金額",{"$f":"調査票!E283","v":0}]
["①H27_手当_時間外手当_時間",{"$f":"調査票!E284","v":0}]
["①H27_手当_資格手当_金額",{"$f":"調査票!E286","v":0}]
["①H27_手当_資格手当_資格名",{"$f":"調査票!E287","v":0}]
["①H27_手当_処遇改善加算相当額",{"$f":"調査票!E288","v":0}]
["①H27_手当_その他",{"$f":"調査票!E289","v":0}]
["①H27_一時金（年間総額）",{"$f":"調査票!E290","v":0}]
["①H28_本給",{"$f":"調査票!N281","v":0}]
["①H28_諸手当（合計）",{"$f":"調査票!N282","v":0}]
["①H28_手当_夜勤手当_金額",{"$f":"調査票!N283","v":0},null,"なし"]
["①H28_手当_夜勤手当_回数",{"$f":"調査票!N284","v":0},null,"なし"]
["①H28_手当_時間外手当_金額",{"$f":"調査票!N283","v":0}]
["①H28_手当_時間外手当_時間",{"$f":"調査票!N284","v":0}]
["①H28_手当_資格手当_金額",{"$f":"調査票!N286","v":0}]
["①H28_手当_資格手当_資格名",{"$f":"調査票!N287","v":0}]
["①H28_手当_処遇改善加算相当額",{"$f":"調査票!N288","v":0}]
["①H28_手当_その他",{"$f":"調査票!N289","v":0}]
["②H27_性別",{"$f":"調査票!D298","v":0}]
["②H27_年齢",{"$f":"調査票!I298","v":0}]
["②H27_勤続年数",{"$f":"調査票!P298","v":0}]
["②H27_本給",{"$f":"調査票!E300","v":0}]
["②H27_諸手当（合計）",{"$f":"調査票!E301","v":0}]
["②H27_手当_夜勤手当_金額",{"$f":"[1]調査票!E486","v":0},null,"なし"]
["②H27_手当_夜勤手当_回数",{"$f":"[1]調査票!E487","v":0},null,"なし"]
["②H27_手当_時間外手当_金額",{"$f":"調査票!E302","v":0}]
["②H27_手当_時間外手当_時間",{"$f":"調査票!E303","v":0}]
["②H27_手当_資格手当_金額",{"$f":"調査票!E305","v":0}]
["②H27_手当_資格手当_資格名",{"$f":"調査票!E306","v":0}]
["②H27_手当_処遇改善加算相当額",{"$f":"調査票!E307","v":0}]
["②H27_手当_その他",{"$f":"調査票!E308","v":0}]
["②H27_一時金（年間総額）",{"$f":"調査票!E309","v":0}]
["②H28_本給",{"$f":"調査票!N300","v":0}]
["②H28_諸手当（合計）",{"$f":"調査票!N301","v":0}]
["②H28_手当_夜勤手当_金額",{"$f":"調査票!N302","v":0},null,"なし"]
["②H28_手当_夜勤手当_回数",{"$f":"調査票!N303","v":0},null,"なし"]
["②H28_手当_時間外手当_金額",{"$f":"調査票!N302","v":0}]
["②H28_手当_時間外手当_時間",{"$f":"調査票!N303","v":0}]
["②H28_手当_資格手当_金額",{"$f":"調査票!N305","v":0}]
["②H28_手当_資格手当_資格名",{"$f":"調査票!N306","v":0}]
["②H28_手当_処遇改善加算相当額",{"$f":"調査票!N307","v":0}]
["②H28_手当_その他",{"$f":"調査票!N308","v":0}]
["③H27_性別",{"$f":"調査票!D313","v":0}]
["③H27_年齢",{"$f":"調査票!I313","v":0}]
["③H27_勤続年数",{"$f":"調査票!P313","v":0}]
["③H27_本給",{"$f":"調査票!E315","v":0}]
["③H27_諸手当（合計）",{"$f":"調査票!E316","v":0}]
["③H27_手当_夜勤手当_金額",{"$f":"[1]調査票!E504","v":0},null,"なし"]
["③H27_手当_夜勤手当_回数",{"$f":"[1]調査票!E505","v":0},null,"なし"]
["③H27_手当_時間外手当_金額",{"$f":"調査票!E317","v":0}]
["③H27_手当_時間外手当_時間",{"$f":"調査票!E318","v":0}]
["③H27_手当_資格手当_金額",{"$f":"調査票!E320","v":0}]
["③H27_手当_資格手当_資格名",{"$f":"調査票!E321","v":0}]
["③H27_手当_処遇改善加算相当額",{"$f":"調査票!E322","v":0}]
["③H27_手当_その他",{"$f":"調査票!E323","v":0}]
["③H27_一時金（年間総額）",{"$f":"調査票!E324","v":0}]
["③H28_本給",{"$f":"調査票!N315","v":0}]
["③H28_諸手当（合計）",{"$f":"調査票!N316","v":0}]
["③H28_手当_夜勤手当_金額",{"$f":"[1]調査票!N504","v":0},null,"なし"]
["③H28_手当_夜勤手当_回数",{"$f":"[1]調査票!N505","v":0},null,"なし"]
["③H28_手当_時間外手当_金額",{"$f":"調査票!N317","v":0}]
["③H28_手当_時間外手当_時間",{"$f":"調査票!N318","v":0}]
["③H28_手当_資格手当_金額",{"$f":"調査票!N320","v":0}]
["③H28_手当_資格手当_資格名",{"$f":"調査票!N321","v":0}]
["③H28_手当_処遇改善加算相当額",{"$f":"調査票!N322","v":0}]
["③H28_手当_その他",{"$f":"調査票!N323","v":0}]
["④H27_性別",{"$f":"調査票!D331","v":0}]
["④H27_年齢",{"$f":"調査票!I331","v":0}]
["④H27_勤続年数",{"$f":"調査票!P331","v":0}]
["④H27_本給",{"$f":"調査票!E333","v":0}]
["④H27_諸手当（合計）",{"$f":"調査票!E334","v":0}]
["④H27_手当_夜勤手当_金額",{"$f":"[1]調査票!E525","v":0},null,"なし"]
["④H27_手当_夜勤手当_回数",{"$f":"[1]調査票!E526","v":0},null,"なし"]
["④H27_手当_時間外手当_金額",{"$f":"調査票!E335","v":0}]
["④H27_手当_時間外手当_時間",{"$f":"調査票!E336","v":0}]
["④H27_手当_資格手当_金額",{"$f":"調査票!E338","v":0}]
["④H27_手当_資格手当_資格名",{"$f":"調査票!E339","v":0}]
["④H27_手当_処遇改善加算相当額",{"$f":"調査票!E340","v":0}]
["④H27_手当_その他",{"$f":"調査票!E341","v":0}]
["④H27_一時金（年間総額）",{"$f":"調査票!E342","v":0}]
["④H28_本給",{"$f":"調査票!N333","v":0}]
["④H28_諸手当（合計）",{"$f":"調査票!N334","v":0}]
["④H28_手当_夜勤手当_金額",{"$f":"[1]調査票!N525","v":0},null,"なし"]
["④H28_手当_夜勤手当_回数",{"$f":"[1]調査票!N526","v":0},null,"なし"]
["④H28_手当_時間外手当_金額",{"$f":"調査票!N335","v":0}]
["④H28_手当_時間外手当_時間",{"$f":"調査票!N336","v":0}]
["④H28_手当_資格手当_金額",{"$f":"調査票!N338","v":0}]
["④H28_手当_資格手当_資格名",{"$f":"調査票!N339","v":0}]
["④H28_手当_処遇改善加算相当額",{"$f":"調査票!N340","v":0}]
["④H28_手当_その他",{"$f":"調査票!N341","v":0}]
["⑤H27_性別",{"$f":"調査票!D346","v":0}]
["⑤H27_年齢",{"$f":"調査票!I346","v":0}]
["⑤H27_勤続年数",{"$f":"調査票!P346","v":0}]
["⑤H27_本給",{"$f":"調査票!E348","v":0}]
["⑤H27_諸手当（合計）",{"$f":"調査票!E349","v":0}]
["⑤H27_手当_夜勤手当_金額",{"$f":"[1]調査票!E543","v":0},null,"なし"]
["⑤H27_手当_夜勤手当_回数",{"$f":"[1]調査票!E544","v":0},null,"なし"]
["⑤H27_手当_時間外手当_金額",{"$f":"調査票!E350","v":0}]
["⑤H27_手当_時間外手当_時間",{"$f":"調査票!E351","v":0}]
["⑤H27_手当_資格手当_金額",{"$f":"調査票!E353","v":0}]
["⑤H27_手当_資格手当_資格名",{"$f":"調査票!E354","v":0}]
["⑤H27_手当_処遇改善加算相当額",{"$f":"調査票!E355","v":0}]
["⑤H27_手当_その他",{"$f":"調査票!E356","v":0}]
["⑤H27_一時金（年間総額）",{"$f":"調査票!E357","v":0}]
["⑤H28_本給",{"$f":"調査票!N348","v":0}]
["⑤H28_諸手当（合計）",{"$f":"調査票!N349","v":0}]
["⑤H28_手当_夜勤手当_金額",{"$f":"[1]調査票!N543","v":0},null,"なし"]
["⑤H28_手当_夜勤手当_回数",{"$f":"[1]調査票!N544","v":0},null,"なし"]
["⑤H28_手当_時間外手当_金額",{"$f":"調査票!N350","v":0}]
["⑤H28_手当_時間外手当_時間",{"$f":"調査票!N351","v":0}]
["⑤H28_手当_資格手当_金額",{"$f":"調査票!N353","v":0}]
["⑤H28_手当_資格手当_資格名",{"$f":"調査票!N354","v":0}]
["⑤H28_手当_処遇改善加算相当額",{"$f":"調査票!N355","v":0}]
["⑤H28_手当_その他",{"$f":"調査票!N356","v":0}]
["⑥H27_性別",{"$f":"調査票!D364","v":0}]
["⑥H27_年齢",{"$f":"調査票!I364","v":0}]
["⑥H27_勤続年数",{"$f":"調査票!P364","v":0}]
["⑥H27_本給",{"$f":"調査票!E366","v":0}]
["⑥H27_諸手当（合計）",{"$f":"調査票!E367","v":0}]
["⑥H27_手当_夜勤手当_金額",null,null,"なし"]
["⑥H27_手当_夜勤手当_回数",{"$f":"[1]調査票!E565","v":0},null,"なし"]
["⑥H27_手当_時間外手当_金額",{"$f":"調査票!E368","v":0}]
["⑥H27_手当_時間外手当_時間",{"$f":"調査票!E369","v":0}]
["⑥H27_手当_資格手当_金額",{"$f":"調査票!E371","v":0}]
["⑥H27_手当_資格手当_資格名",{"$f":"調査票!E372","v":0}]
["⑥H27_手当_処遇改善加算相当額",{"$f":"調査票!E373","v":0}]
["⑥H27_手当_その他",{"$f":"調査票!E374","v":0}]
["⑥H27_一時金（年間総額）",{"$f":"調査票!E375","v":0}]
["⑥H28_本給",{"$f":"調査票!N366","v":0}]
["⑥H28_諸手当（合計）",{"$f":"調査票!N367","v":0}]
["⑥H28_手当_夜勤手当_金額",null,null,"なし"]
["⑥H28_手当_夜勤手当_回数",{"$f":"[1]調査票!N565","v":0},null,"なし"]
["⑥H28_手当_時間外手当_金額",{"$f":"調査票!N368","v":0}]
["⑥H28_手当_時間外手当_時間",{"$f":"調査票!N369","v":0}]
["⑥H28_手当_資格手当_金額",{"$f":"調査票!N371","v":0}]
["⑥H28_手当_資格手当_資格名",{"$f":"調査票!N372","v":0}]
["⑥H28_手当_処遇改善加算相当額",{"$f":"調査票!N373","v":0}]
["⑥H28_手当_その他",{"$f":"調査票!N374","v":0}]
["⑦H27_性別",{"$f":"調査票!D379","v":0}]
["⑦H27_年齢",{"$f":"調査票!I379","v":0}]
["⑦H27_勤続年数",{"$f":"調査票!P379","v":0}]
["⑦H27_本給",{"$f":"調査票!E381","v":0}]
["⑦H27_諸手当（合計）",{"$f":"調査票!E382","v":0}]
["⑦H27_手当_夜勤手当_金額",{"$f":"調査票!E383","v":0},null,"なし"]
["⑦H27_手当_夜勤手当_回数",{"$f":"[1]調査票!E583","v":0},null,"なし"]
["⑦H27_手当_時間外手当_金額",{"$f":"調査票!E383","v":0}]
["⑦H27_手当_時間外手当_時間",{"$f":"調査票!E384","v":0}]
["⑦H27_手当_資格手当_金額",{"$f":"調査票!E386","v":0}]
["⑦H27_手当_資格手当_資格名",{"$f":"調査票!E387","v":0}]
["⑦H27_手当_処遇改善加算相当額",{"$f":"調査票!E388","v":0}]
["⑦H27_手当_その他",{"$f":"調査票!E389","v":0}]
["⑦H27_一時金（年間総額）",{"$f":"調査票!E390","v":0}]
["⑦H28_本給",{"$f":"調査票!N381","v":0}]
["⑦H28_諸手当（合計）",{"$f":"調査票!N382","v":0}]
["⑦H28_手当_夜勤手当_金額",{"$f":"[1]調査票!N582","v":0},null,"なし"]
["⑦H28_手当_夜勤手当_回数",{"$f":"[1]調査票!N583","v":0},null,"なし"]
["⑦H28_手当_時間外手当_金額",{"$f":"調査票!N383","v":0}]
["⑦H28_手当_時間外手当_時間",{"$f":"調査票!N384","v":0}]
["⑦H28_手当_資格手当_金額",{"$f":"調査票!N386","v":0}]
["⑦H28_手当_資格手当_資格名",{"$f":"調査票!N387","v":0}]
["⑦H28_手当_処遇改善加算相当額",{"$f":"調査票!N388","v":0}]
["⑦H28_手当_その他",{"$f":"調査票!N389","v":0}]
["2017_事業活動計算書作成単位",{"$f":"調査票!M397","v":"2017年度"}]
["2017_介護保険事業収益",{"$f":"調査票!M398","v":0}]
["　2017_居宅介護料収益（介護報酬収益・介護予防報酬収益）",{"$f":"調査票!M399","v":0}]
["　2017_利用者等利用料収益",{"$f":"調査票!M400","v":0}]
["　2017_その他の事業収益",{"$f":"調査票!M401","v":0}]
["　　2017_補助金事業収益",{"$f":"調査票!M402","v":0}]
["　　2017_市町村特別事業収益",{"$f":"調査票!M403","v":0}]
["　　2017_受託事業収益",{"$f":"調査票!M404","v":0}]
["　　2017_その他の事業収益",{"$f":"調査票!M405","v":0}]
["2017_経常経費寄付金収益",{"$f":"調査票!M406","v":0}]
["2017_その他の収益",{"$f":"調査票!M407","v":0}]
["2017_サービス活動収益計",{"$f":"調査票!M408","v":0}]
["2017_人件費",{"$f":"調査票!M409","v":0}]
["　2017_派遣職員費",{"$f":"調査票!M410","v":0}]
["2017_事業費",{"$f":"調査票!M411","v":0}]
["　2017_給食費",{"$f":"調査票!M412","v":0}]
["　2017_水道光熱費",{"$f":"調査票!M413","v":0}]
["2017_事務費",{"$f":"調査票!M414","v":0}]
["　2017_福利厚生費",{"$f":"調査票!M415","v":0}]
["　2017_業務委託費",{"$f":"調査票!M416","v":0}]
["　2017_保守料",{"$f":"調査票!M417","v":0}]
["2017_減価償却費",{"$f":"調査票!M418","v":0}]
["2017_国庫補助金等特別積立金取崩額（マイナス入力しない）",{"$f":"調査票!M419","v":0}]
["2017_サービス活動費用計",{"$f":"調査票!M420","v":0}]
["2017_サービス活動増減差額",{"$f":"調査票!M421","v":0}]
["2018_事業活動計算書作成単位",{"$f":"調査票!Q397","v":"2018年度"}]
["2018_介護保険事業収益",{"$f":"調査票!Q398","v":0}]
["　2018_居宅介護料収益（介護報酬収益・介護予防報酬収益）",{"$f":"調査票!Q399","v":0}]
["　2018_利用者等利用料収益",{"$f":"調査票!Q400","v":0}]
["　2018_その他の事業収益",{"$f":"調査票!Q401","v":0}]
["　　2018_補助金事業収益",{"$f":"調査票!Q402","v":0}]
["　　2018_市町村特別事業収益",{"$f":"調査票!Q403","v":0}]
["　　2018_受託事業収益",{"$f":"調査票!Q404","v":0}]
["　　2018_その他の事業収益",{"$f":"調査票!Q405","v":0}]
["2018_経常経費寄付金収益",{"$f":"調査票!Q406","v":0}]
["2018_その他の収益",{"$f":"調査票!Q407","v":0}]
["2018_サービス活動収益計",{"$f":"調査票!Q408","v":0}]
["2018_人件費",{"$f":"調査票!Q409","v":0}]
["　2018_派遣職員費",{"$f":"調査票!Q410","v":0}]
["2018_事業費",{"$f":"調査票!Q411","v":0}]
["　2018_給食費",{"$f":"調査票!Q412","v":0}]
["　2018_水道光熱費",{"$f":"調査票!Q413","v":0}]
["2018_事務費",{"$f":"調査票!Q414","v":0}]
["　2018_福利厚生費",{"$f":"調査票!Q415","v":0}]
["　2018_業務委託費",{"$f":"調査票!Q416","v":0}]
["　2018_保守料",{"$f":"調査票!Q417","v":0}]
["2018_減価償却費",{"$f":"調査票!Q418","v":0}]
["2018_国庫補助金等特別積立金取崩額（マイナス入力しない）",{"$f":"調査票!Q419","v":0}]
["2018_サービス活動費用計",{"$f":"調査票!Q420","v":0}]
["2018_サービス活動増減差額",{"$f":"調査票!Q421","v":0}]

{"sheet":"会員名簿","index":7,"n_rows":46,"n_cols":3,"rows_kept":46,"cut":false,"hidden":true,"merged":[]}
[null,"施　設　名","施設コード"]
[1,"デイサービスわげん","SAD001"]
[2,"悠々","SAD002"]
[3,"デイサービスセンター桜の園","SAD003"]
[4,"新磯野デイサービスセンター","SAD004"]
[5,"デイサービスセンター中の郷","SAD005"]
[6,"老人デイサービスセンターおやどり","SAD006"]
[7,"老人デイサービスセンター芙蓉の園","SAD007"]
[8,"千代田デイサービスセンター","SAD008"]
[9,"チャオデイサービスセンター","SAD009"]
[10,"清新デイサービスセンター","SAD010"]
[11,"デイサービス幸園","SAD011"]
[12,"新戸デイサービスセンター","SAD012"]
[13,"東淵野辺デイサービスセンター","SAD013"]
[14,"古淵デイサービスセンター","SAD014"]
[15,"松ヶ枝","SAD015"]
[16,"秋桜","SAD016"]
[17,"星が丘デイサービスセンター","SAD017"]
[18,"シルバータウン相模原　　　　　　　","SAD018"]
[19,"あさみぞホーム","SAD019"]
[20,"リバーサイド田名ホーム","SAD020"]
[21,"塩田ホーム","SAD021"]
[22,"ボーナビール二本松","SAD022"]
[23,"相陽台ホーム","SAD023"]
[24,"柴胡苑","SAD024"]
[25,"デイサービスセンター第二中の郷","SAD025"]
[26,"はあとぴあ","SAD026"]
[27,"泰政園","SAD027"]
[28,"モ   モ","SAD028"]
[29,"デイサービス第2幸園","SAD029"]
[30,"グレープの里","SAD030"]
[31,"東林間シニアクラブ","SAD031"]
[32,"東橋本ひまわりホーム","SAD032"]
[33,"ケアハウス実の里","SAD033"]
[34,"みたけ","SAD034"]
[35,"旭ヶ丘老人ホームケアセンター","SAD035"]
[36,"ライフホーム城山","SAD036"]
[37,"銀の館","SAD037"]
[38,"縁JOY","SAD038"]
[39,"清菊園","SAD039"]
[40,"はなさか","SAD040"]
[41,"コミュニティホームピノ","SAD041"]
[42,"マナーハウス横山台","SAD042"]
[43,"相模原すみれ園","SAD043"]
[44,"ずっと我が家上溝本町","SAD044"]
[45,"川原経営デイサービス","SAD999"]